Workbook

Sheet Input
B2: Revenue Requirement
C3: 2025/26 | D3: 2026/27
B4: Forecast Revenue Requirement | C4: 5306824 | D4: 14850121
B5: Actual Revenue Requirement | C5: 4992983
B7: Customer Volumes for Fee Allocation
C9: Actual Volumes | D9: Forecast Volumes
C10: 2025/26 Actual | D10: 2026/27 Forecast | E10: 202728 Forecast | H10: Source of Volumes
C11: MWh | D11: MWh | E11: MWh | H11: NSP volumes are total MWh sales less MEU volumes
B12: NSPI | C12: =L31-C13-C14-C15-C16 -> 10634708 | D12: =(7417925+3262236)-D13-D14-D15-D16 -> 10525592 | E12: =10624240-E13-E14-E15-E16 -> 10469671 | H12: 2026/27 Forecast: 2026-2027GRA SR-01 Att 02 PCON EO (Apr-Dec) & 2026-2027 GRA SR-01 Att 03 PCON EO (Jan-Mar)
B13: Berwick Electric Commission | C13: =D13 -> 39918.5 | D13: 39918.5 | E13: =D13 -> 39918.5 | H13: 2027/28 Forecast: 2026-2027 GRA SR-01 Att 03 PCON EO (Jan-Dec 2027 forecast used for illustrative purposes)
B14: Riverport Electric Light Commission | C14: =D14 -> 9525.594 | D14: 9525.594 | E14: =D14 -> 9525.594 | H14: 2025/26 NSPI Sales: 2025 Q4 & 2026 Q1 FAM Reports (calculated below)
B15: Town of Mahone Bay | C15: =D15 -> 14625.321 | D15: 14625.321 | E15: =D15 -> 14625.321
B16: Town of Antigonish | C16: =D16 -> 90499.543 | D16: 90499.543 | E16: =D16 -> 90499.543 | H16: 2026 Municipal volumes forecast 2026/27 volumes provided by the MEUs. Those values are used as proxy values in 2025 and 2027.
B17: Other
B18: Other
B19: Other
B20: Other
B22: Total | C22: =SUM(C12:C20) -> 10789277 | D22: =SUM(D12:D20) -> 10680161 | E22: =SUM(E12:E20) -> 10624240
B24: NSPI Interm Payment | C24: 950000 | D24: 46054 | E24: Collection Start Date
H26: Period | J26: Net Class Requirement | K26: Less Losses | L26: Class Requirement Less Losses
H27: 2025 | I27: Q2 | J27: 2496572 | K27: 123546 | L27: =J27-K27 -> 2373026
H28: 2025 | I28: Q3 | J28: 2376857 | K28: 150993 | L28: =J28-K28 -> 2225864
H29: 2025 | I29: Q4 | J29: 3006262 | K29: 238190 | L29: =J29-K29 -> 2768072
H30: 2026 | I30: Q1 | J30: 3712848 | K30: 290533 | L30: =J30-K30 -> 3422315
I31: Total | J31: =SUM(J27:J30) -> 11592539 | K31: =SUM(K27:K30) -> 803262 | L31: =J31-K31 -> 10789277
H32: Source: NS Power (FAM) Q-6

Sheet Initial Fee Calculation
C2: Annual Fee | K2: Monthly Fee
C3: =Input!C3 -> 2025/26 | F3: =Input!D3 -> 2026/27 | I3: Total | K3: =C3 -> 2025/26 | L3: =F3 -> 2026/27 | M3: Total
B4: Total Revenue Requirement | C4: =Input!C4 -> 5306824 | F4: =Input!D4 -> 14850121 | I4: =C4+F4 -> 20156945 | K4: =C4/12 -> 442235.33 | L4: =F4/12 -> 1237510.1 | M4: =K4+L4 -> 1679745.4
B5: Market Participant | C5: MWh | D5: % | E5: Annual Fee | F5: MWh | G5: % | H5: Annual Fee | I5: =H5 -> Annual Fee
B6: =Input!B12 -> NSPI | C6: =Input!C12 -> 10634708 | D6: =C6/$C$16 -> 0.98567384 | E6: =$D6*C$4 -> 5230797.6 | F6: =Input!D12 -> 10525592 | G6: =F6/$F$16 -> 0.98552747 | H6: =$G6*F$4 -> 14635202 | I6: =E6+H6 -> 19866000 | K6: =E6/12 -> 435899.8 | L6: =H6/12 -> 1219600.2 | M6: =K6+L6 -> 1655500
B7: =Input!B13 -> Berwick Electric Commission | C7: =Input!C13 -> 39918.5 | D7: =C7/$C$16 -> 0.0036998309 | E7: =$D7*C$4 -> 19634.351 | F7: =Input!D13 -> 39918.5 | G7: =F7/$F$16 -> 0.0037376309 | H7: =$G7*F$4 -> 55504.271 | I7: =E7+H7 -> 75138.623 | K7: =E7/12 -> 1636.1959 | L7: =H7/12 -> 4625.356 | M7: =K7+L7 -> 6261.5519
B8: =Input!B14 -> Riverport Electric Light Commission | C8: =Input!C14 -> 9525.594 | D8: =C8/$C$16 -> 0.00088287603 | E8: =$D8*C$4 -> 4685.2677 | F8: =Input!D14 -> 9525.594 | G8: =F8/$F$16 -> 0.00089189611 | H8: =$G8*F$4 -> 13244.765 | I8: =E8+H8 -> 17930.033 | K8: =E8/12 -> 390.43897 | L8: =H8/12 -> 1103.7304 | M8: =K8+L8 -> 1494.1694
B9: =Input!B15 -> Town of Mahone Bay | C9: =Input!C15 -> 14625.321 | D9: =C9/$C$16 -> 0.0013555423 | E9: =$D9*C$4 -> 7193.6242 | F9: =Input!D15 -> 14625.321 | G9: =F9/$F$16 -> 0.0013693914 | H9: =$G9*F$4 -> 20335.629 | I9: =E9+H9 -> 27529.253 | K9: =E9/12 -> 599.46869 | L9: =H9/12 -> 1694.6357 | M9: =K9+L9 -> 2294.1044
B10: =Input!B16 -> Town of Antigonish | C10: =Input!C16 -> 90499.543 | D10: =C10/$C$16 -> 0.0083879154 | E10: =$D10*C$4 -> 44513.191 | F10: =Input!D16 -> 90499.543 | G10: =F10/$F$16 -> 0.0084736122 | H10: =$G10*F$4 -> 125834.17 | I10: =E10+H10 -> 170347.36 | K10: =E10/12 -> 3709.4326 | L10: =H10/12 -> 10486.181 | M10: =K10+L10 -> 14195.613
B11: =Input!B17 -> Other | C11: =Input!C17 -> 0 | D11: =C11/$C$16 -> 0 | E11: =$D11*C$4 -> 0 | F11: =Input!D17 -> 0 | G11: =F11/$F$16 -> 0 | H11: =$G11*F$4 -> 0 | I11: =E11+H11 -> 0 | K11: =E11/12 -> 0 | L11: =H11/12 -> 0 | M11: =K11+L11 -> 0
B12: =Input!B18 -> Other | C12: =Input!C18 -> 0 | D12: =C12/$C$16 -> 0 | E12: =$D12*C$4 -> 0 | F12: =Input!D18 -> 0 | G12: =F12/$F$16 -> 0 | H12: =$G12*F$4 -> 0 | I12: =E12+H12 -> 0 | K12: =E12/12 -> 0 | L12: =H12/12 -> 0 | M12: =K12+L12 -> 0
B13: =Input!B19 -> Other | C13: =Input!C19 -> 0 | D13: =C13/$C$16 -> 0 | E13: =$D13*C$4 -> 0 | F13: =Input!D19 -> 0 | G13: =F13/$F$16 -> 0 | H13: =$G13*F$4 -> 0 | I13: =E13+H13 -> 0 | K13: =E13/12 -> 0 | L13: =H13/12 -> 0 | M13: =K13+L13 -> 0
B14: =Input!B20 -> Other | C14: =Input!F20 -> 0 | D14: =C14/$C$16 -> 0 | E14: =$D14*C$4 -> 0 | F14: =Input!D20 -> 0 | G14: =F14/$F$16 -> 0 | H14: =$G14*F$4 -> 0 | I14: =E14+H14 -> 0 | K14: =E14/12 -> 0 | L14: =H14/12 -> 0 | M14: =K14+L14 -> 0
B16: Total | C16: =SUM(C6:C14) -> 10789277 | D16: =SUM(D6:D12) -> 1 | E16: =SUM(E6:E14) -> 5306824 | F16: =SUM(F6:F14) -> 10680161 | G16: =SUM(G6:G12) -> 1 | H16: =SUM(H6:H14) -> 14850121 | I16: =SUM(I6:I14) -> 20156945 | K16: =SUM(K6:K14) -> 442235.33 | L16: =SUM(L6:L14) -> 1237510.1 | M16: =SUM(M6:M14) -> 1679745.4

Sheet Fee Recovery Calculation
C2: Annual Fees | G2: Total 2025/26 and 2026/27 Revenue Calculation | J2: Total Monthly Fee Calculation | M2: Carrying Costs (Accumulates on Balances Outstanding after Mar-2027)
B3: Market Participant | C3: 2025/26 Allocation | D3: Proposed Annual Fee 2025/26 | E3: 2026/27 Allocation | F3: Proposed Annual Fee 2026/27 | G3: Total Fees (2025/26 + 2026/27) | H3: Interim Fee Recovered before Implementation: Feb-2026 to Nov-2026 | I3: Total Unrecovered Fees | J3: # Months of Revenue Collection | K3: Monthly Fees | M3: Carrying Cost Allocation | N3: Total Carrying Costs | O3: Monthly Carrying Costs | P3: Total Fees Including Carrying Costs | R3: Interest Rate
B4: =Input!B12 -> NSPI | C4: ='Initial Fee Calculation'!D6 -> 0.98567384 | D4: ='Initial Fee Calculation'!E6 -> 5230797.6 | E4: ='Initial Fee Calculation'!G6 -> 0.98552747 | F4: ='Initial Fee Calculation'!H6 -> 14635202 | G4: =D4+F4 -> 19866000 | H4: 9500000 | I4: =G4-H4 -> 10366000 | J4: =J13 -> 4 | K4: =I4/J4 -> 2591499.9 | M4: =(K4/$K$13) -> 0.972699 | N4: =$N$13*M4 -> 0 | O4: =N4/J4 -> 0 | P4: =O4+K4 -> 2591499.9 | R4: 0.0232
A5: Option 1 | B5: =Input!B13 -> Berwick Electric Commission | C5: ='Initial Fee Calculation'!D7 -> 0.0036998309 | D5: ='Initial Fee Calculation'!E7 -> 19634.351 | E5: ='Initial Fee Calculation'!G7 -> 0.0037376309 | F5: ='Initial Fee Calculation'!H7 -> 55504.271 | G5: =D5+F5 -> 75138.623 | I5: =G5-H5 -> 75138.623 | J5: =J4 -> 4 | K5: =I5/J5 -> 18784.656 | M5: =(K5/$K$13) -> 0.0070506719 | N5: =$N$13*M5 -> 0 | O5: =N5/J5 -> 0 | P5: =O5+K5 -> 18784.656
A6: 2-Year Lag | B6: =Input!B14 -> Riverport Electric Light Commission | C6: ='Initial Fee Calculation'!D8 -> 0.00088287603 | D6: ='Initial Fee Calculation'!E8 -> 4685.2677 | E6: ='Initial Fee Calculation'!G8 -> 0.00089189611 | F6: ='Initial Fee Calculation'!H8 -> 13244.765 | G6: =D6+F6 -> 17930.033 | I6: =G6-H6 -> 17930.033 | J6: =J5 -> 4 | K6: =I6/J6 -> 4482.5082 | M6: =(K6/$K$13) -> 0.001682474 | N6: =$N$13*M6 -> 0 | O6: =N6/J6 -> 0 | P6: =O6+K6 -> 4482.5082
B7: =Input!B15 -> Town of Mahone Bay | C7: ='Initial Fee Calculation'!D9 -> 0.0013555423 | D7: ='Initial Fee Calculation'!E9 -> 7193.6242 | E7: ='Initial Fee Calculation'!G9 -> 0.0013693914 | F7: ='Initial Fee Calculation'!H9 -> 20335.629 | G7: =D7+F7 -> 27529.253 | I7: =G7-H7 -> 27529.253 | J7: =J6 -> 4 | K7: =I7/J7 -> 6882.3132 | M7: =(K7/$K$13) -> 0.0025832218 | N7: =$N$13*M7 -> 0 | O7: =N7/J7 -> 0 | P7: =O7+K7 -> 6882.3132
B8: =Input!B16 -> Town of Antigonish | C8: ='Initial Fee Calculation'!D10 -> 0.0083879154 | D8: ='Initial Fee Calculation'!E10 -> 44513.191 | E8: ='Initial Fee Calculation'!G10 -> 0.0084736122 | F8: ='Initial Fee Calculation'!H10 -> 125834.17 | G8: =D8+F8 -> 170347.36 | I8: =G8-H8 -> 170347.36 | J8: =J7 -> 4 | K8: =I8/J8 -> 42586.84 | M8: =(K8/$K$13) -> 0.015984633 | N8: =$N$13*M8 -> 0 | O8: =N8/J8 -> 0 | P8: =O8+K8 -> 42586.84
B9: =Input!B17 -> Other | C9: ='Initial Fee Calculation'!D11 -> 0 | D9: ='Initial Fee Calculation'!E11 -> 0 | F9: ='Initial Fee Calculation'!H11 -> 0 | G9: =D9+F9 -> 0 | I9: =G9-H9 -> 0 | J9: =J8 -> 4 | K9: =I9/J9 -> 0 | M9: =(K9/$K$13) -> 0 | N9: =$N$13*M9 -> 0 | O9: =N9/J9 -> 0 | P9: =O9+K9 -> 0
B10: =Input!B18 -> Other | C10: ='Initial Fee Calculation'!D12 -> 0 | D10: ='Initial Fee Calculation'!E12 -> 0 | F10: ='Initial Fee Calculation'!H12 -> 0 | G10: =D10+F10 -> 0 | I10: =G10-H10 -> 0 | J10: =J9 -> 4 | K10: =I10/J10 -> 0 | M10: =(K10/$K$13) -> 0 | N10: =$N$13*M10 -> 0 | O10: =N10/J10 -> 0 | P10: =O10+K10 -> 0
B11: =Input!B19 -> Other | C11: ='Initial Fee Calculation'!D13 -> 0 | D11: ='Initial Fee Calculation'!E13 -> 0 | F11: ='Initial Fee Calculation'!H13 -> 0 | G11: =D11+F11 -> 0 | I11: =G11-H11 -> 0 | J11: =J10 -> 4 | K11: =I11/J11 -> 0 | M11: =(K11/$K$13) -> 0 | N11: =$N$13*M11 -> 0 | O11: =N11/J11 -> 0 | P11: =O11+K11 -> 0
B12: =Input!B20 -> Other | C12: ='Initial Fee Calculation'!D14 -> 0 | D12: ='Initial Fee Calculation'!E14 -> 0 | F12: ='Initial Fee Calculation'!H14 -> 0 | G12: =D12+F12 -> 0 | I12: =G12-H12 -> 0 | J12: =J11 -> 4 | K12: =I12/J12 -> 0 | M12: =(K12/$K$13) -> 0 | N12: =$N$13*M12 -> 0 | O12: =N12/J12 -> 0 | P12: =O12+K12 -> 0
B13: Total | C13: =SUM(C4:C12) -> 1 | D13: =SUM(D4:D12) -> 5306824 | E13: =SUM(E4:E12) -> 1 | F13: =SUM(F4:F12) -> 14850121 | G13: =SUM(G4:G12) -> 20156945 | H13: =SUM(H4:H12) -> 9500000 | I13: =SUM(I4:I12) -> 10656945 | J13: 4 | K13: =SUM(K4:K12) -> 2664236.2 | M13: =SUM(M4:M12) -> 1 | N13: ='Fee Recovery Calculation by MP'!AP41 -> 0 | O13: =N13/J13 -> 0 | P13: =SUM(P4:P12) -> 2664236.2
C16: Annual Fees | G16: Total 2025/26 and 2026/27 Revenue Calculation | J16: 2025/26 True-Up | N16: Total Monthly Fee Calculation | Q16: Carrying Costs (Accumulates on Balances Outstanding after Mar-2027)
B17: Market Participant | C17: 2025/26 Allocation | D17: Proposed Annual Fee 2025/26 | E17: 2026/27 Allocation | F17: Proposed Annual Fee 2026/27 | G17: Total Fees (2025/26 + 2026/27) | H17: Interim Fee Recovered before Implementation: Feb-2026 to Nov-2026 | I17: Total Unrecovered Fees | J17: =C17 -> 2025/26 Allocation | K17: 2025/26 True-Up | M17: Total Unrecovered Fees with 2025/26 True-Up | N17: # Months of Revenue Collection | O17: Monthly Fees | Q17: Carrying Cost Allocation | R17: Total Carrying Costs | S17: Monthly Carrying Costs | T17: Total Fees Including Carrying Costs
B18: =Input!B12 -> NSPI | C18: ='Initial Fee Calculation'!D6 -> 0.98567384 | D18: ='Initial Fee Calculation'!E6 -> 5230797.6 | E18: ='Initial Fee Calculation'!G6 -> 0.98552747 | F18: ='Initial Fee Calculation'!H6 -> 14635202 | G18: =D18+F18 -> 19866000 | H18: 9500000 | I18: =G18-H18 -> 10366000 | J18: =C4 -> 0.98567384 | K18: ='Illust. True-Up (Compliance)'!K19 -> -309344.86 | M18: =I18+K18 -> 10056655 | N18: =N27 -> 4 | O18: =M18/N18 -> 2514163.7 | Q18: =(O18/$O$27) -> 0.9723053 | R18: =$R$27*Q18 -> 0 | S18: =R18/N18 -> 0 | T18: =S18+O18 -> 2514163.7
A19: Option 2 | B19: =Input!B13 -> Berwick Electric Commission | C19: ='Initial Fee Calculation'!D7 -> 0.0036998309 | D19: ='Initial Fee Calculation'!E7 -> 19634.351 | E19: ='Initial Fee Calculation'!G7 -> 0.0037376309 | F19: ='Initial Fee Calculation'!H7 -> 55504.271 | G19: =D19+F19 -> 75138.623 | I19: =G19-H19 -> 75138.623 | J19: =C5 -> 0.0036998309 | K19: ='Illust. True-Up (Compliance)'!K20 -> -1161.1586 | M19: =I19+K19 -> 73977.464 | N19: =N18 -> 4 | O19: =M19/N19 -> 18494.366 | Q19: =(O19/$O$27) -> 0.0071523465 | R19: =$R$27*Q19 -> 0 | S19: =R19/N19 -> 0 | T19: =S19+O19 -> 18494.366
A20: 1-Year Lag | B20: =Input!B14 -> Riverport Electric Light Commission | C20: ='Initial Fee Calculation'!D8 -> 0.00088287603 | D20: ='Initial Fee Calculation'!E8 -> 4685.2677 | E20: ='Initial Fee Calculation'!G8 -> 0.00089189611 | F20: ='Initial Fee Calculation'!H8 -> 13244.765 | G20: =D20+F20 -> 17930.033 | I20: =G20-H20 -> 17930.033 | J20: =C6 -> 0.00088287603 | K20: ='Illust. True-Up (Compliance)'!K21 -> -277.08269 | M20: =I20+K20 -> 17652.95 | N20: =N19 -> 4 | O20: =M20/N20 -> 4413.2375 | Q20: =(O20/$O$27) -> 0.0017067362 | R20: =$R$27*Q20 -> 0 | S20: =R20/N20 -> 0 | T20: =S20+O20 -> 4413.2375
A21: Compliance | B21: =Input!B15 -> Town of Mahone Bay | C21: ='Initial Fee Calculation'!D9 -> 0.0013555423 | D21: ='Initial Fee Calculation'!E9 -> 7193.6242 | E21: ='Initial Fee Calculation'!G9 -> 0.0013693914 | F21: ='Initial Fee Calculation'!H9 -> 20335.629 | G21: =D21+F21 -> 27529.253 | I21: =G21-H21 -> 27529.253 | J21: =C7 -> 0.0013555423 | K21: ='Illust. True-Up (Compliance)'!K22 -> -425.42474 | M21: =I21+K21 -> 27103.828 | N21: =N20 -> 4 | O21: =M21/N21 -> 6775.957 | Q21: =(O21/$O$27) -> 0.0026204733 | R21: =$R$27*Q21 -> 0 | S21: =R21/N21 -> 0 | T21: =S21+O21 -> 6775.957
B22: =Input!B16 -> Town of Antigonish | C22: ='Initial Fee Calculation'!D10 -> 0.0083879154 | D22: ='Initial Fee Calculation'!E10 -> 44513.191 | E22: ='Initial Fee Calculation'!G10 -> 0.0084736122 | F22: ='Initial Fee Calculation'!H10 -> 125834.17 | G22: =D22+F22 -> 170347.36 | I22: =G22-H22 -> 170347.36 | J22: =C8 -> 0.0083879154 | K22: ='Illust. True-Up (Compliance)'!K23 -> -2632.4718 | M22: =I22+K22 -> 167714.89 | N22: =N21 -> 4 | O22: =M22/N22 -> 41928.722 | Q22: =(O22/$O$27) -> 0.016215141 | R22: =$R$27*Q22 -> 0 | S22: =R22/N22 -> 0 | T22: =S22+O22 -> 41928.722
B23: =Input!B17 -> Other | C23: ='Initial Fee Calculation'!D11 -> 0 | D23: ='Initial Fee Calculation'!E11 -> 0 | F23: ='Initial Fee Calculation'!H11 -> 0 | G23: =D23+F23 -> 0 | I23: =G23-H23 -> 0 | J23: =C23 -> 0 | K23: ='Illust. True-Up (Compliance)'!K24 -> 0 | M23: =I23+K23 -> 0 | N23: =N22 -> 4 | O23: =M23/N23 -> 0 | Q23: =(O23/$K$13) -> 0 | R23: =$N$13*Q23 -> 0 | S23: =R23/N23 -> 0 | T23: =S23+O23 -> 0
B24: =Input!B18 -> Other | C24: ='Initial Fee Calculation'!D12 -> 0 | D24: ='Initial Fee Calculation'!E12 -> 0 | F24: ='Initial Fee Calculation'!H12 -> 0 | G24: =D24+F24 -> 0 | I24: =G24-H24 -> 0 | J24: =C24 -> 0 | K24: ='Illust. True-Up (Compliance)'!K25 -> 0 | M24: =I24+K24 -> 0 | N24: =N23 -> 4 | O24: =M24/N24 -> 0 | Q24: =(O24/$K$13) -> 0 | R24: =$N$13*Q24 -> 0 | S24: =R24/N24 -> 0 | T24: =S24+O24 -> 0
B25: =Input!B19 -> Other | C25: ='Initial Fee Calculation'!D13 -> 0 | D25: ='Initial Fee Calculation'!E13 -> 0 | F25: ='Initial Fee Calculation'!H13 -> 0 | G25: =D25+F25 -> 0 | I25: =G25-H25 -> 0 | J25: =C25 -> 0 | K25: ='Illust. True-Up (Compliance)'!K26 -> 0 | M25: =I25+K25 -> 0 | N25: =N24 -> 4 | O25: =M25/N25 -> 0 | Q25: =(O25/$K$13) -> 0 | R25: =$N$13*Q25 -> 0 | S25: =R25/N25 -> 0 | T25: =S25+O25 -> 0
B26: =Input!B20 -> Other | C26: ='Initial Fee Calculation'!D14 -> 0 | D26: ='Initial Fee Calculation'!E14 -> 0 | F26: ='Initial Fee Calculation'!H14 -> 0 | G26: =D26+F26 -> 0 | I26: =G26-H26 -> 0 | J26: =C26 -> 0 | K26: ='Illust. True-Up (Compliance)'!K27 -> 0 | M26: =I26+K26 -> 0 | N26: =N25 -> 4 | O26: =M26/N26 -> 0 | Q26: =(O26/$K$13) -> 0 | R26: =$N$13*Q26 -> 0 | S26: =R26/N26 -> 0 | T26: =S26+O26 -> 0
B27: Total | C27: =SUM(C18:C26) -> 1 | D27: =SUM(D18:D26) -> 5306824 | E27: =SUM(E18:E26) -> 1 | F27: =SUM(F18:F26) -> 14850121 | G27: =SUM(G18:G26) -> 20156945 | H27: =SUM(H18:H26) -> 9500000 | I27: =SUM(I18:I26) -> 10656945 | J27: =C27 -> 1 | K27: ='Illust. True-Up (Compliance)'!K29 -> -313841 | M27: =I27+K27 -> 10343104 | N27: =J13 -> 4 | O27: =SUM(O18:O26) -> 2585776 | Q27: =SUM(Q18:Q26) -> 1 | R27: ='Fee Recovery by MP w True-Up '!AW41 -> 0 | S27: =R27/N27 -> 0 | T27: =SUM(T18:T26) -> 2585776

Sheet Fee Recovery Calculation by MP
O1: =LEFT(O2,FIND(" ",O2)) -> Berwick | U1: =LEFT(U2,FIND(" ",U2)) -> Riverport | AA1: Mahone Bay | AG1: Antigonish
B2: Total IESO NS | I2: =Input!B12 -> NSPI | O2: =Input!B13 -> Berwick Electric Commission | U2: =Input!B14 -> Riverport Electric Light Commission | AA2: =Input!B15 -> Town of Mahone Bay | AG2: =Input!B16 -> Town of Antigonish | AM2: Total Before Carrying Costs
B3: Month | C3: Revenue Requirement | D3: Carrying Costs | E3: Carrying Costs Recovered | F3: Revenue Requirement Recovered | G3: Outstanding Balance to be Recovered | I3: NSPI Fee | J3: Carrying Costs | K3: Carrying Costs Recovered | L3: Fee Recovered from NSPI | M3: NSPI Month End Balance | O3: =O1&" Fees" -> Berwick Fees | P3: Carrying Costs | Q3: Carrying Costs Recovered | R3: ="Fees Recovered from "&O1 -> Fees Recovered from Berwick | S3: =O1&" Month End Balance" -> Berwick Month End Balance | U3: =U1&" Fees" -> Riverport Fees | V3: Carrying Costs | W3: Carrying Costs Recovered | X3: ="Fees Recovered from "&U1 -> Fees Recovered from Riverport | Y3: =U1&" Month End Balance" -> Riverport Month End Balance | AA3: =AA1&" Fees" -> Mahone Bay Fees | AB3: Carrying Costs | AC3: Carrying Costs Recovered | AD3: ="Fees Recovered from "&AA1 -> Fees Recovered from Mahone Bay | AE3: =AA1&" Month End Balance" -> Mahone Bay Month End Balance | AG3: =AG1&" Fees" -> Antigonish Fees | AH3: Carrying Costs | AI3: Carrying Costs Recovered | AJ3: ="Fees Recovered from "&AG1 -> Fees Recovered from Antigonish | AK3: =AG1&" Month End Balance" -> Antigonish Month End Balance | AM3: =AM1&" Fees" -> Fees | AN3: ="Fees Recovered from "&AM1 -> Fees Recovered from | AO3: =AM1&" Month End Balance" -> Month End Balance | AP3: Interest
B4: 45748 | C4: ='Initial Fee Calculation'!$K$16 -> 442235.33 | F4: =L4+R4+X4+AD4+AJ4 -> 0 | G4: =M4+S4+Y4+AE4+AK4 -> 442235.33 | I4: ='Initial Fee Calculation'!$K$6 -> 435899.8 | L4: 0 | M4: =I4+L4+K4 -> 435899.8 | O4: ='Initial Fee Calculation'!$K$7 -> 1636.1959 | R4: 0 | S4: =O4+R4+Q4 -> 1636.1959 | U4: ='Initial Fee Calculation'!$K$8 -> 390.43897 | X4: 0 | Y4: =U4+X4+W4 -> 390.43897 | AA4: ='Initial Fee Calculation'!$K$9 -> 599.46869 | AD4: 0 | AE4: =AA4+AD4+AC4 -> 599.46869 | AG4: ='Initial Fee Calculation'!$K$10 -> 3709.4326 | AJ4: 0 | AK4: =AG4+AJ4+AI4 -> 3709.4326 | AM4: ='Initial Fee Calculation'!$K$16 -> 442235.33 | AN4: 0 | AO4: =AM4+AN4 -> 442235.33
B5: =EOMONTH(B4,0)+1 -> 45778 | C5: ='Initial Fee Calculation'!$K$16 -> 442235.33 | F5: =L5+R5+X5+AD5+AJ5 -> 0 | G5: =M5+S5+Y5+AE5+AK5 -> 884470.67 | I5: ='Initial Fee Calculation'!$K$6 -> 435899.8 | L5: 0 | M5: =I5+L5+M4+K5 -> 871799.59 | O5: ='Initial Fee Calculation'!$K$7 -> 1636.1959 | R5: 0 | S5: =O5+R5+S4+Q5 -> 3272.3919 | U5: ='Initial Fee Calculation'!$K$8 -> 390.43897 | X5: 0 | Y5: =U5+X5+Y4+W5 -> 780.87795 | AA5: ='Initial Fee Calculation'!$K$9 -> 599.46869 | AD5: 0 | AE5: =AA5+AD5+AE4+AC5 -> 1198.9374 | AG5: ='Initial Fee Calculation'!$K$10 -> 3709.4326 | AJ5: 0 | AK5: =AG5+AJ5+AK4+AI5 -> 7418.8652 | AM5: ='Initial Fee Calculation'!$K$16 -> 442235.33 | AN5: 0 | AO5: =AM5+AO4+AN5 -> 884470.67
B6: =EOMONTH(B5,0)+1 -> 45809 | C6: ='Initial Fee Calculation'!$K$16 -> 442235.33 | F6: =L6+R6+X6+AD6+AJ6 -> 0 | G6: =M6+S6+Y6+AE6+AK6 -> 1326706 | I6: ='Initial Fee Calculation'!$K$6 -> 435899.8 | L6: 0 | M6: =I6+L6+M5+K6 -> 1307699.4 | O6: ='Initial Fee Calculation'!$K$7 -> 1636.1959 | R6: 0 | S6: =O6+R6+S5+Q6 -> 4908.5878 | U6: ='Initial Fee Calculation'!$K$8 -> 390.43897 | X6: 0 | Y6: =U6+X6+Y5+W6 -> 1171.3169 | AA6: ='Initial Fee Calculation'!$K$9 -> 599.46869 | AD6: 0 | AE6: =AA6+AD6+AE5+AC6 -> 1798.4061 | AG6: ='Initial Fee Calculation'!$K$10 -> 3709.4326 | AJ6: 0 | AK6: =AG6+AJ6+AK5+AI6 -> 11128.298 | AM6: ='Initial Fee Calculation'!$K$16 -> 442235.33 | AN6: 0 | AO6: =AM6+AO5+AN6 -> 1326706
B7: =EOMONTH(B6,0)+1 -> 45839 | C7: ='Initial Fee Calculation'!$K$16 -> 442235.33 | F7: =L7+R7+X7+AD7+AJ7 -> 0 | G7: =M7+S7+Y7+AE7+AK7 -> 1768941.3 | I7: ='Initial Fee Calculation'!$K$6 -> 435899.8 | L7: 0 | M7: =I7+L7+M6+K7 -> 1743599.2 | O7: ='Initial Fee Calculation'!$K$7 -> 1636.1959 | R7: 0 | S7: =O7+R7+S6+Q7 -> 6544.7837 | U7: ='Initial Fee Calculation'!$K$8 -> 390.43897 | X7: 0 | Y7: =U7+X7+Y6+W7 -> 1561.7559 | AA7: ='Initial Fee Calculation'!$K$9 -> 599.46869 | AD7: 0 | AE7: =AA7+AD7+AE6+AC7 -> 2397.8747 | AG7: ='Initial Fee Calculation'!$K$10 -> 3709.4326 | AJ7: 0 | AK7: =AG7+AJ7+AK6+AI7 -> 14837.73 | AM7: ='Initial Fee Calculation'!$K$16 -> 442235.33 | AN7: 0 | AO7: =AM7+AO6+AN7 -> 1768941.3
B8: =EOMONTH(B7,0)+1 -> 45870 | C8: ='Initial Fee Calculation'!$K$16 -> 442235.33 | F8: =L8+R8+X8+AD8+AJ8 -> 0 | G8: =M8+S8+Y8+AE8+AK8 -> 2211176.7 | I8: ='Initial Fee Calculation'!$K$6 -> 435899.8 | L8: 0 | M8: =I8+L8+M7+K8 -> 2179499 | O8: ='Initial Fee Calculation'!$K$7 -> 1636.1959 | R8: 0 | S8: =O8+R8+S7+Q8 -> 8180.9797 | U8: ='Initial Fee Calculation'!$K$8 -> 390.43897 | X8: 0 | Y8: =U8+X8+Y7+W8 -> 1952.1949 | AA8: ='Initial Fee Calculation'!$K$9 -> 599.46869 | AD8: 0 | AE8: =AA8+AD8+AE7+AC8 -> 2997.3434 | AG8: ='Initial Fee Calculation'!$K$10 -> 3709.4326 | AJ8: 0 | AK8: =AG8+AJ8+AK7+AI8 -> 18547.163 | AM8: ='Initial Fee Calculation'!$K$16 -> 442235.33 | AN8: 0 | AO8: =AM8+AO7+AN8 -> 2211176.7
B9: =EOMONTH(B8,0)+1 -> 45901 | C9: ='Initial Fee Calculation'!$K$16 -> 442235.33 | F9: =L9+R9+X9+AD9+AJ9 -> 0 | G9: =M9+S9+Y9+AE9+AK9 -> 2653412 | I9: ='Initial Fee Calculation'!$K$6 -> 435899.8 | L9: 0 | M9: =I9+L9+M8+K9 -> 2615398.8 | O9: ='Initial Fee Calculation'!$K$7 -> 1636.1959 | R9: 0 | S9: =O9+R9+S8+Q9 -> 9817.1756 | U9: ='Initial Fee Calculation'!$K$8 -> 390.43897 | X9: 0 | Y9: =U9+X9+Y8+W9 -> 2342.6338 | AA9: ='Initial Fee Calculation'!$K$9 -> 599.46869 | AD9: 0 | AE9: =AA9+AD9+AE8+AC9 -> 3596.8121 | AG9: ='Initial Fee Calculation'!$K$10 -> 3709.4326 | AJ9: 0 | AK9: =AG9+AJ9+AK8+AI9 -> 22256.595 | AM9: ='Initial Fee Calculation'!$K$16 -> 442235.33 | AN9: 0 | AO9: =AM9+AO8+AN9 -> 2653412
B10: =EOMONTH(B9,0)+1 -> 45931 | C10: ='Initial Fee Calculation'!$K$16 -> 442235.33 | F10: =L10+R10+X10+AD10+AJ10 -> 0 | G10: =M10+S10+Y10+AE10+AK10 -> 3095647.3 | I10: ='Initial Fee Calculation'!$K$6 -> 435899.8 | L10: 0 | M10: =I10+L10+M9+K10 -> 3051298.6 | O10: ='Initial Fee Calculation'!$K$7 -> 1636.1959 | R10: 0 | S10: =O10+R10+S9+Q10 -> 11453.372 | U10: ='Initial Fee Calculation'!$K$8 -> 390.43897 | X10: 0 | Y10: =U10+X10+Y9+W10 -> 2733.0728 | AA10: ='Initial Fee Calculation'!$K$9 -> 599.46869 | AD10: 0 | AE10: =AA10+AD10+AE9+AC10 -> 4196.2808 | AG10: ='Initial Fee Calculation'!$K$10 -> 3709.4326 | AJ10: 0 | AK10: =AG10+AJ10+AK9+AI10 -> 25966.028 | AM10: ='Initial Fee Calculation'!$K$16 -> 442235.33 | AN10: 0 | AO10: =AM10+AO9+AN10 -> 3095647.3
B11: =EOMONTH(B10,0)+1 -> 45962 | C11: ='Initial Fee Calculation'!$K$16 -> 442235.33 | F11: =L11+R11+X11+AD11+AJ11 -> 0 | G11: =M11+S11+Y11+AE11+AK11 -> 3537882.7 | I11: ='Initial Fee Calculation'!$K$6 -> 435899.8 | L11: 0 | M11: =I11+L11+M10+K11 -> 3487198.4 | O11: ='Initial Fee Calculation'!$K$7 -> 1636.1959 | R11: 0 | S11: =O11+R11+S10+Q11 -> 13089.567 | U11: ='Initial Fee Calculation'!$K$8 -> 390.43897 | X11: 0 | Y11: =U11+X11+Y10+W11 -> 3123.5118 | AA11: ='Initial Fee Calculation'!$K$9 -> 599.46869 | AD11: 0 | AE11: =AA11+AD11+AE10+AC11 -> 4795.7495 | AG11: ='Initial Fee Calculation'!$K$10 -> 3709.4326 | AJ11: 0 | AK11: =AG11+AJ11+AK10+AI11 -> 29675.461 | AM11: ='Initial Fee Calculation'!$K$16 -> 442235.33 | AN11: 0 | AO11: =AM11+AO10+AN11 -> 3537882.7
B12: =EOMONTH(B11,0)+1 -> 45992 | C12: ='Initial Fee Calculation'!$K$16 -> 442235.33 | F12: =L12+R12+X12+AD12+AJ12 -> 0 | G12: =M12+S12+Y12+AE12+AK12 -> 3980118 | I12: ='Initial Fee Calculation'!$K$6 -> 435899.8 | L12: 0 | M12: =I12+L12+M11+K12 -> 3923098.2 | O12: ='Initial Fee Calculation'!$K$7 -> 1636.1959 | R12: 0 | S12: =O12+R12+S11+Q12 -> 14725.763 | U12: ='Initial Fee Calculation'!$K$8 -> 390.43897 | X12: 0 | Y12: =U12+X12+Y11+W12 -> 3513.9508 | AA12: ='Initial Fee Calculation'!$K$9 -> 599.46869 | AD12: 0 | AE12: =AA12+AD12+AE11+AC12 -> 5395.2182 | AG12: ='Initial Fee Calculation'!$K$10 -> 3709.4326 | AJ12: 0 | AK12: =AG12+AJ12+AK11+AI12 -> 33384.893 | AM12: ='Initial Fee Calculation'!$K$16 -> 442235.33 | AN12: 0 | AO12: =AM12+AO11+AN12 -> 3980118
B13: =EOMONTH(B12,0)+1 -> 46023 | C13: ='Initial Fee Calculation'!$K$16 -> 442235.33 | F13: =L13+R13+X13+AD13+AJ13 -> 0 | G13: =M13+S13+Y13+AE13+AK13 -> 4422353.3 | I13: ='Initial Fee Calculation'!$K$6 -> 435899.8 | L13: 0 | M13: =I13+L13+M12+K13 -> 4358998 | O13: ='Initial Fee Calculation'!$K$7 -> 1636.1959 | R13: 0 | S13: =O13+R13+S12+Q13 -> 16361.959 | U13: ='Initial Fee Calculation'!$K$8 -> 390.43897 | X13: 0 | Y13: =U13+X13+Y12+W13 -> 3904.3897 | AA13: ='Initial Fee Calculation'!$K$9 -> 599.46869 | AD13: 0 | AE13: =AA13+AD13+AE12+AC13 -> 5994.6869 | AG13: ='Initial Fee Calculation'!$K$10 -> 3709.4326 | AJ13: 0 | AK13: =AG13+AJ13+AK12+AI13 -> 37094.326 | AM13: ='Initial Fee Calculation'!$K$16 -> 442235.33 | AN13: 0 | AO13: =AM13+AO12+AN13 -> 4422353.3
B14: =EOMONTH(B13,0)+1 -> 46054 | C14: ='Initial Fee Calculation'!$K$16 -> 442235.33 | F14: =L14+R14+X14+AD14+AJ14 -> -950000 | G14: =M14+S14+Y14+AE14+AK14 -> 3914588.7 | I14: ='Initial Fee Calculation'!$K$6 -> 435899.8 | L14: -950000 | M14: =I14+L14+M13+K14 -> 3844897.8 | O14: ='Initial Fee Calculation'!$K$7 -> 1636.1959 | R14: 0 | S14: =O14+R14+S13+Q14 -> 17998.155 | U14: ='Initial Fee Calculation'!$K$8 -> 390.43897 | X14: 0 | Y14: =U14+X14+Y13+W14 -> 4294.8287 | AA14: ='Initial Fee Calculation'!$K$9 -> 599.46869 | AD14: 0 | AE14: =AA14+AD14+AE13+AC14 -> 6594.1555 | AG14: ='Initial Fee Calculation'!$K$10 -> 3709.4326 | AJ14: 0 | AK14: =AG14+AJ14+AK13+AI14 -> 40803.758 | AM14: ='Initial Fee Calculation'!$K$16 -> 442235.33 | AN14: =-Input!$C$24 -> -950000 | AO14: =AM14+AO13+AN14 -> 3914588.7
B15: =EOMONTH(B14,0)+1 -> 46082 | C15: ='Initial Fee Calculation'!$K$16 -> 442235.33 | F15: =L15+R15+X15+AD15+AJ15 -> -950000 | G15: =M15+S15+Y15+AE15+AK15 -> 3406824 | I15: ='Initial Fee Calculation'!$K$6 -> 435899.8 | L15: -950000 | M15: =I15+L15+M14+K15 -> 3330797.6 | O15: ='Initial Fee Calculation'!$K$7 -> 1636.1959 | R15: 0 | S15: =O15+R15+S14+Q15 -> 19634.351 | U15: ='Initial Fee Calculation'!$K$8 -> 390.43897 | X15: 0 | Y15: =U15+X15+Y14+W15 -> 4685.2677 | AA15: ='Initial Fee Calculation'!$K$9 -> 599.46869 | AD15: 0 | AE15: =AA15+AD15+AE14+AC15 -> 7193.6242 | AG15: ='Initial Fee Calculation'!$K$10 -> 3709.4326 | AJ15: 0 | AK15: =AG15+AJ15+AK14+AI15 -> 44513.191 | AM15: ='Initial Fee Calculation'!$K$16 -> 442235.33 | AN15: =-Input!$C$24 -> -950000 | AO15: =AM15+AO14+AN15 -> 3406824
A16: 2026/27 Effective Month | B16: =EOMONTH(B15,0)+1 -> 46113 | C16: ='Initial Fee Calculation'!$L$16 -> 1237510.1 | F16: =L16+R16+X16+AD16+AJ16 -> -950000 | G16: =M16+S16+Y16+AE16+AK16 -> 3694334.1 | I16: ='Initial Fee Calculation'!$L$6 -> 1219600.2 | L16: -950000 | M16: =I16+L16+M15+K16 -> 3600397.7 | O16: ='Initial Fee Calculation'!$L$7 -> 4625.356 | R16: 0 | S16: =O16+R16+S15+Q16 -> 24259.707 | U16: ='Initial Fee Calculation'!$L$8 -> 1103.7304 | X16: 0 | Y16: =U16+X16+Y15+W16 -> 5788.9981 | AA16: ='Initial Fee Calculation'!$L$9 -> 1694.6357 | AD16: 0 | AE16: =AA16+AD16+AE15+AC16 -> 8888.2599 | AG16: ='Initial Fee Calculation'!$L$10 -> 10486.181 | AJ16: 0 | AK16: =AG16+AJ16+AK15+AI16 -> 54999.371 | AM16: ='Initial Fee Calculation'!$L$16 -> 1237510.1 | AN16: =-Input!$C$24 -> -950000 | AO16: =AM16+AO15+AN16 -> 3694334.1
B17: =EOMONTH(B16,0)+1 -> 46143 | C17: ='Initial Fee Calculation'!$L$16 -> 1237510.1 | F17: =L17+R17+X17+AD17+AJ17 -> -950000 | G17: =M17+S17+Y17+AE17+AK17 -> 3981844.2 | I17: ='Initial Fee Calculation'!$L$6 -> 1219600.2 | L17: -950000 | M17: =I17+L17+M16+K17 -> 3869997.9 | O17: ='Initial Fee Calculation'!$L$7 -> 4625.356 | R17: 0 | S17: =O17+R17+S16+Q17 -> 28885.063 | U17: ='Initial Fee Calculation'!$L$8 -> 1103.7304 | X17: 0 | Y17: =U17+X17+Y16+W17 -> 6892.7285 | AA17: ='Initial Fee Calculation'!$L$9 -> 1694.6357 | AD17: 0 | AE17: =AA17+AD17+AE16+AC17 -> 10582.896 | AG17: ='Initial Fee Calculation'!$L$10 -> 10486.181 | AJ17: 0 | AK17: =AG17+AJ17+AK16+AI17 -> 65485.552 | AM17: ='Initial Fee Calculation'!$L$16 -> 1237510.1 | AN17: =-Input!$C$24 -> -950000 | AO17: =AM17+AO16+AN17 -> 3981844.2
B18: =EOMONTH(B17,0)+1 -> 46174 | C18: ='Initial Fee Calculation'!$L$16 -> 1237510.1 | F18: =L18+R18+X18+AD18+AJ18 -> -950000 | G18: =M18+S18+Y18+AE18+AK18 -> 4269354.2 | I18: ='Initial Fee Calculation'!$L$6 -> 1219600.2 | L18: -950000 | M18: =I18+L18+M17+K18 -> 4139598.1 | O18: ='Initial Fee Calculation'!$L$7 -> 4625.356 | R18: 0 | S18: =O18+R18+S17+Q18 -> 33510.419 | U18: ='Initial Fee Calculation'!$L$8 -> 1103.7304 | X18: 0 | Y18: =U18+X18+Y17+W18 -> 7996.459 | AA18: ='Initial Fee Calculation'!$L$9 -> 1694.6357 | AD18: 0 | AE18: =AA18+AD18+AE17+AC18 -> 12277.531 | AG18: ='Initial Fee Calculation'!$L$10 -> 10486.181 | AJ18: 0 | AK18: =AG18+AJ18+AK17+AI18 -> 75971.733 | AM18: ='Initial Fee Calculation'!$L$16 -> 1237510.1 | AN18: =-Input!$C$24 -> -950000 | AO18: =AM18+AO17+AN18 -> 4269354.2
B19: =EOMONTH(B18,0)+1 -> 46204 | C19: ='Initial Fee Calculation'!$L$16 -> 1237510.1 | F19: =L19+R19+X19+AD19+AJ19 -> -950000 | G19: =M19+S19+Y19+AE19+AK19 -> 4556864.3 | I19: ='Initial Fee Calculation'!$L$6 -> 1219600.2 | L19: -950000 | M19: =I19+L19+M18+K19 -> 4409198.3 | O19: ='Initial Fee Calculation'!$L$7 -> 4625.356 | R19: 0 | S19: =O19+R19+S18+Q19 -> 38135.775 | U19: ='Initial Fee Calculation'!$L$8 -> 1103.7304 | X19: 0 | Y19: =U19+X19+Y18+W19 -> 9100.1894 | AA19: ='Initial Fee Calculation'!$L$9 -> 1694.6357 | AD19: 0 | AE19: =AA19+AD19+AE18+AC19 -> 13972.167 | AG19: ='Initial Fee Calculation'!$L$10 -> 10486.181 | AJ19: 0 | AK19: =AG19+AJ19+AK18+AI19 -> 86457.913 | AM19: ='Initial Fee Calculation'!$L$16 -> 1237510.1 | AN19: =-Input!$C$24 -> -950000 | AO19: =AM19+AO18+AN19 -> 4556864.3
B20: =EOMONTH(B19,0)+1 -> 46235 | C20: ='Initial Fee Calculation'!$L$16 -> 1237510.1 | F20: =L20+R20+X20+AD20+AJ20 -> -950000 | G20: =M20+S20+Y20+AE20+AK20 -> 4844374.4 | I20: ='Initial Fee Calculation'!$L$6 -> 1219600.2 | L20: -950000 | M20: =I20+L20+M19+K20 -> 4678798.5 | O20: ='Initial Fee Calculation'!$L$7 -> 4625.356 | R20: 0 | S20: =O20+R20+S19+Q20 -> 42761.131 | U20: ='Initial Fee Calculation'!$L$8 -> 1103.7304 | X20: 0 | Y20: =U20+X20+Y19+W20 -> 10203.92 | AA20: ='Initial Fee Calculation'!$L$9 -> 1694.6357 | AD20: 0 | AE20: =AA20+AD20+AE19+AC20 -> 15666.803 | AG20: ='Initial Fee Calculation'!$L$10 -> 10486.181 | AJ20: 0 | AK20: =AG20+AJ20+AK19+AI20 -> 96944.094 | AM20: ='Initial Fee Calculation'!$L$16 -> 1237510.1 | AN20: =-Input!$C$24 -> -950000 | AO20: =AM20+AO19+AN20 -> 4844374.4
B21: =EOMONTH(B20,0)+1 -> 46266 | C21: ='Initial Fee Calculation'!$L$16 -> 1237510.1 | F21: =L21+R21+X21+AD21+AJ21 -> -950000 | G21: =M21+S21+Y21+AE21+AK21 -> 5131884.5 | I21: ='Initial Fee Calculation'!$L$6 -> 1219600.2 | L21: -950000 | M21: =I21+L21+M20+K21 -> 4948398.6 | O21: ='Initial Fee Calculation'!$L$7 -> 4625.356 | R21: 0 | S21: =O21+R21+S20+Q21 -> 47386.487 | U21: ='Initial Fee Calculation'!$L$8 -> 1103.7304 | X21: 0 | Y21: =U21+X21+Y20+W21 -> 11307.65 | AA21: ='Initial Fee Calculation'!$L$9 -> 1694.6357 | AD21: 0 | AE21: =AA21+AD21+AE20+AC21 -> 17361.438 | AG21: ='Initial Fee Calculation'!$L$10 -> 10486.181 | AJ21: 0 | AK21: =AG21+AJ21+AK20+AI21 -> 107430.27 | AM21: ='Initial Fee Calculation'!$L$16 -> 1237510.1 | AN21: =-Input!$C$24 -> -950000 | AO21: =AM21+AO20+AN21 -> 5131884.5
B22: =EOMONTH(B21,0)+1 -> 46296 | C22: ='Initial Fee Calculation'!$L$16 -> 1237510.1 | F22: =L22+R22+X22+AD22+AJ22 -> -950000 | G22: =M22+S22+Y22+AE22+AK22 -> 5419394.6 | I22: ='Initial Fee Calculation'!$L$6 -> 1219600.2 | L22: -950000 | M22: =I22+L22+M21+K22 -> 5217998.8 | O22: ='Initial Fee Calculation'!$L$7 -> 4625.356 | R22: 0 | S22: =O22+R22+S21+Q22 -> 52011.843 | U22: ='Initial Fee Calculation'!$L$8 -> 1103.7304 | X22: 0 | Y22: =U22+X22+Y21+W22 -> 12411.381 | AA22: ='Initial Fee Calculation'!$L$9 -> 1694.6357 | AD22: 0 | AE22: =AA22+AD22+AE21+AC22 -> 19056.074 | AG22: ='Initial Fee Calculation'!$L$10 -> 10486.181 | AJ22: 0 | AK22: =AG22+AJ22+AK21+AI22 -> 117916.46 | AM22: ='Initial Fee Calculation'!$L$16 -> 1237510.1 | AN22: =-Input!$C$24 -> -950000 | AO22: =AM22+AO21+AN22 -> 5419394.6
B23: =EOMONTH(B22,0)+1 -> 46327 | C23: ='Initial Fee Calculation'!$L$16 -> 1237510.1 | F23: =L23+R23+X23+AD23+AJ23 -> -950000 | G23: =M23+S23+Y23+AE23+AK23 -> 5706904.7 | I23: ='Initial Fee Calculation'!$L$6 -> 1219600.2 | L23: -950000 | M23: =I23+L23+M22+K23 -> 5487599 | O23: ='Initial Fee Calculation'!$L$7 -> 4625.356 | R23: 0 | S23: =O23+R23+S22+Q23 -> 56637.199 | U23: ='Initial Fee Calculation'!$L$8 -> 1103.7304 | X23: 0 | Y23: =U23+X23+Y22+W23 -> 13515.111 | AA23: ='Initial Fee Calculation'!$L$9 -> 1694.6357 | AD23: 0 | AE23: =AA23+AD23+AE22+AC23 -> 20750.71 | AG23: ='Initial Fee Calculation'!$L$10 -> 10486.181 | AJ23: 0 | AK23: =AG23+AJ23+AK22+AI23 -> 128402.64 | AM23: ='Initial Fee Calculation'!$L$16 -> 1237510.1 | AN23: =-Input!$C$24 -> -950000 | AO23: =AM23+AO22+AN23 -> 5706904.7
A24: Implementation Month | B24: =EOMONTH(B23,0)+1 -> 46357 | C24: ='Initial Fee Calculation'!$L$16 -> 1237510.1 | E24: =K24+Q24+W24+AC24+AI24 -> 0 | F24: =L24+R24+X24+AD24+AJ24 -> -2664236.2 | G24: =M24+S24+Y24+AE24+AK24 -> 4280178.5 | I24: ='Initial Fee Calculation'!$L$6 -> 1219600.2 | K24: =-IFERROR(IF((DATEDIF($B$24,$B24,"M"))<'Fee Recovery Calculation'!$J$4,'Fee Recovery Calculation'!$N$4,0)/('Fee Recovery Calculation'!$J$4),0) -> 0 | L24: =-IF((DATEDIF($B$24,$B24,"M"))<'Fee Recovery Calculation'!$J$4,'Fee Recovery Calculation'!$P$4,0) -> -2591499.9 | M24: =I24+L24+M23+J24 -> 4115699.3 | O24: ='Initial Fee Calculation'!$L$7 -> 4625.356 | Q24: =-IFERROR(IF((DATEDIF($B$24,$B24,"M"))<'Fee Recovery Calculation'!$J$4,'Fee Recovery Calculation'!$N$5,0)/('Fee Recovery Calculation'!$J$5),0) -> 0 | R24: =-IF((DATEDIF($B$24,$B24,"M"))<'Fee Recovery Calculation'!$J$4,'Fee Recovery Calculation'!$P$5,0) -> -18784.656 | S24: =O24+R24+S23+P24 -> 42477.899 | U24: ='Initial Fee Calculation'!$L$8 -> 1103.7304 | W24: =-IFERROR(IF((DATEDIF($B$24,$B24,"M"))<'Fee Recovery Calculation'!$J$4,'Fee Recovery Calculation'!$N$6,0)/('Fee Recovery Calculation'!$J$6),0) -> 0 | X24: =-IF((DATEDIF($B$24,$B24,"M"))<'Fee Recovery Calculation'!$J$4,'Fee Recovery Calculation'!$P$6,0) -> -4482.5082 | Y24: =U24+X24+Y23+V24 -> 10136.333 | AA24: ='Initial Fee Calculation'!$L$9 -> 1694.6357 | AC24: =-IFERROR(IF((DATEDIF($B$24,$B24,"M"))<'Fee Recovery Calculation'!$J$4,'Fee Recovery Calculation'!$N$7,0)/('Fee Recovery Calculation'!$J$7),0) -> 0 | AD24: =-IF((DATEDIF($B$24,$B24,"M"))<'Fee Recovery Calculation'!$J$4,'Fee Recovery Calculation'!$P$7,0) -> -6882.3132 | AE24: =AA24+AD24+AE23+AB24 -> 15563.032 | AG24: ='Initial Fee Calculation'!$L$10 -> 10486.181 | AI24: =-IFERROR(IF((DATEDIF($B$24,$B24,"M"))<'Fee Recovery Calculation'!$J$4,'Fee Recovery Calculation'!$N$8,0)/('Fee Recovery Calculation'!$J$8),0) -> 0 | AJ24: =-IF((DATEDIF($B$24,$B24,"M"))<'Fee Recovery Calculation'!$J$4,'Fee Recovery Calculation'!$P$8,0) -> -42586.84 | AK24: =AG24+AJ24+AK23+AH24 -> 96301.977 | AM24: ='Initial Fee Calculation'!$L$16 -> 1237510.1 | AN24: =-IF((DATEDIF($B$24,$B24,"M"))<'Fee Recovery Calculation'!$J$4,'Fee Recovery Calculation'!$K$13,0) -> -2664236.2 | AO24: =AM24+AO23+AN24 -> 4280178.5
B25: =EOMONTH(B24,0)+1 -> 46388 | C25: ='Initial Fee Calculation'!$L$16 -> 1237510.1 | E25: =K25+Q25+W25+AC25+AI25 -> 0 | F25: =L25+R25+X25+AD25+AJ25 -> -2664236.2 | G25: =M25+S25+Y25+AE25+AK25 -> 2853452.3 | I25: ='Initial Fee Calculation'!$L$6 -> 1219600.2 | K25: =-IFERROR(IF((DATEDIF($B$24,$B25,"M"))<'Fee Recovery Calculation'!$J$4,'Fee Recovery Calculation'!$N$4,0)/('Fee Recovery Calculation'!$J$4),0) -> 0 | L25: =-IF((DATEDIF($B$24,$B25,"M"))<'Fee Recovery Calculation'!$J$4,'Fee Recovery Calculation'!$P$4,0) -> -2591499.9 | M25: =I25+L25+M24+J25 -> 2743799.5 | O25: ='Initial Fee Calculation'!$L$7 -> 4625.356 | Q25: =-IFERROR(IF((DATEDIF($B$24,$B25,"M"))<'Fee Recovery Calculation'!$J$4,'Fee Recovery Calculation'!$N$5,0)/('Fee Recovery Calculation'!$J$5),0) -> 0 | R25: =-IF((DATEDIF($B$24,$B25,"M"))<'Fee Recovery Calculation'!$J$4,'Fee Recovery Calculation'!$P$5,0) -> -18784.656 | S25: =O25+R25+S24+P25 -> 28318.599 | U25: ='Initial Fee Calculation'!$L$8 -> 1103.7304 | W25: =-IFERROR(IF((DATEDIF($B$24,$B25,"M"))<'Fee Recovery Calculation'!$J$4,'Fee Recovery Calculation'!$N$6,0)/('Fee Recovery Calculation'!$J$6),0) -> 0 | X25: =-IF((DATEDIF($B$24,$B25,"M"))<'Fee Recovery Calculation'!$J$4,'Fee Recovery Calculation'!$P$6,0) -> -4482.5082 | Y25: =U25+X25+Y24+V25 -> 6757.5555 | AA25: ='Initial Fee Calculation'!$L$9 -> 1694.6357 | AC25: =-IFERROR(IF((DATEDIF($B$24,$B25,"M"))<'Fee Recovery Calculation'!$J$4,'Fee Recovery Calculation'!$N$7,0)/('Fee Recovery Calculation'!$J$7),0) -> 0 | AD25: =-IF((DATEDIF($B$24,$B25,"M"))<'Fee Recovery Calculation'!$J$4,'Fee Recovery Calculation'!$P$7,0) -> -6882.3132 | AE25: =AA25+AD25+AE24+AB25 -> 10375.355 | AG25: ='Initial Fee Calculation'!$L$10 -> 10486.181 | AI25: =-IFERROR(IF((DATEDIF($B$24,$B25,"M"))<'Fee Recovery Calculation'!$J$4,'Fee Recovery Calculation'!$N$8,0)/('Fee Recovery Calculation'!$J$8),0) -> 0 | AJ25: =-IF((DATEDIF($B$24,$B25,"M"))<'Fee Recovery Calculation'!$J$4,'Fee Recovery Calculation'!$P$8,0) -> -42586.84 | AK25: =AG25+AJ25+AK24+AH25 -> 64201.318 | AM25: ='Initial Fee Calculation'!$L$16 -> 1237510.1 | AN25: =-IF((DATEDIF($B$24,$B25,"M"))<'Fee Recovery Calculation'!$J$4,'Fee Recovery Calculation'!$K$13,0) -> -2664236.2 | AO25: =AM25+AO24+AN25 -> 2853452.3
B26: =EOMONTH(B25,0)+1 -> 46419 | C26: ='Initial Fee Calculation'!$L$16 -> 1237510.1 | E26: =K26+Q26+W26+AC26+AI26 -> 0 | F26: =L26+R26+X26+AD26+AJ26 -> -2664236.2 | G26: =M26+S26+Y26+AE26+AK26 -> 1426726.2 | I26: ='Initial Fee Calculation'!$L$6 -> 1219600.2 | K26: =-IFERROR(IF((DATEDIF($B$24,$B26,"M"))<'Fee Recovery Calculation'!$J$4,'Fee Recovery Calculation'!$N$4,0)/('Fee Recovery Calculation'!$J$4),0) -> 0 | L26: =-IF((DATEDIF($B$24,$B26,"M"))<'Fee Recovery Calculation'!$J$4,'Fee Recovery Calculation'!$P$4,0) -> -2591499.9 | M26: =I26+L26+M25+J26 -> 1371899.8 | O26: ='Initial Fee Calculation'!$L$7 -> 4625.356 | Q26: =-IFERROR(IF((DATEDIF($B$24,$B26,"M"))<'Fee Recovery Calculation'!$J$4,'Fee Recovery Calculation'!$N$5,0)/('Fee Recovery Calculation'!$J$5),0) -> 0 | R26: =-IF((DATEDIF($B$24,$B26,"M"))<'Fee Recovery Calculation'!$J$4,'Fee Recovery Calculation'!$P$5,0) -> -18784.656 | S26: =O26+R26+S25+P26 -> 14159.3 | U26: ='Initial Fee Calculation'!$L$8 -> 1103.7304 | W26: =-IFERROR(IF((DATEDIF($B$24,$B26,"M"))<'Fee Recovery Calculation'!$J$4,'Fee Recovery Calculation'!$N$6,0)/('Fee Recovery Calculation'!$J$6),0) -> 0 | X26: =-IF((DATEDIF($B$24,$B26,"M"))<'Fee Recovery Calculation'!$J$4,'Fee Recovery Calculation'!$P$6,0) -> -4482.5082 | Y26: =U26+X26+Y25+V26 -> 3378.7778 | AA26: ='Initial Fee Calculation'!$L$9 -> 1694.6357 | AC26: =-IFERROR(IF((DATEDIF($B$24,$B26,"M"))<'Fee Recovery Calculation'!$J$4,'Fee Recovery Calculation'!$N$7,0)/('Fee Recovery Calculation'!$J$7),0) -> 0 | AD26: =-IF((DATEDIF($B$24,$B26,"M"))<'Fee Recovery Calculation'!$J$4,'Fee Recovery Calculation'!$P$7,0) -> -6882.3132 | AE26: =AA26+AD26+AE25+AB26 -> 5187.6775 | AG26: ='Initial Fee Calculation'!$L$10 -> 10486.181 | AI26: =-IFERROR(IF((DATEDIF($B$24,$B26,"M"))<'Fee Recovery Calculation'!$J$4,'Fee Recovery Calculation'!$N$8,0)/('Fee Recovery Calculation'!$J$8),0) -> 0 | AJ26: =-IF((DATEDIF($B$24,$B26,"M"))<'Fee Recovery Calculation'!$J$4,'Fee Recovery Calculation'!$P$8,0) -> -42586.84 | AK26: =AG26+AJ26+AK25+AH26 -> 32100.659 | AM26: ='Initial Fee Calculation'!$L$16 -> 1237510.1 | AN26: =-IF((DATEDIF($B$24,$B26,"M"))<'Fee Recovery Calculation'!$J$4,'Fee Recovery Calculation'!$K$13,0) -> -2664236.2 | AO26: =AM26+AO25+AN26 -> 1426726.2
A27: Unrecovered Revenue collection End Month | B27: =EOMONTH(B26,0)+1 -> 46447 | C27: ='Initial Fee Calculation'!$L$16 -> 1237510.1 | E27: =K27+Q27+W27+AC27+AI27 -> 0 | F27: =L27+R27+X27+AD27+AJ27 -> -2664236.2 | G27: =M27+S27+Y27+AE27+AK27 -> 3.6379788e-11 | I27: ='Initial Fee Calculation'!$L$6 -> 1219600.2 | K27: =-IFERROR(IF((DATEDIF($B$24,$B27,"M"))<'Fee Recovery Calculation'!$J$4,'Fee Recovery Calculation'!$N$4,0)/('Fee Recovery Calculation'!$J$4),0) -> 0 | L27: =-IF((DATEDIF($B$24,$B27,"M"))<'Fee Recovery Calculation'!$J$4,'Fee Recovery Calculation'!$P$4,0) -> -2591499.9 | M27: =I27+L27+M26+J27 -> 0 | O27: ='Initial Fee Calculation'!$L$7 -> 4625.356 | P27: ='Fee Recovery Calculation'!$M$5*'Fee Recovery Calculation by MP'!$AP27 -> 0 | Q27: =-IFERROR(IF((DATEDIF($B$24,$B27,"M"))<'Fee Recovery Calculation'!$J$4,'Fee Recovery Calculation'!$N$5,0)/('Fee Recovery Calculation'!$J$5),0) -> 0 | R27: =-IF((DATEDIF($B$24,$B27,"M"))<'Fee Recovery Calculation'!$J$4,'Fee Recovery Calculation'!$P$5,0) -> -18784.656 | S27: =O27+R27+S26+P27 -> -1.8189894e-11 | U27: ='Initial Fee Calculation'!$L$8 -> 1103.7304 | W27: =-IFERROR(IF((DATEDIF($B$24,$B27,"M"))<'Fee Recovery Calculation'!$J$4,'Fee Recovery Calculation'!$N$6,0)/('Fee Recovery Calculation'!$J$6),0) -> 0 | X27: =-IF((DATEDIF($B$24,$B27,"M"))<'Fee Recovery Calculation'!$J$4,'Fee Recovery Calculation'!$P$6,0) -> -4482.5082 | Y27: =U27+X27+Y26+V27 -> 1.8189894e-12 | AA27: ='Initial Fee Calculation'!$L$9 -> 1694.6357 | AC27: =-IFERROR(IF((DATEDIF($B$24,$B27,"M"))<'Fee Recovery Calculation'!$J$4,'Fee Recovery Calculation'!$N$7,0)/('Fee Recovery Calculation'!$J$7),0) -> 0 | AD27: =-IF((DATEDIF($B$24,$B27,"M"))<'Fee Recovery Calculation'!$J$4,'Fee Recovery Calculation'!$P$7,0) -> -6882.3132 | AE27: =AA27+AD27+AE26+AB27 -> 1.8189894e-12 | AG27: ='Initial Fee Calculation'!$L$10 -> 10486.181 | AI27: =-IFERROR(IF((DATEDIF($B$24,$B27,"M"))<'Fee Recovery Calculation'!$J$4,'Fee Recovery Calculation'!$N$8,0)/('Fee Recovery Calculation'!$J$8),0) -> 0 | AJ27: =-IF((DATEDIF($B$24,$B27,"M"))<'Fee Recovery Calculation'!$J$4,'Fee Recovery Calculation'!$P$8,0) -> -42586.84 | AK27: =AG27+AJ27+AK26+AH27 -> 5.0931703e-11 | AM27: ='Initial Fee Calculation'!$L$16 -> 1237510.1 | AN27: =-IF((DATEDIF($B$24,$B27,"M"))<'Fee Recovery Calculation'!$J$4,'Fee Recovery Calculation'!$K$13,0) -> -2664236.2 | AO27: =AM27+AO26+AN27 -> 0
B28: =EOMONTH(B27,0)+1 -> 46478 | D28: =J28+P28+V28+AB28+AH28 -> 0 | E28: =K28+Q28+W28+AC28+AI28 -> 0 | F28: =L28+R28+X28+AD28+AJ28 -> 0 | G28: =M28+S28+Y28+AE28+AK28 -> 3.6379788e-11 | J28: ='Fee Recovery Calculation'!$M$4*'Fee Recovery Calculation by MP'!$AP28 -> 0 | K28: =-IFERROR(IF((DATEDIF($B$24,$B28,"M"))<'Fee Recovery Calculation'!$J$4,'Fee Recovery Calculation'!$N$4,0)/('Fee Recovery Calculation'!$J$4),0) -> 0 | L28: =-IF((DATEDIF($B$24,$B28,"M"))<'Fee Recovery Calculation'!$J$4,'Fee Recovery Calculation'!$P$4,0) -> 0 | M28: =I28+L28+M27+J28 -> 0 | P28: ='Fee Recovery Calculation'!$M$5*'Fee Recovery Calculation by MP'!$AP28 -> 0 | Q28: =-IFERROR(IF((DATEDIF($B$24,$B28,"M"))<'Fee Recovery Calculation'!$J$4,'Fee Recovery Calculation'!$N$5,0)/('Fee Recovery Calculation'!$J$5),0) -> 0 | R28: =-IF((DATEDIF($B$24,$B28,"M"))<'Fee Recovery Calculation'!$J$4,'Fee Recovery Calculation'!$P$5,0) -> 0 | S28: =O28+R28+S27+P28 -> -1.8189894e-11 | V28: ='Fee Recovery Calculation'!$M$6*'Fee Recovery Calculation by MP'!$AP28 -> 0 | W28: =-IFERROR(IF((DATEDIF($B$24,$B28,"M"))<'Fee Recovery Calculation'!$J$4,'Fee Recovery Calculation'!$N$6,0)/('Fee Recovery Calculation'!$J$6),0) -> 0 | X28: =-IF((DATEDIF($B$24,$B28,"M"))<'Fee Recovery Calculation'!$J$4,'Fee Recovery Calculation'!$P$6,0) -> 0 | Y28: =U28+X28+Y27+V28 -> 1.8189894e-12 | AB28: ='Fee Recovery Calculation'!$M$7*'Fee Recovery Calculation by MP'!$AP28 -> 0 | AC28: =-IFERROR(IF((DATEDIF($B$24,$B28,"M"))<'Fee Recovery Calculation'!$J$4,'Fee Recovery Calculation'!$N$7,0)/('Fee Recovery Calculation'!$J$7),0) -> 0 | AD28: =-IF((DATEDIF($B$24,$B28,"M"))<'Fee Recovery Calculation'!$J$4,'Fee Recovery Calculation'!$P$7,0) -> 0 | AE28: =AA28+AD28+AE27+AB28 -> 1.8189894e-12 | AH28: ='Fee Recovery Calculation'!$M$8*'Fee Recovery Calculation by MP'!$AP28 -> 0 | AI28: =-IFERROR(IF((DATEDIF($B$24,$B28,"M"))<'Fee Recovery Calculation'!$J$4,'Fee Recovery Calculation'!$N$8,0)/('Fee Recovery Calculation'!$J$8),0) -> 0 | AJ28: =-IF((DATEDIF($B$24,$B28,"M"))<'Fee Recovery Calculation'!$J$4,'Fee Recovery Calculation'!$P$8,0) -> 0 | AK28: =AG28+AJ28+AK27+AH28 -> 5.0931703e-11 | AN28: =-IF((DATEDIF($B$24,$B28,"M"))<'Fee Recovery Calculation'!$J$4,'Fee Recovery Calculation'!$K$13,0) -> 0 | AO28: =AM28+AO27+AN28 -> 0 | AP28: =IF(ROUND(AN28,0)=0,0,(AO27+SUM($AP$27:AP27))*'Fee Recovery Calculation'!$R$4/12) -> 0
B29: =EOMONTH(B28,0)+1 -> 46508 | D29: =J29+P29+V29+AB29+AH29 -> 0 | E29: =K29+Q29+W29+AC29+AI29 -> 0 | F29: =L29+R29+X29+AD29+AJ29 -> 0 | G29: =M29+S29+Y29+AE29+AK29 -> 3.6379788e-11 | J29: ='Fee Recovery Calculation'!$M$4*'Fee Recovery Calculation by MP'!$AP29 -> 0 | K29: =-IFERROR(IF((DATEDIF($B$24,$B29,"M"))<'Fee Recovery Calculation'!$J$4,'Fee Recovery Calculation'!$N$4,0)/('Fee Recovery Calculation'!$J$4),0) -> 0 | L29: =-IF((DATEDIF($B$24,$B29,"M"))<'Fee Recovery Calculation'!$J$4,'Fee Recovery Calculation'!$P$4,0) -> 0 | M29: =I29+L29+M28+J29 -> 0 | P29: ='Fee Recovery Calculation'!$M$5*'Fee Recovery Calculation by MP'!$AP29 -> 0 | Q29: =-IFERROR(IF((DATEDIF($B$24,$B29,"M"))<'Fee Recovery Calculation'!$J$4,'Fee Recovery Calculation'!$N$5,0)/('Fee Recovery Calculation'!$J$5),0) -> 0 | R29: =-IF((DATEDIF($B$24,$B29,"M"))<'Fee Recovery Calculation'!$J$4,'Fee Recovery Calculation'!$P$5,0) -> 0 | S29: =O29+R29+S28+P29 -> -1.8189894e-11 | V29: ='Fee Recovery Calculation'!$M$6*'Fee Recovery Calculation by MP'!$AP29 -> 0 | W29: =-IFERROR(IF((DATEDIF($B$24,$B29,"M"))<'Fee Recovery Calculation'!$J$4,'Fee Recovery Calculation'!$N$6,0)/('Fee Recovery Calculation'!$J$6),0) -> 0 | X29: =-IF((DATEDIF($B$24,$B29,"M"))<'Fee Recovery Calculation'!$J$4,'Fee Recovery Calculation'!$P$6,0) -> 0 | Y29: =U29+X29+Y28+V29 -> 1.8189894e-12 | AB29: ='Fee Recovery Calculation'!$M$7*'Fee Recovery Calculation by MP'!$AP29 -> 0 | AC29: =-IFERROR(IF((DATEDIF($B$24,$B29,"M"))<'Fee Recovery Calculation'!$J$4,'Fee Recovery Calculation'!$N$7,0)/('Fee Recovery Calculation'!$J$7),0) -> 0 | AD29: =-IF((DATEDIF($B$24,$B29,"M"))<'Fee Recovery Calculation'!$J$4,'Fee Recovery Calculation'!$P$7,0) -> 0 | AE29: =AA29+AD29+AE28+AB29 -> 1.8189894e-12 | AH29: ='Fee Recovery Calculation'!$M$8*'Fee Recovery Calculation by MP'!$AP29 -> 0 | AI29: =-IFERROR(IF((DATEDIF($B$24,$B29,"M"))<'Fee Recovery Calculation'!$J$4,'Fee Recovery Calculation'!$N$8,0)/('Fee Recovery Calculation'!$J$8),0) -> 0 | AJ29: =-IF((DATEDIF($B$24,$B29,"M"))<'Fee Recovery Calculation'!$J$4,'Fee Recovery Calculation'!$P$8,0) -> 0 | AK29: =AG29+AJ29+AK28+AH29 -> 5.0931703e-11 | AN29: =-IF((DATEDIF($B$24,$B29,"M"))<'Fee Recovery Calculation'!$J$4,'Fee Recovery Calculation'!$K$13,0) -> 0 | AO29: =AM29+AO28+AN29 -> 0 | AP29: =IF(ROUND(AN29,0)=0,0,(AO28+SUM($AP$27:AP28))*'Fee Recovery Calculation'!$R$4/12) -> 0
B30: =EOMONTH(B29,0)+1 -> 46539 | D30: =J30+P30+V30+AB30+AH30 -> 0 | E30: =K30+Q30+W30+AC30+AI30 -> 0 | F30: =L30+R30+X30+AD30+AJ30 -> 0 | G30: =M30+S30+Y30+AE30+AK30 -> 3.6379788e-11 | J30: ='Fee Recovery Calculation'!$M$4*'Fee Recovery Calculation by MP'!$AP30 -> 0 | K30: =-IFERROR(IF((DATEDIF($B$24,$B30,"M"))<'Fee Recovery Calculation'!$J$4,'Fee Recovery Calculation'!$N$4,0)/('Fee Recovery Calculation'!$J$4),0) -> 0 | L30: =-IF((DATEDIF($B$24,$B30,"M"))<'Fee Recovery Calculation'!$J$4,'Fee Recovery Calculation'!$P$4,0) -> 0 | M30: =I30+L30+M29+J30 -> 0 | P30: ='Fee Recovery Calculation'!$M$5*'Fee Recovery Calculation by MP'!$AP30 -> 0 | Q30: =-IFERROR(IF((DATEDIF($B$24,$B30,"M"))<'Fee Recovery Calculation'!$J$4,'Fee Recovery Calculation'!$N$5,0)/('Fee Recovery Calculation'!$J$5),0) -> 0 | R30: =-IF((DATEDIF($B$24,$B30,"M"))<'Fee Recovery Calculation'!$J$4,'Fee Recovery Calculation'!$P$5,0) -> 0 | S30: =O30+R30+S29+P30 -> -1.8189894e-11 | V30: ='Fee Recovery Calculation'!$M$6*'Fee Recovery Calculation by MP'!$AP30 -> 0 | W30: =-IFERROR(IF((DATEDIF($B$24,$B30,"M"))<'Fee Recovery Calculation'!$J$4,'Fee Recovery Calculation'!$N$6,0)/('Fee Recovery Calculation'!$J$6),0) -> 0 | X30: =-IF((DATEDIF($B$24,$B30,"M"))<'Fee Recovery Calculation'!$J$4,'Fee Recovery Calculation'!$P$6,0) -> 0 | Y30: =U30+X30+Y29+V30 -> 1.8189894e-12 | AB30: ='Fee Recovery Calculation'!$M$7*'Fee Recovery Calculation by MP'!$AP30 -> 0 | AC30: =-IFERROR(IF((DATEDIF($B$24,$B30,"M"))<'Fee Recovery Calculation'!$J$4,'Fee Recovery Calculation'!$N$7,0)/('Fee Recovery Calculation'!$J$7),0) -> 0 | AD30: =-IF((DATEDIF($B$24,$B30,"M"))<'Fee Recovery Calculation'!$J$4,'Fee Recovery Calculation'!$P$7,0) -> 0 | AE30: =AA30+AD30+AE29+AB30 -> 1.8189894e-12 | AH30: ='Fee Recovery Calculation'!$M$8*'Fee Recovery Calculation by MP'!$AP30 -> 0 | AI30: =-IFERROR(IF((DATEDIF($B$24,$B30,"M"))<'Fee Recovery Calculation'!$J$4,'Fee Recovery Calculation'!$N$8,0)/('Fee Recovery Calculation'!$J$8),0) -> 0 | AJ30: =-IF((DATEDIF($B$24,$B30,"M"))<'Fee Recovery Calculation'!$J$4,'Fee Recovery Calculation'!$P$8,0) -> 0 | AK30: =AG30+AJ30+AK29+AH30 -> 5.0931703e-11 | AN30: =-IF((DATEDIF($B$24,$B30,"M"))<'Fee Recovery Calculation'!$J$4,'Fee Recovery Calculation'!$K$13,0) -> 0 | AO30: =AM30+AO29+AN30 -> 0 | AP30: =IF(ROUND(AN30,0)=0,0,(AO29+SUM($AP$27:AP29))*'Fee Recovery Calculation'!$R$4/12) -> 0
B31: =EOMONTH(B30,0)+1 -> 46569 | D31: =J31+P31+V31+AB31+AH31 -> 0 | E31: =K31+Q31+W31+AC31+AI31 -> 0 | F31: =L31+R31+X31+AD31+AJ31 -> 0 | G31: =M31+S31+Y31+AE31+AK31 -> 3.6379788e-11 | J31: ='Fee Recovery Calculation'!$M$4*'Fee Recovery Calculation by MP'!$AP31 -> 0 | K31: =-IFERROR(IF((DATEDIF($B$24,$B31,"M"))<'Fee Recovery Calculation'!$J$4,'Fee Recovery Calculation'!$N$4,0)/('Fee Recovery Calculation'!$J$4),0) -> 0 | L31: =-IF((DATEDIF($B$24,$B31,"M"))<'Fee Recovery Calculation'!$J$4,'Fee Recovery Calculation'!$P$4,0) -> 0 | M31: =I31+L31+M30+J31 -> 0 | P31: ='Fee Recovery Calculation'!$M$5*'Fee Recovery Calculation by MP'!$AP31 -> 0 | Q31: =-IFERROR(IF((DATEDIF($B$24,$B31,"M"))<'Fee Recovery Calculation'!$J$4,'Fee Recovery Calculation'!$N$5,0)/('Fee Recovery Calculation'!$J$5),0) -> 0 | R31: =-IF((DATEDIF($B$24,$B31,"M"))<'Fee Recovery Calculation'!$J$4,'Fee Recovery Calculation'!$P$5,0) -> 0 | S31: =O31+R31+S30+P31 -> -1.8189894e-11 | V31: ='Fee Recovery Calculation'!$M$6*'Fee Recovery Calculation by MP'!$AP31 -> 0 | W31: =-IFERROR(IF((DATEDIF($B$24,$B31,"M"))<'Fee Recovery Calculation'!$J$4,'Fee Recovery Calculation'!$N$6,0)/('Fee Recovery Calculation'!$J$6),0) -> 0 | X31: =-IF((DATEDIF($B$24,$B31,"M"))<'Fee Recovery Calculation'!$J$4,'Fee Recovery Calculation'!$P$6,0) -> 0 | Y31: =U31+X31+Y30+V31 -> 1.8189894e-12 | AB31: ='Fee Recovery Calculation'!$M$7*'Fee Recovery Calculation by MP'!$AP31 -> 0 | AC31: =-IFERROR(IF((DATEDIF($B$24,$B31,"M"))<'Fee Recovery Calculation'!$J$4,'Fee Recovery Calculation'!$N$7,0)/('Fee Recovery Calculation'!$J$7),0) -> 0 | AD31: =-IF((DATEDIF($B$24,$B31,"M"))<'Fee Recovery Calculation'!$J$4,'Fee Recovery Calculation'!$P$7,0) -> 0 | AE31: =AA31+AD31+AE30+AB31 -> 1.8189894e-12 | AH31: ='Fee Recovery Calculation'!$M$8*'Fee Recovery Calculation by MP'!$AP31 -> 0 | AI31: =-IFERROR(IF((DATEDIF($B$24,$B31,"M"))<'Fee Recovery Calculation'!$J$4,'Fee Recovery Calculation'!$N$8,0)/('Fee Recovery Calculation'!$J$8),0) -> 0 | AJ31: =-IF((DATEDIF($B$24,$B31,"M"))<'Fee Recovery Calculation'!$J$4,'Fee Recovery Calculation'!$P$8,0) -> 0 | AK31: =AG31+AJ31+AK30+AH31 -> 5.0931703e-11 | AN31: =-IF((DATEDIF($B$24,$B31,"M"))<'Fee Recovery Calculation'!$J$4,'Fee Recovery Calculation'!$K$13,0) -> 0 | AO31: =AM31+AO30+AN31 -> 0 | AP31: =IF(ROUND(AN31,0)=0,0,(AO30+SUM($AP$27:AP30))*'Fee Recovery Calculation'!$R$4/12) -> 0
B32: =EOMONTH(B31,0)+1 -> 46600 | D32: =J32+P32+V32+AB32+AH32 -> 0 | E32: =K32+Q32+W32+AC32+AI32 -> 0 | F32: =L32+R32+X32+AD32+AJ32 -> 0 | G32: =M32+S32+Y32+AE32+AK32 -> 3.6379788e-11 | J32: ='Fee Recovery Calculation'!$M$4*'Fee Recovery Calculation by MP'!$AP32 -> 0 | K32: =-IFERROR(IF((DATEDIF($B$24,$B32,"M"))<'Fee Recovery Calculation'!$J$4,'Fee Recovery Calculation'!$N$4,0)/('Fee Recovery Calculation'!$J$4),0) -> 0 | L32: =-IF((DATEDIF($B$24,$B32,"M"))<'Fee Recovery Calculation'!$J$4,'Fee Recovery Calculation'!$P$4,0) -> 0 | M32: =I32+L32+M31+J32 -> 0 | P32: ='Fee Recovery Calculation'!$M$5*'Fee Recovery Calculation by MP'!$AP32 -> 0 | Q32: =-IFERROR(IF((DATEDIF($B$24,$B32,"M"))<'Fee Recovery Calculation'!$J$4,'Fee Recovery Calculation'!$N$5,0)/('Fee Recovery Calculation'!$J$5),0) -> 0 | R32: =-IF((DATEDIF($B$24,$B32,"M"))<'Fee Recovery Calculation'!$J$4,'Fee Recovery Calculation'!$P$5,0) -> 0 | S32: =O32+R32+S31+P32 -> -1.8189894e-11 | V32: ='Fee Recovery Calculation'!$M$6*'Fee Recovery Calculation by MP'!$AP32 -> 0 | W32: =-IFERROR(IF((DATEDIF($B$24,$B32,"M"))<'Fee Recovery Calculation'!$J$4,'Fee Recovery Calculation'!$N$6,0)/('Fee Recovery Calculation'!$J$6),0) -> 0 | X32: =-IF((DATEDIF($B$24,$B32,"M"))<'Fee Recovery Calculation'!$J$4,'Fee Recovery Calculation'!$P$6,0) -> 0 | Y32: =U32+X32+Y31+V32 -> 1.8189894e-12 | AB32: ='Fee Recovery Calculation'!$M$7*'Fee Recovery Calculation by MP'!$AP32 -> 0 | AC32: =-IFERROR(IF((DATEDIF($B$24,$B32,"M"))<'Fee Recovery Calculation'!$J$4,'Fee Recovery Calculation'!$N$7,0)/('Fee Recovery Calculation'!$J$7),0) -> 0 | AD32: =-IF((DATEDIF($B$24,$B32,"M"))<'Fee Recovery Calculation'!$J$4,'Fee Recovery Calculation'!$P$7,0) -> 0 | AE32: =AA32+AD32+AE31+AB32 -> 1.8189894e-12 | AH32: ='Fee Recovery Calculation'!$M$8*'Fee Recovery Calculation by MP'!$AP32 -> 0 | AI32: =-IFERROR(IF((DATEDIF($B$24,$B32,"M"))<'Fee Recovery Calculation'!$J$4,'Fee Recovery Calculation'!$N$8,0)/('Fee Recovery Calculation'!$J$8),0) -> 0 | AJ32: =-IF((DATEDIF($B$24,$B32,"M"))<'Fee Recovery Calculation'!$J$4,'Fee Recovery Calculation'!$P$8,0) -> 0 | AK32: =AG32+AJ32+AK31+AH32 -> 5.0931703e-11 | AN32: =-IF((DATEDIF($B$24,$B32,"M"))<'Fee Recovery Calculation'!$J$4,'Fee Recovery Calculation'!$K$13,0) -> 0 | AO32: =AM32+AO31+AN32 -> 0 | AP32: =IF(ROUND(AN32,0)=0,0,(AO31+SUM($AP$27:AP31))*'Fee Recovery Calculation'!$R$4/12) -> 0
B33: =EOMONTH(B32,0)+1 -> 46631 | D33: =J33+P33+V33+AB33+AH33 -> 0 | E33: =K33+Q33+W33+AC33+AI33 -> 0 | F33: =L33+R33+X33+AD33+AJ33 -> 0 | G33: =M33+S33+Y33+AE33+AK33 -> 3.6379788e-11 | J33: ='Fee Recovery Calculation'!$M$4*'Fee Recovery Calculation by MP'!$AP33 -> 0 | K33: =-IFERROR(IF((DATEDIF($B$24,$B33,"M"))<'Fee Recovery Calculation'!$J$4,'Fee Recovery Calculation'!$N$4,0)/('Fee Recovery Calculation'!$J$4),0) -> 0 | L33: =-IF((DATEDIF($B$24,$B33,"M"))<'Fee Recovery Calculation'!$J$4,'Fee Recovery Calculation'!$P$4,0) -> 0 | M33: =I33+L33+M32+J33 -> 0 | P33: ='Fee Recovery Calculation'!$M$5*'Fee Recovery Calculation by MP'!$AP33 -> 0 | Q33: =-IFERROR(IF((DATEDIF($B$24,$B33,"M"))<'Fee Recovery Calculation'!$J$4,'Fee Recovery Calculation'!$N$5,0)/('Fee Recovery Calculation'!$J$5),0) -> 0 | R33: =-IF((DATEDIF($B$24,$B33,"M"))<'Fee Recovery Calculation'!$J$4,'Fee Recovery Calculation'!$P$5,0) -> 0 | S33: =O33+R33+S32+P33 -> -1.8189894e-11 | V33: ='Fee Recovery Calculation'!$M$6*'Fee Recovery Calculation by MP'!$AP33 -> 0 | W33: =-IFERROR(IF((DATEDIF($B$24,$B33,"M"))<'Fee Recovery Calculation'!$J$4,'Fee Recovery Calculation'!$N$6,0)/('Fee Recovery Calculation'!$J$6),0) -> 0 | X33: =-IF((DATEDIF($B$24,$B33,"M"))<'Fee Recovery Calculation'!$J$4,'Fee Recovery Calculation'!$P$6,0) -> 0 | Y33: =U33+X33+Y32+V33 -> 1.8189894e-12 | AB33: ='Fee Recovery Calculation'!$M$7*'Fee Recovery Calculation by MP'!$AP33 -> 0 | AC33: =-IFERROR(IF((DATEDIF($B$24,$B33,"M"))<'Fee Recovery Calculation'!$J$4,'Fee Recovery Calculation'!$N$7,0)/('Fee Recovery Calculation'!$J$7),0) -> 0 | AD33: =-IF((DATEDIF($B$24,$B33,"M"))<'Fee Recovery Calculation'!$J$4,'Fee Recovery Calculation'!$P$7,0) -> 0 | AE33: =AA33+AD33+AE32+AB33 -> 1.8189894e-12 | AH33: ='Fee Recovery Calculation'!$M$8*'Fee Recovery Calculation by MP'!$AP33 -> 0 | AI33: =-IFERROR(IF((DATEDIF($B$24,$B33,"M"))<'Fee Recovery Calculation'!$J$4,'Fee Recovery Calculation'!$N$8,0)/('Fee Recovery Calculation'!$J$8),0) -> 0 | AJ33: =-IF((DATEDIF($B$24,$B33,"M"))<'Fee Recovery Calculation'!$J$4,'Fee Recovery Calculation'!$P$8,0) -> 0 | AK33: =AG33+AJ33+AK32+AH33 -> 5.0931703e-11 | AN33: =-IF((DATEDIF($B$24,$B33,"M"))<'Fee Recovery Calculation'!$J$4,'Fee Recovery Calculation'!$K$13,0) -> 0 | AO33: =AM33+AO32+AN33 -> 0 | AP33: =IF(ROUND(AN33,0)=0,0,(AO32+SUM($AP$27:AP32))*'Fee Recovery Calculation'!$R$4/12) -> 0
B34: =EOMONTH(B33,0)+1 -> 46661 | D34: =J34+P34+V34+AB34+AH34 -> 0 | E34: =K34+Q34+W34+AC34+AI34 -> 0 | F34: =L34+R34+X34+AD34+AJ34 -> 0 | G34: =M34+S34+Y34+AE34+AK34 -> 3.6379788e-11 | J34: ='Fee Recovery Calculation'!$M$4*'Fee Recovery Calculation by MP'!$AP34 -> 0 | K34: =-IFERROR(IF((DATEDIF($B$24,$B34,"M"))<'Fee Recovery Calculation'!$J$4,'Fee Recovery Calculation'!$N$4,0)/('Fee Recovery Calculation'!$J$4),0) -> 0 | L34: =-IF((DATEDIF($B$24,$B34,"M"))<'Fee Recovery Calculation'!$J$4,'Fee Recovery Calculation'!$P$4,0) -> 0 | M34: =I34+L34+M33+J34 -> 0 | P34: ='Fee Recovery Calculation'!$M$5*'Fee Recovery Calculation by MP'!$AP34 -> 0 | Q34: =-IFERROR(IF((DATEDIF($B$24,$B34,"M"))<'Fee Recovery Calculation'!$J$4,'Fee Recovery Calculation'!$N$5,0)/('Fee Recovery Calculation'!$J$5),0) -> 0 | R34: =-IF((DATEDIF($B$24,$B34,"M"))<'Fee Recovery Calculation'!$J$4,'Fee Recovery Calculation'!$P$5,0) -> 0 | S34: =O34+R34+S33+P34 -> -1.8189894e-11 | V34: ='Fee Recovery Calculation'!$M$6*'Fee Recovery Calculation by MP'!$AP34 -> 0 | W34: =-IFERROR(IF((DATEDIF($B$24,$B34,"M"))<'Fee Recovery Calculation'!$J$4,'Fee Recovery Calculation'!$N$6,0)/('Fee Recovery Calculation'!$J$6),0) -> 0 | X34: =-IF((DATEDIF($B$24,$B34,"M"))<'Fee Recovery Calculation'!$J$4,'Fee Recovery Calculation'!$P$6,0) -> 0 | Y34: =U34+X34+Y33+V34 -> 1.8189894e-12 | AB34: ='Fee Recovery Calculation'!$M$7*'Fee Recovery Calculation by MP'!$AP34 -> 0 | AC34: =-IFERROR(IF((DATEDIF($B$24,$B34,"M"))<'Fee Recovery Calculation'!$J$4,'Fee Recovery Calculation'!$N$7,0)/('Fee Recovery Calculation'!$J$7),0) -> 0 | AD34: =-IF((DATEDIF($B$24,$B34,"M"))<'Fee Recovery Calculation'!$J$4,'Fee Recovery Calculation'!$P$7,0) -> 0 | AE34: =AA34+AD34+AE33+AB34 -> 1.8189894e-12 | AH34: ='Fee Recovery Calculation'!$M$8*'Fee Recovery Calculation by MP'!$AP34 -> 0 | AI34: =-IFERROR(IF((DATEDIF($B$24,$B34,"M"))<'Fee Recovery Calculation'!$J$4,'Fee Recovery Calculation'!$N$8,0)/('Fee Recovery Calculation'!$J$8),0) -> 0 | AJ34: =-IF((DATEDIF($B$24,$B34,"M"))<'Fee Recovery Calculation'!$J$4,'Fee Recovery Calculation'!$P$8,0) -> 0 | AK34: =AG34+AJ34+AK33+AH34 -> 5.0931703e-11 | AN34: =-IF((DATEDIF($B$24,$B34,"M"))<'Fee Recovery Calculation'!$J$4,'Fee Recovery Calculation'!$K$13,0) -> 0 | AO34: =AM34+AO33+AN34 -> 0 | AP34: =IF(ROUND(AN34,0)=0,0,(AO33+SUM($AP$27:AP33))*'Fee Recovery Calculation'!$R$4/12) -> 0
