Workbook

Sheet Fee Impact
B2: 2027/28 Fee Recovery Calculation
B4: Total Fees Dec-2026 to Mar-2027 | D4: 10375875
B5: NSPI Interm Fee (Feb-2026 to Nov-2026) | D5: 9500000
B6: Fees Apr-2027 to Mar-2028
B7: NSPI Recovery | D7: =D4+D5+D6 -> 19875875
B8: # of Months of Disposition | D8: 12
B9: Fees Recovered Apr-27 to Mar-28 | D9: =D7/(D8/12) -> 19875875
B12: Rate Class Characteristics
C14: Energy Allocator | E14: Demand Allocator | G14: Customer Count | I14: Billed MWh | K14: 12CP
C15: 2027 Forecast MWh (with losses) | D15: % | E15: 3CP | F15: % | G15: Customers | H15: % | I15: 2027 Forecast Billed MWh | J15: % | K15: 12CP | L15: %
B16: Residential | C16: 5601352 | D16: =C16/$C$27 -> 0.49684326 | E16: 4351189 | F16: =E16/$E$27 -> 0.65059281 | G16: 486363 | H16: =G16/$G$27 -> 0.90510219 | I16: 5174286 | J16: =I16/$I$27 -> 0.49153343 | K16: 10379557 | L16: =K16/$K$27 -> 0.53368039
B17: Small General | C17: 385414 | D17: =C17/$C$27 -> 0.034186451 | E17: 230332 | F17: =E17/$E$27 -> 0.034439401 | G17: 27549 | H17: =G17/$G$27 -> 0.051267593 | I17: 356341 | J17: =I17/$I$27 -> 0.03385076 | K17: 645964.47 | L17: =K17/$K$27 -> 0.033213225
B18: General | C18: 2335072 | D18: =C18/$C$27 -> 0.20712228 | E18: 1195401 | F18: =E18/$E$27 -> 0.17873719 | G18: 11199 | H18: =G18/$G$27 -> 0.020840893 | I18: 2165416 | J18: =I18/$I$27 -> 0.20570459 | K18: 3598075.4 | L18: =K18/$K$27 -> 0.1850004
B19: Large General | C19: 374976 | D19: =C19/$C$27 -> 0.033260594 | E19: 136936 | F19: =E19/$E$27 -> 0.020474766 | G19: 20 | H19: =G19/$G$27 -> 3.7219204e-05 | I19: 357053 | J19: =I19/$I$27 -> 0.033918397 | K19: 551681.29 | L19: =K19/$K$27 -> 0.028365515
B20: Small Industrial | C20: 273902 | D20: =C20/$C$27 -> 0.02429527 | E20: 125244 | F20: =E20/$E$27 -> 0.01872657 | G20: 2127 | H20: =G20/$G$27 -> 0.0039582624 | I20: 254468 | J20: =I20/$I$27 -> 0.024173293 | K20: 390598.4 | L20: =K20/$K$27 -> 0.020083198
B21: Medium Industrial | C21: 442241 | D21: =C21/$C$27 -> 0.03922704 | E21: 144442 | F21: =E21/$E$27 -> 0.021597069 | G21: 175 | H21: =G21/$G$27 -> 0.00032566804 | I21: 414536 | J21: =I21/$I$27 -> 0.039379018 | K21: 521190.28 | L21: =K21/$K$27 -> 0.026797775
B22: Large Industrial | C22: 719039 | D22: =C22/$C$27 -> 0.063779187 | E22: 245492 | F22: =E22/$E$27 -> 0.036706135 | G22: 36 | H22: =G22/$G$27 -> 6.6994568e-05 | I22: 694582 | J22: =I22/$I$27 -> 0.065982103 | K22: 996151.79 | L22: =K22/$K$27 -> 0.051218628
B23: PHP | C23: 311353 | D23: =C23/$C$27 -> 0.027617196 | E23: 203269 | F23: =E23/$E$27 -> 0.030392923 | G23: 1 | H23: =G23/$G$27 -> 1.8609602e-06 | I23: 304283 | J23: =I23/$I$27 -> 0.028905489 | K23: 1410000 | L23: =K23/$K$27 -> 0.07249725
B24: Municipal - Lunenburg | C24: =129552*$O$24 -> 28991.492 | D24: =C24/$C$27 -> 0.0025715626 | E24: =93701*$O$24 -> 20968.66 | F24: =E24/$E$27 -> 0.0031352486 | G24: 1 | H24: =G24/$G$27 -> 1.8609602e-06 | I24: =125502*$O$24 -> 28085.172 | J24: =I24/$I$27 -> 0.0026679625 | K24: 58927.813 | L24: =K24/$K$27 -> 0.0030298613 | N24: Lunenburg % of Municipal Load | O24: 0.22378267
B25: Unmetered | C25: 83268 | D25: =C25/$C$27 -> 0.0073859212 | E25: 32357 | F25: =E25/$E$27 -> 0.0048380412 | G25: 9882 | H25: =G25/$G$27 -> 0.018390009 | I25: 77000 | J25: =I25/$I$27 -> 0.0073146467 | K25: 62356.996 | L25: =K25/$K$27 -> 0.0032061778
B26: Below the Line | C26: 718273 | D26: =C26/$C$27 -> 0.063711243 | E26: 2406.65 | F26: =E26/$E$27 -> 0.00035984399 | H26: =G26/$G$27 -> 0 | I26: 700774 | J26: =I26/$I$27 -> 0.066570315 | K26: 834509.95 | L26: =K26/$K$27 -> 0.042907572
B27: Total | C27: =SUM(C16:C26) -> 11273881 | D27: =C27/$C$27 -> 1 | E27: =SUM(E16:E26) -> 6688037.3 | F27: =E27/$E$27 -> 1 | G27: 537357 | H27: =G27/$G$27 -> 1 | I27: =SUM(I16:I26) -> 10526824 | J27: =I27/$I$27 -> 1 | K27: =SUM(K16:K26) -> 19449014 | L27: =K27/$I$27 -> 1.8475671
B30: Fee Allocation Options
C32: Option 1: Energy Allocator
C33: =C15 -> 2027 Forecast MWh (with losses) | D33: MWh % | E33: Allocated Revenue Requirement | F33: 2027 Forecast Billed MWh | G33: ¢/kWh | I33: Pros
B34: Residential | C34: =C16 -> 5601352 | D34: =C34/C$45 -> 0.49684326 | E34: =D16*$E$45 -> 9875194.5 | F34: =I16 -> 5174286 | G34: =E34/(F34*1000)*100 -> 0.19085135 | I34: - Consistent with method IESO allocates costs to MPs
B35: Small General | C35: =C17 -> 385414 | D35: =C35/C$45 -> 0.034186451 | E35: =D17*$E$45 -> 679485.63 | F35: =I17 -> 356341 | G35: =E35/(F35*1000)*100 -> 0.1906841
B36: General | C36: =C18 -> 2335072 | D36: =C36/C$45 -> 0.20712228 | E36: =D18*$E$45 -> 4116736.5 | F36: =I18 -> 2165416 | G36: =E36/(F36*1000)*100 -> 0.19011296 | I36: Cons
B37: Large General | C37: =C19 -> 374976 | D37: =C37/C$45 -> 0.033260594 | E37: =D19*$E$45 -> 661083.42 | F37: =I19 -> 357053 | G37: =E37/(F37*1000)*100 -> 0.18514994 | I37: - Inconsistent with allocation of costs when system operator was within NSP
B38: Small Industrial | C38: =C20 -> 273902 | D38: =C38/C$45 -> 0.02429527 | E38: =D20*$E$45 -> 482889.76 | F38: =I20 -> 254468 | G38: =E38/(F38*1000)*100 -> 0.18976443
B39: Medium Industrial | C39: =C21 -> 442241 | D39: =C39/C$45 -> 0.03922704 | E39: =D21*$E$45 -> 779671.74 | F39: =I21 -> 414536 | G39: =E39/(F39*1000)*100 -> 0.188083
B40: Large Industrial | C40: =C22 -> 719039 | D40: =C40/C$45 -> 0.063779187 | E40: =D22*$E$45 -> 1267667.2 | F40: =I22 -> 694582 | G40: =E40/(F40*1000)*100 -> 0.18250792
B41: PHP | C41: =C23 -> 311353 | D41: =C41/C$45 -> 0.027617196 | E41: =D23*$E$45 -> 548915.94 | F41: =I23 -> 304283 | G41: =E41/(F41*1000)*100 -> 0.18039652
B42: Municipal - Lunenburg | C42: =C24 -> 28991.492 | D42: =C42/C$45 -> 0.0025715626 | E42: =D24*$E$45 -> 51112.057 | F42: =I24 -> 28085.172 | G42: =E42/(F42*1000)*100 -> 0.18198947
B43: Unmetered | C43: =C25 -> 83268 | D43: =C43/C$45 -> 0.0073859212 | E43: =D25*$E$45 -> 146801.65 | F43: =I25 -> 77000 | G43: =E43/(F43*1000)*100 -> 0.19065149
B44: Below the Line | C44: =C26 -> 718273 | D44: =C44/C$45 -> 0.063711243 | E44: =D26*$E$45 -> 1266316.7 | F44: =I26 -> 700774 | G44: =E44/(F44*1000)*100 -> 0.18070258
B45: Total | C45: =C27 -> 11273881 | D45: =C45/C$45 -> 1 | E45: =$D$9 -> 19875875 | F45: =SUM(F34:F44) -> 10526824 | G45: =E45/F45/10 -> 0.18881169
C47: Option 2: System Load Factor
C48: =C33 -> 2027 Forecast MWh (with losses) | D48: MWh % | E48: 3CP | F48: 3CP % | G48: System Load Factor-Weighted | H48: Allocated Revenue Requirement | I48: 2027 Forecast Billed MWh | J48: ¢/kWh
B49: Residential | C49: =C34 -> 5601352 | D49: =C49/C$60 -> 0.49684326 | E49: =E16 -> 4351189 | F49: =E49/E$60 -> 0.65059281 | G49: =($L$59*D49+$M$59*F49) -> 0.57093727 | H49: =$H$60*G49 -> 11347878 | I49: =I16 -> 5174286 | J49: =H49/(I49*1000)*100 -> 0.21931292 | L49: Pros
...

Sheet Bill Impacts
C2: 2027 | D2: 2027 with IESO Fee | E2: % Increase | H2: Impact of IESO Fee on 2027 Total Bills
B3: Residential | H3: Rate Class | I3: Monthly Fee | J3: % Total Bill Increase
B4: Customer Charge | C4: ='Bill Impacts (detailed)'!L28 -> 21.038342 | D4: ='Bill Impacts (detailed)'!M28 -> 21.038342 | H4: =B3 -> Residential | I4: =D6 -> 1.6920137 | J4: =E7 -> 0.0085854032
B5: Energy Charges | C5: ='Bill Impacts (detailed)'!L29+'Bill Impacts (detailed)'!L30 -> 176.04194 | D5: ='Bill Impacts (detailed)'!M29+'Bill Impacts (detailed)'!M30-'Bill Impacts (detailed)'!M22 -> 176.04194 | E5: =(D5+D6)/C5-1 -> 0.0096114237 | H5: =B8 -> Small General | I5: =D11 -> 2.055385 | J5: =E12 -> 0.0090014461
B6: Illustrative IESO Fee | D6: ='Bill Impacts (detailed)'!M22 -> 1.6920137 | H6: =B13 -> General | I6: =D16 -> 30.633215 | J6: =E17 -> 0.011217271
B7: Total Bill | C7: =SUM(C4:C6) -> 197.08029 | D7: =SUM(D4:D6) -> 198.7723 | E7: =D7/C7-1 -> 0.0085854032 | H7: =B18 -> Large General | I7: =D21 -> 2754.5142 | J7: =E22 -> 0.013106548
B8: Small General | H8: =B23 -> Small Industrial | I8: =D26 -> 37.838094 | J8: =E27 -> 0.012720111
B9: Customer Charge | C9: ='Bill Impacts (detailed)'!L78 -> 22.734667 | D9: ='Bill Impacts (detailed)'!M78 -> 22.734667 | H9: =B28 -> Medium Industrial | I9: =D31 -> 371.27226 | J9: =E32 -> 0.013689608
B10: Energy Charges | C10: ='Bill Impacts (detailed)'!L79+'Bill Impacts (detailed)'!L80 -> 205.60476 | D10: ='Bill Impacts (detailed)'!M79+'Bill Impacts (detailed)'!M80-'Bill Impacts (detailed)'!M52-'Bill Impacts (detailed)'!M71 -> 205.60476 | E10: =(D10+D11)/C10-1 -> 0.0099967776 | H10: =B33 -> Large Industrial | I10: =D36 -> 2934.4147 | J10: =E37 -> 0.014469338
B11: Illustrative IESO Fee | D11: ='Bill Impacts (detailed)'!M52+'Bill Impacts (detailed)'!M71 -> 2.055385 | H11: PHP | I11: =D41 -> 45742.968 | J11: =E42 -> 0.013875358
B12: Total Bill | C12: =SUM(C9:C11) -> 228.33943 | D12: =SUM(D9:D11) -> 230.39481 | E12: =D12/C12-1 -> 0.0090014461 | H12: =B43 -> Municipal (Lunenburg) | I12: =D46 -> 4259.3381 | J12: =E47 -> 0.010652065
B13: General
B14: Demand Charge | C14: ='Bill Impacts (detailed)'!L134 -> 474.94042 | D14: ='Bill Impacts (detailed)'!M134 -> 474.94042
B15: Energy Charges | C15: ='Bill Impacts (detailed)'!L135+'Bill Impacts (detailed)'!L136 -> 2255.9568 | D15: ='Bill Impacts (detailed)'!M135+'Bill Impacts (detailed)'!M136-'Bill Impacts (detailed)'!M104-'Bill Impacts (detailed)'!M123 -> 2255.9568 | E15: =(D15+D16)/C15-1 -> 0.013578813
B16: Illustrative IESO Fee | D16: ='Bill Impacts (detailed)'!M104+'Bill Impacts (detailed)'!M123 -> 30.633215 | H16: Allocation Scenario (dropdown): | J16: Option 1: Energy Allocator
B17: Total Bill | C17: =SUM(C14:C16) -> 2730.8972 | D17: =SUM(D14:D16) -> 2761.5304 | E17: =D17/C17-1 -> 0.011217271
B18: Large General | I18: ='Fee Impact'!C122 -> Options Summary ¢/kWh
B19: Demand Charge | C19: ='Bill Impacts (detailed)'!L165 -> 38023.781 | D19: ='Bill Impacts (detailed)'!M165 -> 38023.781 | I19: ='Fee Impact'!C123 -> Option 1: Energy Allocator | J19: ='Fee Impact'!D123 -> Option 2: System Load Factor | K19: ='Fee Impact'!E123 -> Option 3: Demand Allocator | L19: ='Fee Impact'!F123 -> Option 4: 12CP (OATT) | M19: ='Fee Impact'!G123 -> Option 5: SLF for Gen , Demand for Tx | N19: ='Fee Impact'!H123 -> Option 6: Billed MWh
B20: Energy Charges | C20: ='Bill Impacts (detailed)'!L166+'Bill Impacts (detailed)'!L167 -> 172139.44 | D20: ='Bill Impacts (detailed)'!M166+'Bill Impacts (detailed)'!M167-'Bill Impacts (detailed)'!M160 -> 172139.44 | E20: =(D20+D21)/C20-1 -> 0.016001646
B21: Illustrative IESO Fee | D21: ='Bill Impacts (detailed)'!M160 -> 2754.5142
B22: Total Bill | C22: =SUM(C19:C21) -> 210163.22 | D22: =SUM(D19:D21) -> 212917.73 | E22: =D22/C22-1 -> 0.013106548 | H22: ='Fee Impact'!B124 -> Residential | I22: ='Fee Impact'!C124 -> 0.19085135 | J22: ='Fee Impact'!D124 -> 0.21931292 | K22: ='Fee Impact'!E124 -> 0.24991084 | L22: ='Fee Impact'!F124 -> 0.20500152 | M22: ='Fee Impact'!G124 -> 0.23573376 | N22: ='Fee Impact'!H124 -> 0.18881169
B23: Small Industrial | H23: ='Fee Impact'!B125 -> Small General | I23: ='Fee Impact'!C125 -> 0.1906841 | J23: ='Fee Impact'!D125 -> 0.19136403 | K23: ='Fee Impact'!E125 -> 0.192095 | L23: ='Fee Impact'!F125 -> 0.18525567 | M23: ='Fee Impact'!G125 -> 0.18379297 | N23: ='Fee Impact'!H125 -> 0.18881169
B24: Demand Charge | C24: ='Bill Impacts (detailed)'!L222 -> 295.87436 | D24: ='Bill Impacts (detailed)'!M222 -> 295.87436 | H24: ='Fee Impact'!B126 -> General | I24: ='Fee Impact'!C126 -> 0.19011296 | J24: ='Fee Impact'!D126 -> 0.17755716 | K24: ='Fee Impact'!E126 -> 0.16405892 | L24: ='Fee Impact'!F126 -> 0.16980778 | M24: ='Fee Impact'!G126 -> 0.15857692 | N24: ='Fee Impact'!H126 -> 0.18881169
B25: Energy Charges | C25: ='Bill Impacts (detailed)'!L223+'Bill Impacts (detailed)'!L224 -> 2678.7927 | D25: ='Bill Impacts (detailed)'!M223+'Bill Impacts (detailed)'!M224-'Bill Impacts (detailed)'!M192-'Bill Impacts (detailed)'!M211 -> 2678.7927 | E25: =(D25+D26)/C25-1 -> 0.014125055 | H25: ='Fee Impact'!B127 -> Large General | I25: ='Fee Impact'!C127 -> 0.18514994 | J25: ='Fee Impact'!D127 -> 0.15085013 | K25: ='Fee Impact'!E127 -> 0.11397577 | L25: ='Fee Impact'!F127 -> 0.15790077 | M25: ='Fee Impact'!G127 -> 0.11329877 | N25: ='Fee Impact'!H127 -> 0.18881169
B26: Illustrative IESO Fee | D26: ='Bill Impacts (detailed)'!M192+'Bill Impacts (detailed)'!M211 -> 37.838094 | H26: ='Fee Impact'!B128 -> Small Industrial | I26: ='Fee Impact'!C128 -> 0.18976443 | J26: ='Fee Impact'!D128 -> 0.16880323 | K26: ='Fee Impact'!E128 -> 0.14626867 | L26: ='Fee Impact'!F128 -> 0.15686497 | M26: ='Fee Impact'!G128 -> 0.14257693 | N26: ='Fee Impact'!H128 -> 0.18881169
B27: Total Bill | C27: =SUM(C24:C26) -> 2974.667 | D27: =SUM(D24:D26) -> 3012.5051 | E27: =D27/C27-1 -> 0.012720111 | H27: ='Fee Impact'!B129 -> Medium Industrial | I27: ='Fee Impact'!C129 -> 0.188083 | J27: ='Fee Impact'!D129 -> 0.14734639 | K27: ='Fee Impact'!E129 -> 0.10355208 | L27: ='Fee Impact'!F129 -> 0.12848805 | M27: ='Fee Impact'!G129 -> 0.10410913 | N27: ='Fee Impact'!H129 -> 0.18881169
B28: Medium Industrial | H28: ='Fee Impact'!B130 -> Large Industrial | I28: ='Fee Impact'!C130 -> 0.18250792 | J28: ='Fee Impact'!D130 -> 0.14517351 | K28: ='Fee Impact'!E130 -> 0.10503678 | L28: ='Fee Impact'!F130 -> 0.14656513 | M28: ='Fee Impact'!G130 -> 0.10511377 | N28: ='Fee Impact'!H130 -> 0.18881169
B29: Demand Charge | C29: ='Bill Impacts (detailed)'!L253 -> 6470.56 | D29: ='Bill Impacts (detailed)'!M253 -> 6470.56 | H29: ='Fee Impact'!B131 -> PHP | I29: ='Fee Impact'!C131 -> 0.18039652 | J29: ='Fee Impact'!D131 -> 0.18913417 | K29: ='Fee Impact'!E131 -> 0.19852766 | L29: ='Fee Impact'!F131 -> 0.47355464 | M29: ='Fee Impact'!G131 -> 0.18896388 | N29: ='Fee Impact'!H131 -> 0.18881169
B30: Energy Charges | C30: ='Bill Impacts (detailed)'!L254+'Bill Impacts (detailed)'!L255 -> 20650.177 | D30: ='Bill Impacts (detailed)'!M254+'Bill Impacts (detailed)'!M255-'Bill Impacts (detailed)'!M247 -> 20650.177 | E30: =(D30+D31)/C30-1 -> 0.017979132 | H30: ='Fee Impact'!B132 -> Municipal | I30: ='Fee Impact'!C132 -> 0.18198947 | J30: ='Fee Impact'!D132 -> 0.201214 | K30: ='Fee Impact'!E132 -> 0.22188153 | L30: ='Fee Impact'!F132 -> 0.21442327 | M30: ='Fee Impact'!G132 -> 0.21003461 | N30: ='Fee Impact'!H132 -> 0.18881169
B31: Illustrative IESO Fee | D31: ='Bill Impacts (detailed)'!M247 -> 371.27226 | H31: ='Fee Impact'!B133 -> Unmetered | I31: ='Fee Impact'!C133 -> 0.19065149 | J31: ='Fee Impact'!D133 -> 0.158957 | K31: ='Fee Impact'!E133 -> 0.12488351 | L31: ='Fee Impact'!F133 -> 0.082760506 | M31: ='Fee Impact'!G133 -> 0.12342084 | N31: ='Fee Impact'!H133 -> 0.18881169
B32: Total Bill | C32: =SUM(C29:C31) -> 27120.737 | D32: =SUM(D29:D31) -> 27492.009 | E32: =D32/C32-1 -> 0.013689608 | H32: ='Fee Impact'!B134 -> Below the Line | I32: ='Fee Impact'!C134 -> 0.18070258 | J32: ='Fee Impact'!D134 -> 0.09411138 | K32: ='Fee Impact'!E134 -> 0.0010206164 | L32: ='Fee Impact'!F134 -> 0.12169766 | M32: ='Fee Impact'!G134 -> 0.011578619 | N32: ='Fee Impact'!H134 -> 0.18881169
B33: Large Industrial | H33: ='Fee Impact'!B135 -> Total (Average) | I33: ='Fee Impact'!C135 -> 0.18881169 | J33: ='Fee Impact'!D135 -> 0.18881169 | K33: ='Fee Impact'!E135 -> 0.18881169 | L33: ='Fee Impact'!F135 -> 0.18881169 | M33: ='Fee Impact'!G135 -> 0.18881169 | N33: ='Fee Impact'!H135 -> 0.18881169
B34: Demand Charge | C34: ='Bill Impacts (detailed)'!L314 -> 35797.484 | D34: ='Bill Impacts (detailed)'!M314 -> 35797.484
B35: Energy Charges | C35: ='Bill Impacts (detailed)'!L315+'Bill Impacts (detailed)'!L316 -> 167004.79 | D35: ='Bill Impacts (detailed)'!M315+'Bill Impacts (detailed)'!M316-'Bill Impacts (detailed)'!M284 -> 167004.79 | E35: =(D35+D36)/C35-1 -> 0.017570841
B36: Illustrative IESO Fee | D36: ='Bill Impacts (detailed)'!M284 -> 2934.4147
B37: Total Bill | C37: =SUM(C34:C36) -> 202802.28 | D37: =SUM(D34:D36) -> 205736.69 | E37: =D37/C37-1 -> 0.014469338
B38: ='Bill Impacts (detailed)'!B415 -> Extra Large Industrial Dispatchable
B39: Demand Charge | C39: ='Bill Impacts (detailed)'!L471 -> 472923.3 | D39: ='Bill Impacts (detailed)'!M471 -> 472923.3
B40: Energy Charges | C40: ='Bill Impacts (detailed)'!L472+'Bill Impacts (detailed)'!L473 -> 2823782.1 | D40: ='Bill Impacts (detailed)'!M472+'Bill Impacts (detailed)'!M473-'Bill Impacts (detailed)'!M441-'Bill Impacts (detailed)'!M464 -> 2823782.1 | E40: =(D40+D41)/C40-1 -> 0.016199185
B41: Illustrative IESO Fee | D41: ='Bill Impacts (detailed)'!M441+'Bill Impacts (detailed)'!M464 -> 45742.968
...

Sheet Bill Impacts (detailed)
B2: RATE SCHEDULES | I2: Average Bill Calculation
A3: 1 | C3: units | D3: 2026 | E3: 2027 | F3: Variance | G3: % Variance | I3: Charge Determinant | J3: Unit | K3: 2026 | L3: 2027 | M3: 2027 with Fee
B4: Domestic Service Tariff (Standard Offer)
B6: Customer Charge | C6: $/mo | D6: 20.082456 | E6: 21.038342 | F6: =E6-D6 -> 0.95588671 | G6: =IF(ISERROR(E6/D6-1)=TRUE,0,(E6/D6-1)) -> 0.047598099 | I6: 1 | J6: Customer | K6: =D6*I6 -> 20.082456 | L6: =E6*I6 -> 21.038342 | M6: =L6 -> 21.038342
B8: Energy Charges
B9: Base cost of fuel | C9: ¢/kWh | D9: 8.9702266 | E9: 8.8405877 | F9: =E9-D9 -> -0.12963893 | G9: =IF(ISERROR(E9/D9-1)=TRUE,0,(E9/D9-1)) -> -0.014452136 | I9: 886.56107 | J9: kWh | K9: =D9/100*I9 -> 79.526537 | L9: =E9/100*I9 -> 78.377209 | M9: =L9 -> 78.377209
B10: Non-fuel | C10: ¢/kWh | D10: 9.3533053 | E10: 10.226665 | F10: =E10-D10 -> 0.87335953 | G10: =IF(ISERROR(E10/D10-1)=TRUE,0,(E10/D10-1)) -> 0.093374428 | I10: =I9 -> 886.56107 | J10: kWh | K10: =D10/100*I10 -> 82.922764 | L10: =E10/100*I10 -> 90.665629 | M10: =L10 -> 90.665629
B11: Subtotal | D11: =SUM(D8:D10) -> 18.323532 | E11: =SUM(E8:E10) -> 19.067253 | F11: =SUM(F8:F10) -> 0.7437206 | G11: =IF(ISERROR(E11/D11-1)=TRUE,0,(E11/D11-1)) -> 0.040588278 | K11: =SUM(K8:K10) -> 162.4493 | L11: =SUM(L8:L10) -> 169.04284 | M11: =SUM(M8:M10) -> 169.04284
B13: FAM AA | C13: ¢/kWh | D13: 0 | E13: 0 | F13: =E13-D13 -> 0 | G13: =IF(ISERROR(E13/D13-1)=TRUE,0,(E13/D13-1)) -> 0 | I13: =I10 -> 886.56107 | J13: kWh | K13: =D13/100*I13 -> 0 | L13: =E13/100*I13 -> 0 | M13: =L13 -> 0
B14: FAM BA | C14: ¢/kWh | D14: 0.156 | E14: 0.156 | F14: =E14-D14 -> 0 | G14: =IF(ISERROR(E14/D14-1)=TRUE,0,(E14/D14-1)) -> 0 | I14: =I13 -> 886.56107 | J14: kWh | K14: =D14/100*I14 -> 1.3830353 | L14: =E14/100*I14 -> 1.3830353 | M14: =L14 -> 1.3830353
B15: Subtotal | D15: =SUM(D13:D14) -> 0.156 | E15: =SUM(E13:E14) -> 0.156 | F15: =SUM(F13:F14) -> 0 | G15: =IF(ISERROR(E15/D15-1)=TRUE,0,(E15/D15-1)) -> 0 | K15: =SUM(K13:K14) -> 1.3830353 | L15: =SUM(L13:L14) -> 1.3830353 | M15: =SUM(M13:M14) -> 1.3830353
B17: DSM PCR | C17: ¢/kWh | D17: 0.65740539 | E17: 0.65740539 | F17: =E17-D17 -> 0 | G17: =IF(ISERROR(E17/D17-1)=TRUE,0,(E17/D17-1)) -> 0 | I17: =I14 -> 886.56107 | J17: kWh | K17: =D17/100*I17 -> 5.8283003 | L17: =E17/100*I17 -> 5.8283003 | M17: =L17 -> 5.8283003
B18: DSM BA | C18: ¢/kWh | D18: -0.02393839 | E18: -0.02393839 | F18: =E18-D18 -> 0 | G18: =IF(ISERROR(E18/D18-1)=TRUE,0,(E18/D18-1)) -> 0 | I18: =I17 -> 886.56107 | J18: kWh | K18: =D18/100*I18 -> -0.21222845 | L18: =E18/100*I18 -> -0.21222845 | M18: =L18 -> -0.21222845
B19: Subtotal | D19: =SUM(D17:D18) -> 0.633467 | E19: =SUM(E17:E18) -> 0.633467 | F19: =SUM(F17:F18) -> 0 | G19: =IF(ISERROR(E19/D19-1)=TRUE,0,(E19/D19-1)) -> 0 | K19: =SUM(K17:K18) -> 5.6160718 | L19: =SUM(L17:L18) -> 5.6160718 | M19: =SUM(M17:M18) -> 5.6160718
B21: SCRR | C21: ¢/kWh | D21: 0 | E21: 0 | F21: =E21-D21 -> 0 | G21: =IF(ISERROR(E21/D21-1)=TRUE,0,(E21/D21-1)) -> 0 | I21: =I18 -> 886.56107 | J21: kWh | K21: =D21/100*I21 -> 0 | L21: =E21/100*I21 -> 0 | M21: =L21 -> 0
B22: IESO RR | C22: ¢/kWh | E22: =HLOOKUP('Bill Impacts'!$J$16,'Fee Impact'!$C$123:$H$135,2,FALSE) -> 0.19085135 | I22: =I21 -> 886.56107 | J22: kWh | M22: =E22/100*I22 -> 1.6920137
B23: Fuel-related in aggregate | C23: ¢/kWh | D23: =D9+D15 -> 9.1262266 | E23: =E9+E15 -> 8.9965877 | F23: =E23-D23 -> -0.12963893 | G23: =IF(ISERROR(E23/D23-1)=TRUE,0,(E23/D23-1)) -> -0.014205097 | K23: =K9+K15 -> 80.909572 | L23: =L9+L15 -> 79.760244 | M23: =M9+M15 -> 79.760244
B24: Non-fuel related in aggregate | C24: ¢/kWh | D24: =D10+D19+D21 -> 9.9867723 | E24: =E10+E19+E21 -> 10.860132 | F24: =E24-D24 -> 0.87335953 | G24: =IF(ISERROR(E24/D24-1)=TRUE,0,(E24/D24-1)) -> 0.087451631 | K24: =K10+K19+K21 -> 88.538835 | L24: =L10+L19+L21 -> 96.281701 | M24: =M10+M19+M21+M22 -> 97.973715
B25: Total | D25: =D23+D24 -> 19.112999 | E25: =E23+E24 -> 19.85672 | F25: =F11+F15+F19+F21 -> 0.7437206 | G25: =IF(ISERROR(E25/D25-1)=TRUE,0,(E25/D25-1)) -> 0.038911769 | K25: =K24+K23 -> 169.44841 | L25: =L24+L23 -> 176.04194 | M25: =M24+M23 -> 177.73396
B27: Total Bill Calculation
B28: Customer Charge | K28: =K6 -> 20.082456 | L28: =L6 -> 21.038342 | M28: =M6 -> 21.038342
B29: Fuel-related in aggregate | K29: =K23 -> 80.909572 | L29: =L23 -> 79.760244 | M29: =M23 -> 79.760244
B30: Non-fuel related in aggregate | K30: =K24 -> 88.538835 | L30: =L24 -> 96.281701 | M30: =M24 -> 97.973715
B31: Total Bill | K31: =K28+K29+K30 -> 189.53086 | L31: =L28+L29+L30 -> 197.08029 | M31: =M28+M29+M30 -> 198.7723 | N31: =M31/L31-1 -> 0.0085854032
A33: 2 | B33: Small General Tariff (Standard Offer)
B35: Customer Charge | C35: $/mo | D35: 21.995311 | E35: 22.734667 | F35: =E35-D35 -> 0.73935598 | G35: =IF(ISERROR(E35/D35-1)=TRUE,0,(E35/D35-1)) -> 0.033614254 | I35: 1 | J35: Customer | K35: =D35*I35 -> 21.995311 | L35: =E35*I35 -> 22.734667 | M35: =L35 -> 22.734667
B37: Energy Charges
B38: First 200 kWh Block
B39: Base cost of fuel | C39: ¢/kWh | D39: 9.0551826 | E39: 8.8691779 | F39: =E39-D39 -> -0.18600463 | G39: =IF(ISERROR(E39/D39-1)=TRUE,0,(E39/D39-1)) -> -0.020541235 | I39: 200 | J39: kWh | K39: =D39/100*I39 -> 18.110365 | L39: =E39/100*I39 -> 17.738356 | M39: =L39 -> 17.738356
B40: Non-fuel | C40: ¢/kWh | D40: 9.8638077 | E40: 10.927019 | F40: =E40-D40 -> 1.0632115 | G40: =IF(ISERROR(E40/D40-1)=TRUE,0,(E40/D40-1)) -> 0.10778916 | I40: =I39 -> 200 | J40: kWh | K40: =D40/100*I40 -> 19.727615 | L40: =E40/100*I40 -> 21.854039 | M40: =L40 -> 21.854039
B41: Subtotal | D41: =SUM(D38:D40) -> 18.91899 | E41: =SUM(E38:E40) -> 19.796197 | F41: =E41-D41 -> 0.87720691 | G41: =IF(ISERROR(E41/D41-1)=TRUE,0,(E41/D41-1)) -> 0.046366476 | K41: =SUM(K38:K40) -> 37.837981 | L41: =SUM(L38:L40) -> 39.592394 | M41: =SUM(M38:M40) -> 39.592394
G42: =IF(ISERROR(E42/D42-1)=TRUE,0,(E42/D42-1)) -> 0
B43: FAM AA | C43: ¢/kWh | D43: 0 | E43: 0 | F43: =E43-D43 -> 0 | G43: =IF(ISERROR(E43/D43-1)=TRUE,0,(E43/D43-1)) -> 0 | I43: =I40 -> 200 | J43: kWh | K43: =D43/100*I43 -> 0 | L43: =E43/100*I43 -> 0 | M43: =L43 -> 0
B44: FAM BA | C44: ¢/kWh | D44: 0.156 | E44: 0.156 | F44: =E44-D44 -> 0 | G44: =IF(ISERROR(E44/D44-1)=TRUE,0,(E44/D44-1)) -> 0 | I44: =I43 -> 200 | J44: kWh | K44: =D44/100*I44 -> 0.312 | L44: =E44/100*I44 -> 0.312 | M44: =L44 -> 0.312
B45: Subtotal | D45: =SUM(D43:D44) -> 0.156 | E45: =SUM(E43:E44) -> 0.156 | F45: =E45-D45 -> 0 | G45: =IF(ISERROR(E45/D45-1)=TRUE,0,(E45/D45-1)) -> 0 | K45: =SUM(K42:K44) -> 0.312 | L45: =SUM(L42:L44) -> 0.312 | M45: =SUM(M42:M44) -> 0.312
B47: DSM PCR | C47: ¢/kWh | D47: 0.778 | E47: 0.778 | F47: =E47-D47 -> 0 | G47: =IF(ISERROR(E47/D47-1)=TRUE,0,(E47/D47-1)) -> 0 | I47: =I44 -> 200 | J47: kWh | K47: =D47/100*I47 -> 1.556 | L47: =E47/100*I47 -> 1.556 | M47: =L47 -> 1.556
B48: DSM BA | C48: ¢/kWh | D48: -0.025 | E48: -0.025 | F48: =E48-D48 -> 0 | G48: =IF(ISERROR(E48/D48-1)=TRUE,0,(E48/D48-1)) -> 0 | I48: =I47 -> 200 | J48: kWh | K48: =D48/100*I48 -> -0.05 | L48: =E48/100*I48 -> -0.05 | M48: =L48 -> -0.05
B49: Subtotal | D49: =SUM(D47:D48) -> 0.753 | E49: =SUM(E47:E48) -> 0.753 | F49: =SUM(F47:F48) -> 0 | G49: =IF(ISERROR(E49/D49-1)=TRUE,0,(E49/D49-1)) -> 0 | K49: =SUM(K46:K48) -> 1.506 | L49: =SUM(L46:L48) -> 1.506 | M49: =SUM(M46:M48) -> 1.506
B51: SCRR | C51: ¢/kWh | D51: 0 | E51: 0 | F51: =E51-D51 -> 0 | G51: =IF(ISERROR(E51/D51-1)=TRUE,0,(E51/D51-1)) -> 0 | I51: =I48 -> 200 | J51: kWh | K51: =D51/100*I51 -> 0 | L51: =E51/100*I51 -> 0 | M51: =L51 -> 0
B52: IESO RR | C52: ¢/kWh | E52: =HLOOKUP('Bill Impacts'!$J$16,'Fee Impact'!$C$123:$H$135,3,FALSE) -> 0.1906841 | I52: =I51 -> 200 | J52: kWh | M52: =E52/100*I52 -> 0.3813682
...
