Workbook
Name _Ref90464859: 'Percent increase in summary'!$B$1
Name AA_calculation: #REF!
Name Actual_Fuel_Cost_bfr_Interest: #REF!
Name BA_calculations: #REF!
Name BACalc2: #REF!
Name FAMvsDSM: #REF!
Name PR_17: '2027 at 2026 Rates'!#REF!
Name PR_17: '2027 at 2027 Rates'!#REF!
Name PR_17: 'Revenue Details'!#REF!
Name PR_18: #REF!
Name PR_18: #REF!
Name PR_19: #REF!
Name PR_19: #REF!
Name print: #REF!
Name print: #REF!
Name RSF: #REF!
Name RSF: #REF!
Name summary: #REF!

Sheet Percent increase in summary
B2: Percent Increases in Customer Class Revenues in 2027
B3: Customer Class | C3: DSM PCR | D3: DSM BA | E3: DSM PCR and BA
B5: Domestic Service Tariff | C5: ='Revenue Details'!$AE$29 -> -0.0038481286 | D5: ='Revenue Details'!$AF$29 -> 1.8186495e-05 | E5: =C5+D5 -> -0.0038299421
B6: Small General Tariff | C6: ='Revenue Details'!$AE$52 -> -0.0082721804 | D6: ='Revenue Details'!$AF$52 -> -0.00045529356 | E6: =C6+D6 -> -0.0087274739
B7: General Tariff | C7: ='Revenue Details'!$AE$73 -> 0.0014449843 | D7: ='Revenue Details'!$AF$73 -> 0.0012625958 | E7: =C7+D7 -> 0.0027075801
B8: Large General Tariff | C8: ='Revenue Details'!$AE$82 -> 0.019058223 | D8: ='Revenue Details'!$AF$82 -> -0.0085284666 | E8: =C8+D8 -> 0.010529756
B9: Small Industrial Tariff | C9: ='Revenue Details'!$AE$93 -> 0.0075833969 | D9: ='Revenue Details'!$AF$93 -> -0.0053416813 | E9: =C9+D9 -> 0.0022417156
B10: Medium Industrial Tariff | C10: ='Revenue Details'!$AE$98 -> 0.0072541293 | D10: ='Revenue Details'!$AF$98 -> 0.00433936 | E10: =C10+D10 -> 0.011593489
B11: Large Industrial Tariff | C11: ='Revenue Details'!$AE142 -> 0.011762845 | D11: ='Revenue Details'!$AF142 -> 0.0034914585 | E11: =C11+D11 -> 0.015254303
B12: Municipal Tariff | C12: ='Revenue Details'!$AE157 -> 0.0029139051 | D12: ='Revenue Details'!$AF157 -> -0.0093057729 | E12: =C12+D12 -> -0.0063918678
B13: Unmetered | C13: ='Revenue Details'!$AE162 -> -0.00017736628 | D13: ='Revenue Details'!$AF162 -> -0.0060224057 | E13: =C13+D13 -> -0.006199772
B14: Total FAM Classes | C14: ='Revenue Details'!$AE$171 -> -0.00094563515 | D14: ='Revenue Details'!$AF$171 -> 0.0001455369 | E14: =C14+D14 -> -0.00080009826
B17: Assumptions
A19: 1 | B19: Municipal Class reflects only Lunenburg load.

Sheet Percent increase with LI Breakd
D3: Percent Increases in Customer Class Revenues in 2027
D4: Customer Class | E4: DSM PCR | F4: DSM BA | G4: DSM PCR and BA
D5: Domestic Service | E5: ='Percent increase in summary'!C5 -> -0.0038481286 | F5: ='Percent increase in summary'!D5 -> 1.8186495e-05 | G5: =+F5+E5 -> -0.0038299421
D6: Small General | E6: ='Percent increase in summary'!C6 -> -0.0082721804 | F6: ='Percent increase in summary'!D6 -> -0.00045529356 | G6: =+F6+E6 -> -0.0087274739
D7: General | E7: ='Percent increase in summary'!C7 -> 0.0014449843 | F7: ='Percent increase in summary'!D7 -> 0.0012625958 | G7: =+F7+E7 -> 0.0027075801
D8: Large General | E8: ='Percent increase in summary'!C8 -> 0.019058223 | F8: ='Percent increase in summary'!D8 -> -0.0085284666 | G8: =+F8+E8 -> 0.010529756
D9: Small Industrial | E9: ='Percent increase in summary'!C9 -> 0.0075833969 | F9: ='Percent increase in summary'!D9 -> -0.0053416813 | G9: =+F9+E9 -> 0.0022417156
D10: Medium Industrial | E10: ='Percent increase in summary'!C10 -> 0.0072541293 | F10: ='Percent increase in summary'!D10 -> 0.00433936 | G10: =+F10+E10 -> 0.011593489
D11: Large Industrial Firm Transmission Connected | E11: =+'Revenue Details'!AE108 -> 0.01108182 | F11: =+'Revenue Details'!AF108 -> 0.0032893162 | G11: =+F11+E11 -> 0.014371137
D12: Large Industrial Firm Distribution Connected | E12: ='Revenue Details'!AE116 -> 0.01037913 | F12: ='Revenue Details'!AF116 -> 0.003080743 | G12: =+F12+E12 -> 0.013459873
D13: Large Industrial Firm | E13: ='Revenue Details'!AE118 -> 0.01069003 | F13: ='Revenue Details'!AF118 -> 0.0031730246 | G13: =+F13+E13 -> 0.013863055
D14: Large Industrial Interruptible Transmission Connected | E14: ='Revenue Details'!AE127 -> 0.012323796 | F14: ='Revenue Details'!AF127 -> 0.0036579605 | G14: =+F14+E14 -> 0.015981756
D15: Large Industrial Interruptible Distribution Connected | E15: ='Revenue Details'!AE135 -> 0.011450589 | F15: ='Revenue Details'!AF135 -> 0.0033987744 | G15: =+F15+E15 -> 0.014849363
D16: Large Industrial Interruptible | E16: ='Revenue Details'!AE137 -> 0.01197342 | F16: ='Revenue Details'!AF137 -> 0.0035539616 | G16: =+F16+E16 -> 0.015527381
D17: Large Industrial | E17: ='Revenue Details'!AE142 -> 0.011762845 | F17: ='Revenue Details'!AF142 -> 0.0034914585 | G17: =+F17+E17 -> 0.015254303
D18: Municipal | E18: =+'Percent increase in summary'!C12 -> 0.0029139051 | F18: =+'Percent increase in summary'!D12 -> -0.0093057729 | G18: =+F18+E18 -> -0.0063918678
D19: Unmetered | E19: =+'Percent increase in summary'!C13 -> -0.00017736628 | F19: =+'Percent increase in summary'!D13 -> -0.0060224057 | G19: =+F19+E19 -> -0.006199772
D20: Total FAM Classes | E20: ='Revenue Details'!AE172 -> -0.00094563515 | F20: ='Revenue Details'!AF172 -> 0.0001455369 | G20: =+F20+E20 -> -0.00080009826

Sheet Revenue Details
B1: 2027 Sales Priced at 2026 Rates | J1: 2027 Sales Priced at 2027 Proposed Rates | S1: Amount Variance | AA1: Increases in Total Class Revenues broken down by Fuel and Non-Fuel
C2: Cost Recovery | J2: Cost Recovery | S2: Cost Recovery | AB2: Cost Recovery in Percent
B3: Base Cost Rates | C3: FAM Riders | F3: DSM Riders | I3: Total | J3: Base Cost Rates | K3: FAM Riders | N3: DSM Riders | Q3: Total | S3: Base Cost Rates | T3: FAM Riders | W3: DSM Riders | Z3: Total | AA3: Base Cost Rates | AB3: FAM Riders | AE3: DSM Riders | AH3: Total
A4: WACC | C4: AA | D4: BA | E4: Total | F4: PCR | G4: BA | H4: Total | K4: AA | L4: BA | M4: Total | N4: PCR | O4: BA | P4: Total | T4: AA | U4: BA | V4: Total | W4: PCR | X4: BA | Y4: Total | AB4: AA | AC4: BA | AD4: Total | AE4: PCR | AF4: BA | AG4: Total
A5: Domestic Rates
A7: Domestic Service Tariff (Standard Offer)
A8: Base cost of fuel | B8: ='2027 at 2026 Rates'!$W10 -> 446.8086 | C8: ='2027 at 2026 Rates'!Y10 -> 0 | D8: ='2027 at 2026 Rates'!$Z10 -> 7.770388 | E8: =SUM(C8:D8) -> 7.770388 | I8: =B8+E8+H8 -> 454.57899 | J8: ='2027 at 2027 Rates'!$W10 -> 440.35126 | K8: ='2027 at 2027 Rates'!$Y10 -> 0 | L8: ='2027 at 2027 Rates'!$Z10 -> 7.770388 | M8: =SUM(K8:L8) -> 7.770388 | Q8: =J8+M8+P8 -> 448.12165 | S8: =J8-B8 -> -6.4573385 | T8: =K8-C8 -> 0 | U8: =L8-D8 -> 0 | V8: =SUM(T8:U8) -> 0 | W8: =N8-F8 -> 0 | X8: =O8-G8 -> 0 | Y8: =SUM(W8:X8) -> 0 | Z8: =S8+V8+Y8 -> -6.4573385 | AA8: =S8/$I10 -> -0.0060301211 | AB8: =T8/$I10 -> 0 | AC8: =U8/$I10 -> 0 | AD8: =SUM(AB8:AC8) -> 0 | AH8: =AA8+AD8+AG8 -> -0.0060301211
A9: Non-fuel | B9: ='2027 at 2026 Rates'!$W11 -> 583.98476 | F9: ='2027 at 2026 Rates'!$AB11 -> 31.966891 | G9: ='2027 at 2026 Rates'!$AC11 -> 0.31660297 | H9: =SUM(F9:G9) -> 32.283494 | I9: =B9+E9+H9 -> 616.26826 | J9: ='2027 at 2027 Rates'!$W11 -> 633.10805 | N9: ='2027 at 2027 Rates'!$AB11 -> 27.898446 | O9: ='2027 at 2027 Rates'!$AC11 -> 0.33583069 | P9: =SUM(N9:O9) -> 28.234277 | Q9: =J9+M9+P9 -> 661.34233 | S9: =J9-B9 -> 49.12329 | T9: =K9-C9 -> 0 | U9: =L9-D9 -> 0 | V9: =SUM(T9:U9) -> 0 | W9: =N9-F9 -> -4.0684453 | X9: =O9-G9 -> 0.019227726 | Y9: =SUM(W9:X9) -> -4.0492176 | Z9: =S9+V9+Y9 -> 45.074073 | AA9: =S9/$I10 -> 0.045873294 | AB9: =T9/$I10 -> 0 | AC9: =U9/$I10 -> 0 | AD9: =SUM(AB9:AC9) -> 0 | AE9: =W9/$I10 -> -0.003799277 | AF9: =X9/$I10 -> 1.7955619e-05 | AG9: =SUM(AE9:AF9) -> -0.0037813214 | AH9: =AA9+AD9+AG9 -> 0.042091972
A10: Total | B10: =SUM(B8:B9) -> 1030.7934 | C10: =SUM(C8:C9) -> 0 | D10: =SUM(D8:D9) -> 7.770388 | E10: =SUM(E8:E9) -> 7.770388 | F10: =SUM(F8:F9) -> 31.966891 | G10: =SUM(G8:G9) -> 0.31660297 | H10: =SUM(H8:H9) -> 32.283494 | I10: =SUM(I8:I9) -> 1070.8472 | ... Q10: =SUM(Q8:Q9) -> 1109.464 | S10: =SUM(S8:S9) -> 42.665952 | T10: =K10-C10 -> 0 | U10: =L10-D10 -> 0 | V10: =SUM(T10:U10) -> 0 | W10: =SUM(W8:W9) -> -4.0684453 | X10: =SUM(X8:X9) -> 0.019227726 | Y10: =SUM(Y8:Y9) -> -4.0492176 | Z10: =SUM(Z8:Z9) -> 38.616734 | AA10: =SUM(AA8:AA9) -> 0.039843173 | AB10: =SUM(AB8:AB9) -> 0 | AC10: =SUM(AC8:AC9) -> 0 | AD10: =SUM(AD8:AD9) -> 0 | ... AG10: =SUM(AG8:AG9) -> -0.0037813214 | AH10: =AA10+AD10+AG10 -> 0.036061851
A12: Domestic Service Time-of-Day Tariff
A13: Base cost of fuel | B13: ='2027 at 2026 Rates'!$W15 -> 27.053437 | C13: ='2027 at 2026 Rates'!$Y15 -> 0 | D13: ='2027 at 2026 Rates'!$Z15 -> 0.47048267 | E13: =SUM(C13:D13) -> 0.47048267 | I13: =B13+E13+H13 -> 27.52392 | J13: ='2027 at 2027 Rates'!$W15 -> 26.662457 | K13: ='2027 at 2027 Rates'!$Y15 -> 0 | L13: ='2027 at 2027 Rates'!$Z15 -> 0.47048267 | M13: =SUM(K13:L13) -> 0.47048267 | Q13: =J13+M13+P13 -> 27.13294 | S13: =J13-B13 -> -0.39097994 | T13: =K13-C13 -> 0 | U13: =L13-D13 -> 0 | V13: =SUM(T13:U13) -> 0 | W13: =N13-F13 -> 0 | X13: =O13-G13 -> 0 | Y13: =SUM(W13:X13) -> 0 | Z13: =S13+V13+Y13 -> -0.39097994 | AA13: =S13/$I15 -> -0.0077719142 | AB13: =T13/$I15 -> 0 | AC13: =U13/$I15 -> 0 | AD13: =SUM(AB13:AC13) -> 0 | AH13: =AA13+AD13+AG13 -> -0.0077719142
A14: Non-fuel | B14: ='2027 at 2026 Rates'!$W16 -> 20.82815 | F14: ='2027 at 2026 Rates'!$AB16 -> 1.9355363 | G14: ='2027 at 2026 Rates'!$AC16 -> 0.019169726 | H14: =SUM(F14:G14) -> 1.9547061 | I14: =B14+E14+H14 -> 22.782856 | J14: ='2027 at 2027 Rates'!$W16 -> 22.619117 | N14: ='2027 at 2027 Rates'!$AB16 -> 1.6891995 | O14: ='2027 at 2027 Rates'!$AC16 -> 0.020333929 | P14: =SUM(N14:O14) -> 1.7095334 | Q14: =J14+M14+P14 -> 24.328651 | S14: =J14-B14 -> 1.7909672 | T14: =K14-C14 -> 0 | U14: =L14-D14 -> 0 | V14: =SUM(T14:U14) -> 0 | W14: =N14-F14 -> -0.24633686 | X14: =O14-G14 -> 0.0011642033 | Y14: =SUM(W14:X14) -> -0.24517266 | Z14: =S14+V14+Y14 -> 1.5457945 | AA14: =S14/$I15 -> 0.035600914 | AB14: =T14/$I15 -> 0 | AC14: =U14/$I15 -> 0 | AD14: =SUM(AB14:AC14) -> 0 | AE14: =W14/$I15 -> -0.0048966936 | AF14: =X14/$I15 -> 2.3142078e-05 | AG14: =SUM(AE14:AF14) -> -0.0048735515 | AH14: =AA14+AD14+AG14 -> 0.030727363
A15: Total | B15: =SUM(B13:B14) -> 47.881587 | C15: =SUM(C13:C14) -> 0 | D15: =SUM(D13:D14) -> 0.47048267 | E15: =SUM(E13:E14) -> 0.47048267 | F15: =SUM(F13:F14) -> 1.9355363 | G15: =SUM(G13:G14) -> 0.019169726 | H15: =SUM(H13:H14) -> 1.9547061 | I15: =SUM(I13:I14) -> 50.306776 | ... Q15: =SUM(Q13:Q14) -> 51.46159 | S15: =SUM(S13:S14) -> 1.3999873 | T15: =SUM(T13:T14) -> 0 | U15: =SUM(U13:U14) -> 0 | V15: =SUM(V13:V14) -> 0 | W15: =SUM(W13:W14) -> -0.24633686 | X15: =SUM(X13:X14) -> 0.0011642033 | Y15: =SUM(Y13:Y14) -> -0.24517266 | Z15: =SUM(Z13:Z14) -> 1.1548146 | ... AG15: =SUM(AG13:AG14) -> -0.0048735515 | AH15: =AA15+AD15+AG15 -> 0.022955448
A17: Domestic Service Time-of-Use Tariff
A18: Base cost of fuel | B18: ='2027 at 2026 Rates'!$W20 -> 5.2296482 | C18: ='2027 at 2026 Rates'!$Y20 -> 0 | D18: ='2027 at 2026 Rates'!$Z20 -> 0.090948106 | E18: =SUM(C18:D18) -> 0.090948106 | I18: =B18+E18+H18 -> 5.3205963 | J18: ='2027 at 2027 Rates'!$W20 -> 5.1540686 | K18: ='2027 at 2027 Rates'!$Y20 -> 0 | L18: ='2027 at 2027 Rates'!$Z20 -> 0.090948106 | M18: =SUM(K18:L18) -> 0.090948106 | Q18: =J18+M18+P18 -> 5.2450168 | S18: =J18-B18 -> -0.075579586 | T18: =K18-C18 -> 0 | U18: =L18-D18 -> 0 | V18: =SUM(T18:U18) -> 0 | W18: =N18-F18 -> 0 | X18: =O18-G18 -> 0 | Y18: =SUM(W18:X18) -> 0 | Z18: =S18+V18+Y18 -> -0.075579586 | AA18: =S18/$I20 -> -0.0059444983 | AB18: =T18/$I20 -> 0 | AC18: =U18/$I20 -> 0 | AD18: =SUM(AB18:AC18) -> 0 | AH18: =AA18+AD18+AG18 -> -0.0059444983
A19: Non-fuel | B19: ='2027 at 2026 Rates'!$W21 -> 7.015751 | F19: ='2027 at 2026 Rates'!$AB21 -> 0.37415483 | G19: ='2027 at 2026 Rates'!$AC21 -> 0.0037056631 | H19: =SUM(F19:G19) -> 0.3778605 | I19: =B19+E19+H19 -> 7.3936115 | J19: ='2027 at 2027 Rates'!$W21 -> 7.6101726 | N19: ='2027 at 2027 Rates'!$AB21 -> 0.32653593 | O19: ='2027 at 2027 Rates'!$AC21 -> 0.003930713 | P19: =SUM(N19:O19) -> 0.33046664 | Q19: =J19+M19+P19 -> 7.9406392 | S19: =J19-B19 -> 0.59442159 | T19: =K19-C19 -> 0 | U19: =L19-D19 -> 0 | V19: =SUM(T19:U19) -> 0 | W19: =N19-F19 -> -0.047618909 | X19: =O19-G19 -> 0.00022504992 | Y19: =SUM(W19:X19) -> -0.047393859 | Z19: =S19+V19+Y19 -> 0.54702773 | AA19: =S19/$I20 -> 0.046752546 | AB19: =T19/$I20 -> 0 | AC19: =U19/$I20 -> 0 | AD19: =SUM(AB19:AC19) -> 0 | AE19: =W19/$I20 -> -0.0037453304 | AF19: =X19/$I20 -> 1.7700664e-05 | AG19: =SUM(AE19:AF19) -> -0.0037276297 | AH19: =AA19+AD19+AG19 -> 0.043024917
A20: Total | B20: =SUM(B18:B19) -> 12.245399 | C20: =SUM(C18:C19) -> 0 | D20: =SUM(D18:D19) -> 0.090948106 | E20: =SUM(E18:E19) -> 0.090948106 | F20: =SUM(F18:F19) -> 0.37415483 | G20: =SUM(G18:G19) -> 0.0037056631 | H20: =SUM(H18:H19) -> 0.3778605 | I20: =SUM(I18:I19) -> 12.714208 | ... Q20: =SUM(Q18:Q19) -> 13.185656 | S20: =SUM(S18:S19) -> 0.518842 | T20: =SUM(T18:T19) -> 0 | U20: =SUM(U18:U19) -> 0 | V20: =SUM(V18:V19) -> 0 | W20: =SUM(W18:W19) -> -0.047618909 | X20: =SUM(X18:X19) -> 0.00022504992 | Y20: =SUM(Y18:Y19) -> -0.047393859 | Z20: =SUM(Z18:Z19) -> 0.47144814 | ... AG20: =SUM(AG18:AG19) -> -0.0037276297 | AH20: =AA20+AD20+AG20 -> 0.037080418
A22: Domestic Service Critical Peak Pricing Tariff
A23: Base cost of fuel | B23: ='2027 at 2026 Rates'!$W25 -> 2.4274581 | C23: ='2027 at 2026 Rates'!$Y25 -> 0 | D23: ='2027 at 2026 Rates'!$Z25 -> 0.042215596 | E23: =SUM(C23:D23) -> 0.042215596 | I23: =B23+E23+H23 -> 2.4696737 | J23: ='2027 at 2027 Rates'!$W25 -> 2.3923761 | K23: ='2027 at 2027 Rates'!$Y25 -> 0 | L23: ='2027 at 2027 Rates'!$Z25 -> 0.042215596 | M23: =SUM(K23:L23) -> 0.042215596 | Q23: =J23+M23+P23 -> 2.4345917 | S23: =J23-B23 -> -0.035081954 | T23: =K23-C23 -> 0 | U23: =L23-D23 -> 0 | V23: =SUM(T23:U23) -> 0 | W23: =N23-F23 -> 0 | X23: =O23-G23 -> 0 | Y23: =SUM(W23:X23) -> 0 | Z23: =S23+V23+Y23 -> -0.035081954 | AA23: =S23/$I25 -> -0.0063578037 | AB23: =T23/$I25 -> 0 | AC23: =U23/$I25 -> 0 | AD23: =SUM(AB23:AC23) -> 0 | AH23: =AA23+AD23+AG23 -> -0.0063578037
A24: Non-fuel | B24: ='2027 at 2026 Rates'!$W26 -> 2.8728699 | F24: ='2027 at 2026 Rates'!$AB26 -> 0.17367233 | G24: ='2027 at 2026 Rates'!$AC26 -> 0.0017200663 | H24: =SUM(F24:G24) -> 0.17539239 | I24: =B24+E24+H24 -> 3.0482623 | J24: ='2027 at 2027 Rates'!$W26 -> 3.1135647 | N24: ='2027 at 2027 Rates'!$AB26 -> 0.15156895 | O24: ='2027 at 2027 Rates'!$AC26 -> 0.0018245283 | P24: =SUM(N24:O24) -> 0.15339347 | Q24: =J24+M24+P24 -> 3.2669582 | S24: =J24-B24 -> 0.24069484 | T24: =K24-C24 -> 0 | U24: =L24-D24 -> 0 | V24: =SUM(T24:U24) -> 0 | W24: =N24-F24 -> -0.02210338 | X24: =O24-G24 -> 0.00010446195 | Y24: =SUM(W24:X24) -> -0.021998919 | Z24: =S24+V24+Y24 -> 0.21869592 | AA24: =S24/$I25 -> 0.043620447 | AB24: =T24/$I25 -> 0 | AC24: =U24/$I25 -> 0 | AD24: =SUM(AB24:AC24) -> 0 | AE24: =W24/$I25 -> -0.0040057334 | AF24: =X24/$I25 -> 1.8931345e-05 | AG24: =SUM(AE24:AF24) -> -0.0039868021 | AH24: =AA24+AD24+AG24 -> 0.039633645
A25: Total | B25: =SUM(B23:B24) -> 5.300328 | C25: =SUM(C23:C24) -> 0 | D25: =SUM(D23:D24) -> 0.042215596 | E25: =SUM(E23:E24) -> 0.042215596 | F25: =SUM(F23:F24) -> 0.17367233 | G25: =SUM(G23:G24) -> 0.0017200663 | H25: =SUM(H23:H24) -> 0.17539239 | I25: =SUM(I23:I24) -> 5.517936 | ... Q25: =SUM(Q23:Q24) -> 5.7015499 | S25: =SUM(S23:S24) -> 0.20561288 | T25: =SUM(T23:T24) -> 0 | U25: =SUM(U23:U24) -> 0 | V25: =SUM(V23:V24) -> 0 | W25: =SUM(W23:W24) -> -0.02210338 | X25: =SUM(X23:X24) -> 0.00010446195 | Y25: =SUM(Y23:Y24) -> -0.021998919 | Z25: =SUM(Z23:Z24) -> 0.18361396 | ... AG25: =SUM(AG23:AG24) -> -0.0039868021 | AH25: =AA25+AD25+AG25 -> 0.033275842
A27: All Domestic Rates Total
A28: Base cost of fuel | B28: =B8+B13+B18+B23 -> 481.51914 | C28: =C8+C13+C18+C23 -> 0 | D28: =D8+D13+D18+D23 -> 8.3740344 | E28: =E8+E13+E18+E23 -> 8.3740344 | I28: =I8+I13+I18+I23 -> 489.89318 | J28: =J8+J13+J18+J23 -> 474.56016 | K28: =K8+K13+K18+K23 -> 0 | L28: =L8+L13+L18+L23 -> 8.3740344 | M28: =M8+M13+M18+M23 -> 8.3740344 | Q28: =Q8+Q13+Q18+Q23 -> 482.9342 | S28: =J28-B28 -> -6.95898 | T28: =K28-C28 -> 0 | U28: =L28-D28 -> 0 | V28: =SUM(T28:U28) -> 0 | W28: =N28-F28 -> 0 | X28: =O28-G28 -> 0 | Y28: =SUM(W28:X28) -> 0 | Z28: =S28+V28+Y28 -> -6.95898 | AA28: =S28/$I30 -> -0.0061076571 | AB28: =T28/$I30 -> 0 | AC28: =U28/$I30 -> 0 | AD28: =SUM(AB28:AC28) -> 0 | AH28: =AA28+AD28+AG28 -> -0.0061076571
A29: Non-fuel | B29: =B9+B14+B19+B24 -> 614.70153 | E29: =E9+E14+E19+E24 -> 0 | F29: =F9+F14+F19+F24 -> 34.450255 | G29: =G9+G14+G19+G24 -> 0.34119842 | H29: =H9+H14+H19+H24 -> 34.791453 | I29: =I9+I14+I19+I24 -> 649.49299 | J29: =J9+J14+J19+J24 -> 666.45091 | K29: =K9+K14+K19+K24 -> 0 | L29: =L9+L14+L19+L24 -> 0 | ... Q29: =Q9+Q14+Q19+Q24 -> 696.87858 | S29: =J29-B29 -> 51.749374 | T29: =K29-C29 -> 0 | U29: =L29-D29 -> 0 | V29: =SUM(T29:U29) -> 0 | W29: =N29-F29 -> -4.3845045 | X29: =O29-G29 -> 0.020721441 | Y29: =SUM(W29:X29) -> -4.363783 | Z29: =S29+V29+Y29 -> 47.385591 | AA29: =S29/$I30 -> 0.045418643 | AB29: =T29/$I30 -> 0 | AC29: =U29/$I30 -> 0 | AD29: =SUM(AB29:AC29) -> 0 | AE29: =W29/$I30 -> -0.0038481286 | AF29: =X29/$I30 -> 1.8186495e-05 | AG29: =SUM(AE29:AF29) -> -0.0038299421 | AH29: =AA29+AD29+AG29 -> 0.041588701
A30: Total | B30: =SUM(B28:B29) -> 1096.2207 | C30: =SUM(C28:C29) -> 0 | D30: =SUM(D28:D29) -> 8.3740344 | E30: =SUM(E28:E29) -> 8.3740344 | F30: =SUM(F28:F29) -> 34.450255 | G30: =SUM(G28:G29) -> 0.34119842 | H30: =SUM(H28:H29) -> 34.791453 | I30: =SUM(I28:I29) -> 1139.3862 | ... Q30: =SUM(Q28:Q29) -> 1179.8128 | S30: =SUM(S28:S29) -> 44.790394 | T30: =SUM(T28:T29) -> 0 | U30: =SUM(U28:U29) -> 0 | V30: =SUM(V28:V29) -> 0 | W30: =SUM(W28:W29) -> -4.3845045 | X30: =SUM(X28:X29) -> 0.020721441 | Y30: =SUM(Y28:Y29) -> -4.363783 | Z30: =SUM(Z28:Z29) -> 40.426611 | ... AG30: =SUM(AG28:AG29) -> -0.0038299421 | AH30: =AA30+AD30+AG30 -> 0.035481044
A32: General Rates
A34: Small General Rates
A35: Small General Tariff (Standard Offer)
A36: Base cost of fuel | B36: ='2027 at 2026 Rates'!$W38 -> 39.907722 | C36: ='2027 at 2026 Rates'!$Y38 -> 0 | D36: ='2027 at 2026 Rates'!$Z38 -> 0.68751841 | E36: =SUM(C36:D36) -> 0.68751841 | I36: =B36+E36+H36 -> 40.595241 | J36: ='2027 at 2027 Rates'!$W38 -> 39.087969 | K36: ='2027 at 2027 Rates'!$Y38 -> 0 | L36: ='2027 at 2027 Rates'!$Z38 -> 0.68751841 | M36: =SUM(K36:L36) -> 0.68751841 | Q36: =J36+M36+P36 -> 39.775487 | S36: =J36-B36 -> -0.81975391 | T36: =K36-C36 -> 0 | U36: =L36-D36 -> 0 | V36: =SUM(T36:U36) -> 0 | W36: =N36-F36 -> 0 | X36: =O36-G36 -> 0 | Y36: =SUM(W36:X36) -> 0 | Z36: =S36+V36+Y36 -> -0.81975391 | AA36: =S36/$I38 -> -0.0093309496 | AB36: =T36/$I38 -> 0 | AC36: =U36/$I38 -> 0 | AD36: =SUM(AB36:AC36) -> 0 | AH36: =AA36+AD36+AG36 -> -0.0093309496
A37: Non-fuel | B37: ='2027 at 2026 Rates'!$W39 -> 44.043695 | C37: ='2027 at 2026 Rates'!$Y39 -> 0 | D37: ='2027 at 2026 Rates'!$Z39 -> 0 | F37: ='2027 at 2026 Rates'!$AB39 -> 3.5648513 | G37: ='2027 at 2026 Rates'!$AC39 -> -0.35057357 | H37: =SUM(F37:G37) -> 3.2142778 | I37: =B37+E37+H37 -> 47.257973 | J37: ='2027 at 2027 Rates'!$W39 -> 48.25743 | K37: ='2027 at 2027 Rates'!$Y39 -> 0 | L37: ='2027 at 2027 Rates'!$Z39 -> 0 | N37: ='2027 at 2027 Rates'!$AB39 -> 2.8382438 | O37: ='2027 at 2027 Rates'!$AC39 -> -0.39056541 | P37: =SUM(N37:O37) -> 2.4476784 | Q37: =J37+M37+P37 -> 50.705108 | S37: =J37-B37 -> 4.2137349 | T37: =K37-C37 -> 0 | U37: =L37-D37 -> 0 | V37: =SUM(T37:U37) -> 0 | W37: =N37-F37 -> -0.72660757 | X37: =O37-G37 -> -0.039991844 | Y37: =SUM(W37:X37) -> -0.76659942 | Z37: =S37+V37+Y37 -> 3.4471355 | AA37: =S37/$I38 -> 0.047963356 | AB37: =T37/$I38 -> 0 | AC37: =U37/$I38 -> 0 | AD37: =SUM(AB37:AC37) -> 0 | AE37: =W37/$I38 -> -0.0082707 | AF37: =X37/$I38 -> -0.00045521208 | AG37: =SUM(AE37:AF37) -> -0.0087259121 | AH37: =AA37+AD37+AG37 -> 0.039237444
A38: Total | B38: =SUM(B36:B37) -> 83.951417 | C38: =SUM(C36:C37) -> 0 | D38: =SUM(D36:D37) -> 0.68751841 | E38: =SUM(E36:E37) -> 0.68751841 | F38: =SUM(F36:F37) -> 3.5648513 | G38: =SUM(G36:G37) -> -0.35057357 | H38: =SUM(H36:H37) -> 3.2142778 | I38: =SUM(I36:I37) -> 87.853213 | ... Q38: =SUM(Q36:Q37) -> 90.480595 | S38: =SUM(S36:S37) -> 3.393981 | T38: =SUM(T36:T37) -> 0 | U38: =SUM(U36:U37) -> 0 | V38: =SUM(V36:V37) -> 0 | W38: =SUM(W36:W37) -> -0.72660757 | X38: =SUM(X36:X37) -> -0.039991844 | Y38: =SUM(Y36:Y37) -> -0.76659942 | Z38: =SUM(Z36:Z37) -> 2.6273816 | ... AG38: =SUM(AG36:AG37) -> -0.0087259121 | AH38: =AA38+AD38+AG38 -> 0.029906494
A40: Small General Time-of-Use Tariff
A41: Base cost of fuel | B41: ='2027 at 2026 Rates'!$W43 -> 0.062411426 | C41: ='2027 at 2026 Rates'!$Y43 -> 0 | D41: ='2027 at 2026 Rates'!$Z43 -> 0.0010752055 | E41: =SUM(C41:D41) -> 0.0010752055 | I41: =B41+E41+H41 -> 0.063486632 | J41: ='2027 at 2027 Rates'!$W43 -> 0.061129419 | K41: ='2027 at 2027 Rates'!$Y43 -> 0 | L41: ='2027 at 2027 Rates'!$Z43 -> 0.0010752055 | M41: =SUM(K41:L41) -> 0.0010752055 | Q41: =J41+M41+P41 -> 0.062204624 | S41: =J41-B41 -> -0.0012820078 | T41: =K41-C41 -> 0 | U41: =L41-D41 -> 0 | V41: =SUM(T41:U41) -> 0 | W41: =N41-F41 -> 0 | X41: =O41-G41 -> 0 | Y41: =SUM(W41:X41) -> 0 | Z41: =S41+V41+Y41 -> -0.0012820078 | AA41: =S41/$I43 -> -0.0098947742 | AB41: =T41/$I43 -> 0 | AC41: =U41/$I43 -> 0 | AD41: =SUM(AB41:AC41) -> 0 | AH41: =AA41+AD41+AG41 -> -0.0098947742
A42: Non-fuel | B42: ='2027 at 2026 Rates'!$W44 -> 0.061050707 | E42: 0 | F42: ='2027 at 2026 Rates'!$AB44 -> 0.0055750477 | G42: ='2027 at 2026 Rates'!$AC44 -> -0.00054825972 | H42: =SUM(F42:G42) -> 0.005026788 | I42: =B42+E42+H42 -> 0.066077495 | J42: ='2027 at 2027 Rates'!$W44 -> 0.066928898 | M42: 0 | N42: ='2027 at 2027 Rates'!$AB44 -> 0.0044387109 | O42: ='2027 at 2027 Rates'!$AC44 -> -0.0006108027 | P42: =SUM(N42:O42) -> 0.0038279082 | Q42: =J42+M42+P42 -> 0.070756806 | S42: =J42-B42 -> 0.005878191 | T42: =K42-C42 -> 0 | U42: =L42-D42 -> 0 | V42: =SUM(T42:U42) -> 0 | W42: =N42-F42 -> -0.0011363368 | X42: =O42-G42 -> -6.2542984e-05 | Y42: =SUM(W42:X42) -> -0.0011988798 | Z42: =S42+V42+Y42 -> 0.0046793112 | AA42: =S42/$I43 -> 0.04536897 | AB42: =T42/$I43 -> 0 | AC42: =U42/$I43 -> 0 | AD42: =SUM(AB42:AC42) -> 0 | AE42: =W42/$I43 -> -0.0087704588 | AF42: =X42/$I43 -> -0.00048271837 | AG42: =SUM(AE42:AF42) -> -0.0092531772 | AH42: =AA42+AD42+AG42 -> 0.036115793
A43: Total | B43: =SUM(B41:B42) -> 0.12346213 | C43: =SUM(C41:C42) -> 0 | D43: =SUM(D41:D42) -> 0.0010752055 | E43: =SUM(E41:E42) -> 0.0010752055 | F43: =SUM(F41:F42) -> 0.0055750477 | G43: =SUM(G41:G42) -> -0.00054825972 | H43: =SUM(H41:H42) -> 0.005026788 | I43: =SUM(I41:I42) -> 0.12956413 | ... Q43: =SUM(Q41:Q42) -> 0.13296143 | S43: =SUM(S41:S42) -> 0.0045961832 | T43: =SUM(T41:T42) -> 0 | U43: =SUM(U41:U42) -> 0 | V43: =SUM(V41:V42) -> 0 | W43: =SUM(W41:W42) -> -0.0011363368 | X43: =SUM(X41:X42) -> -6.2542984e-05 | Y43: =SUM(Y41:Y42) -> -0.0011988798 | Z43: =SUM(Z41:Z42) -> 0.0033973034 | ... AG43: =SUM(AG41:AG42) -> -0.0092531772 | AH43: =AA43+AD43+AG43 -> 0.026221019
A45: Small General Critical Peak Pricing Tariff
A46: Base cost of fuel | B46: ='2027 at 2026 Rates'!$W48 -> 0.053174235 | C46: ='2027 at 2026 Rates'!$Y48 -> 0 | D46: ='2027 at 2026 Rates'!$Z48 -> 0.00091606995 | E46: =SUM(C46:D46) -> 0.00091606995 | I46: =B46+E46+H46 -> 0.054090305 | J46: ='2027 at 2027 Rates'!$W48 -> 0.05208197 | K46: ='2027 at 2027 Rates'!$Y48 -> 0 | L46: ='2027 at 2027 Rates'!$Z48 -> 0.00091606995 | M46: =SUM(K46:L46) -> 0.00091606995 | Q46: =J46+M46+P46 -> 0.05299804 | S46: =J46-B46 -> -0.0010922645 | T46: =K46-C46 -> 0 | U46: =L46-D46 -> 0 | V46: =SUM(T46:U46) -> 0 | W46: =N46-F46 -> 0 | X46: =O46-G46 -> 0 | Y46: =SUM(W46:X46) -> 0 | Z46: =S46+V46+Y46 -> -0.0010922645 | AA46: =S46/$I48 -> -0.010009795 | AB46: =T46/$I48 -> 0 | AC46: =U46/$I48 -> 0 | AD46: =SUM(AB46:AC46) -> 0 | AH46: =AA46+AD46+AG46 -> -0.010009795
A47: Non-fuel | B47: ='2027 at 2026 Rates'!$W49 -> 0.050746459 | E47: 0 | F47: ='2027 at 2026 Rates'!$AB49 -> 0.0047499138 | G47: ='2027 at 2026 Rates'!$AC49 -> -0.00046711464 | H47: =SUM(F47:G47) -> 0.0042827992 | I47: =B47+E47+H47 -> 0.055029258 | J47: ='2027 at 2027 Rates'!$W49 -> 0.056157067 | M47: 0 | N47: ='2027 at 2027 Rates'!$AB49 -> 0.0037817603 | O47: ='2027 at 2027 Rates'!$AC49 -> -0.00052040096 | P47: =SUM(N47:O47) -> 0.0032613593 | Q47: =J47+M47+P47 -> 0.059418426 | S47: =J47-B47 -> 0.0054106083 | T47: =K47-C47 -> 0 | U47: =L47-D47 -> 0 | V47: =SUM(T47:U47) -> 0 | W47: =N47-F47 -> -0.00096815351 | X47: =O47-G47 -> -5.3286321e-05 | Y47: =SUM(W47:X47) -> -0.0010214398 | Z47: =S47+V47+Y47 -> 0.0043891685 | AE47: =W47/$I48 -> -0.0088724101 | AF47: =X47/$I48 -> -0.00048832968 | AG47: =SUM(AE47:AF47) -> -0.0093607398 | AH47: =AA47+AD47+AG47 -> -0.0093607398
A48: Total | B48: =SUM(B46:B47) -> 0.10392069 | C48: =SUM(C46:C47) -> 0 | D48: =SUM(D46:D47) -> 0.00091606995 | E48: =SUM(E46:E47) -> 0.00091606995 | F48: =SUM(F46:F47) -> 0.0047499138 | G48: =SUM(G46:G47) -> -0.00046711464 | H48: =SUM(H46:H47) -> 0.0042827992 | I48: =SUM(I46:I47) -> 0.10911956 | ... Q48: =SUM(Q46:Q47) -> 0.11241647 | S48: =SUM(S46:S47) -> 0.0043183438 | T48: =SUM(T46:T47) -> 0 | U48: =SUM(U46:U47) -> 0 | V48: =SUM(V46:V47) -> 0 | W48: =SUM(W46:W47) -> -0.00096815351 | X48: =SUM(X46:X47) -> -5.3286321e-05 | Y48: =SUM(Y46:Y47) -> -0.0010214398 | Z48: =SUM(Z46:Z47) -> 0.003296904 | ... AG48: =SUM(AG46:AG47) -> -0.0093607398 | AH48: =AA48+AD48+AG48 -> -0.019370535
A50: Small General Rates Total
...

Sheet 2027 at 2026 Rates
A2: 2027 Sales Priced at 2026 Rates | B2: First KWh Block | E2: Second KWh Block | H2: Third KWh Block | K2: Total Energy | M2: Demand | T2: Base Charge | W2: Revenue ($ million) | Y2: 2027 Sales Priced at Standard
B3: Energy | C3: Per KWh | D3: Revenue | E3: Energy | F3: Per KWh | G3: Revenue | H3: Energy | I3: Per KWh | J3: Revenue | K3: GWh | L3: Revenue | M3: MW or | N3: Charges per kVa or kW | S3: Revenue | T3: Billmonths | U3: Base | V3: Revenue | Y3: 2027 FAM Riders | AB3: 2027 DSM Riders
B4: in GWh | C4: Charge | D4: (millions) | E4: in GWh | F4: Charge | G4: (millions) | H4: in GWh | I4: Charge | L4: (millions) | M4: MVA | N4: Standard Offer | O4: Distribution Cost Adder | P4: Interruptible Credit | Q4: Transformer Ownership Credit | R4: Total | S4: ($ million) | T4: ($ million) | U4: Charge | V4: ($ million) | AF4: Total Revenue Under All Rates (millions)
A5: FAM Classes | Y5: AA | Z5: BA | AA5: Total | AB5: PCR | AC5: BA | AD5: Total | AE5: Total
A7: Domestic Rates
A9: Domestic Service Tariff (Standard Offer)
A10: Base cost of fuel | B10: 4981.018 | C10: 0.089702266 | D10: =+B10*C10 -> 446.8086 | K10: =+B10+E10+H10 -> 4981.018 | L10: =+D10+G10+J10 -> 446.8086 | W10: =L10+S10+V10 -> 446.8086 | Y10: 0 | Z10: 7.770388 | AA10: =SUM(Y10:Z10) -> 7.770388 | AD10: =SUM(AB10:AC10) -> 0 | AE10: =AA10+AD10 -> 7.770388 | AG10: =W10+AE10 -> 454.57899
A11: Non-fuel | B11: =B10 -> 4981.018 | C11: 0.093533053 | D11: =+B11*C11 -> 465.88982 | K11: =+B11+E11+H11 -> 4981.018 | L11: =+D11+G11+J11 -> 465.88982 | T11: 5.8805032 | U11: 20.082456 | V11: =+T11*U11 -> 118.09494 | W11: =L11+S11+V11 -> 583.98476 | AA11: =SUM(Y11:Z11) -> 0 | AB11: 31.966891 | AC11: 0.31660297 | AD11: =SUM(AB11:AC11) -> 32.283494 | AE11: =AA11+AD11 -> 32.283494 | AG11: =W11+AE11 -> 616.26826
A12: Total | B12: =B11 -> 4981.018 | C12: =SUM(C10:C11) -> 0.18323532 | D12: =SUM(D10:D11) -> 912.69842 | K12: =K11 -> 4981.018 | L12: =+D12+G12+J12 -> 912.69842 | V12: =SUM(V10:V11) -> 118.09494 | W12: =SUM(W10:W11) -> 1030.7934 | Y12: =SUM(Y10:Y11) -> 0 | Z12: =SUM(Z10:Z11) -> 7.770388 | AA12: =SUM(AA10:AA11) -> 7.770388 | AB12: =SUM(AB10:AB11) -> 31.966891 | AC12: =SUM(AC10:AC11) -> 0.31660297 | AD12: =SUM(AD10:AD11) -> 32.283494 | AE12: =SUM(AE10:AE11) -> 40.053882 | AG12: =SUM(AG10:AG11) -> 1070.8472
A14: Domestic Service Time-of-Day Tariff
A15: Base cost of fuel | B15: 30.583172 | C15: 0.089702266 | D15: =+B15*C15 -> 2.7433798 | E15: 70.782824 | F15: 0.089702266 | G15: =+E15*F15 -> 6.3493797 | H15: 200.22546 | I15: 0.089702266 | J15: =+H15*I15 -> 17.960677 | K15: =+B15+E15+H15 -> 301.59145 | L15: =+D15+G15+J15 -> 27.053437 | W15: =L15+S15+V15 -> 27.053437 | Y15: 0 | Z15: 0.47048267 | AA15: =SUM(Y15:Z15) -> 0.47048267 | AD15: =SUM(AB15:AC15) -> 0 | AE15: =AA15+AD15 -> 0.47048267 | AG15: =W15+AE15 -> 27.52392
A16: Non-fuel | B16: =B15 -> 30.583172 | C16: 0.1541386 | D16: =+B16*C16 -> 4.7140472 | E16: =E15 -> 70.782824 | F16: 0.10489256 | G16: =+E16*F16 -> 7.4245916 | H16: =H15 -> 200.22546 | I16: 0.026613085 | J16: =+H16*I16 -> 5.3286172 | K16: =+B16+E16+H16 -> 301.59145 | L16: =+D16+G16+J16 -> 17.467256 | T16: 0.16735473 | U16: 20.082456 | V16: =+T16*U16 -> 3.360894 | W16: =L16+S16+V16 -> 20.82815 | AA16: =SUM(Y16:Z16) -> 0 | AB16: 1.9355363 | AC16: 0.019169726 | AD16: =SUM(AB16:AC16) -> 1.9547061 | AE16: =AA16+AD16 -> 1.9547061 | AG16: =W16+AE16 -> 22.782856
A17: Total | B17: =B16 -> 30.583172 | C17: =SUM(C15:C16) -> 0.24384087 | D17: =SUM(D15:D16) -> 7.457427 | E17: =E16 -> 70.782824 | F17: =SUM(F15:F16) -> 0.19459483 | G17: =SUM(G15:G16) -> 13.773971 | H17: =H16 -> 200.22546 | I17: =SUM(I15:I16) -> 0.11631535 | J17: =SUM(J15:J16) -> 23.289295 | K17: =K16 -> 301.59145 | L17: =+D17+G17+J17 -> 44.520693 | V17: =SUM(V15:V16) -> 3.360894 | W17: =SUM(W15:W16) -> 47.881587 | Y17: =SUM(Y15:Y16) -> 0 | Z17: =SUM(Z15:Z16) -> 0.47048267 | AA17: =SUM(AA15:AA16) -> 0.47048267 | AB17: =SUM(AB15:AB16) -> 1.9355363 | AC17: =SUM(AC15:AC16) -> 0.019169726 | AD17: =SUM(AD15:AD16) -> 1.9547061 | AE17: =SUM(AE15:AE16) -> 2.4251887 | AG17: =SUM(AG15:AG16) -> 50.306776
A19: Domestic Service Time-of-Use Tariff
A20: Base cost of fuel | B20: 8.7627333 | C20: 0.089702266 | D20: =+B20*C20 -> 0.78603704 | E20: 26.59462 | F20: 0.089702266 | G20: =+E20*F20 -> 2.3855977 | H20: 22.942714 | I20: 0.089702266 | J20: =+H20*I20 -> 2.0580135 | K20: =+B20+E20+H20 -> 58.300068 | L20: =+D20+G20+J20 -> 5.2296482 | W20: =L20+S20+V20 -> 5.2296482 | Y20: 0 | Z20: 0.090948106 | AA20: =SUM(Y20:Z20) -> 0.090948106 | AD20: =SUM(AB20:AC20) -> 0 | AE20: =AA20+AD20 -> 0.090948106 | AG20: =W20+AE20 -> 5.3205963
A21: Non-fuel | B21: =B20 -> 8.7627333 | C21: 0.27547014 | D21: =+B21*C21 -> 2.4138714 | E21: =E20 -> 26.59462 | F21: 0.093533053 | G21: =+E21*F21 -> 2.4874761 | H21: =H20 -> 22.942714 | I21: 0.034388323 | J21: =+H21*I21 -> 0.78896147 | K21: =+B21+E21+H21 -> 58.300068 | L21: =+D21+G21+J21 -> 5.6903089 | T21: 0.066 | U21: 20.082456 | V21: =+T21*U21 -> 1.3254421 | W21: =L21+S21+V21 -> 7.015751 | AA21: =SUM(Y21:Z21) -> 0 | AB21: 0.37415483 | AC21: 0.0037056631 | AD21: =SUM(AB21:AC21) -> 0.3778605 | AE21: =AA21+AD21 -> 0.3778605 | AG21: =W21+AE21 -> 7.3936115
A22: Total | B22: =B21 -> 8.7627333 | C22: =SUM(C20:C21) -> 0.36517241 | D22: =SUM(D20:D21) -> 3.1999084 | E22: =E21 -> 26.59462 | F22: =SUM(F20:F21) -> 0.18323532 | G22: =SUM(G20:G21) -> 4.8730738 | H22: =H21 -> 22.942714 | I22: =SUM(I20:I21) -> 0.12409059 | J22: =SUM(J20:J21) -> 2.8469749 | K22: =K21 -> 58.300068 | L22: =+D22+G22+J22 -> 10.919957 | V22: =SUM(V20:V21) -> 1.3254421 | W22: =SUM(W20:W21) -> 12.245399 | Y22: =SUM(Y20:Y21) -> 0 | Z22: =SUM(Z20:Z21) -> 0.090948106 | AA22: =SUM(AA20:AA21) -> 0.090948106 | AB22: =SUM(AB20:AB21) -> 0.37415483 | AC22: =SUM(AC20:AC21) -> 0.0037056631 | AD22: =SUM(AD20:AD21) -> 0.3778605 | AE22: =SUM(AE20:AE21) -> 0.4688086 | AG22: =SUM(AG20:AG21) -> 12.714208
A24: Domestic Service Critical Peak Pricing Tariff
A25: Base cost of fuel | B25: 0.31640889 | C25: 0.089702266 | D25: =+B25*C25 -> 0.028382594 | E25: 26.74487 | F25: 0.089702266 | G25: =+E25*F25 -> 2.3990755 | K25: =+B25+E25+H25 -> 27.061279 | L25: =+D25+G25+J25 -> 2.4274581 | W25: =L25+S25+V25 -> 2.4274581 | Y25: 0 | Z25: 0.042215596 | AA25: =SUM(Y25:Z25) -> 0.042215596 | AD25: =SUM(AB25:AC25) -> 0 | AE25: =AA25+AD25 -> 0.042215596 | AG25: =W25+AE25 -> 2.4696737
A26: Non-fuel | B26: =B25 -> 0.31640889 | C26: 1.7309668 | D26: =+B26*C26 -> 0.54769329 | E26: =E25 -> 26.74487 | F26: 0.064412461 | G26: =+E26*F26 -> 1.7227029 | K26: =+B26+E26+H26 -> 27.061279 | L26: =+D26+G26+J26 -> 2.2703962 | T26: 0.03 | U26: 20.082456 | V26: =+T26*U26 -> 0.60247367 | W26: =L26+S26+V26 -> 2.8728699 | AA26: =SUM(Y26:Z26) -> 0 | AB26: 0.17367233 | AC26: 0.0017200663 | AD26: =SUM(AB26:AC26) -> 0.17539239 | AE26: =AA26+AD26 -> 0.17539239 | AG26: =W26+AE26 -> 3.0482623
A27: Total | B27: =B26 -> 0.31640889 | C27: =SUM(C25:C26) -> 1.8206691 | D27: =SUM(D25:D26) -> 0.57607588 | E27: =E26 -> 26.74487 | F27: =SUM(F25:F26) -> 0.15411473 | G27: =SUM(G25:G26) -> 4.1217784 | K27: =K26 -> 27.061279 | L27: =+D27+G27+J27 -> 4.6978543 | V27: =SUM(V25:V26) -> 0.60247367 | W27: =SUM(W25:W26) -> 5.300328 | Y27: =SUM(Y25:Y26) -> 0 | Z27: =SUM(Z25:Z26) -> 0.042215596 | AA27: =SUM(AA25:AA26) -> 0.042215596 | AB27: =SUM(AB25:AB26) -> 0.17367233 | AC27: =SUM(AC25:AC26) -> 0.0017200663 | AD27: =SUM(AD25:AD26) -> 0.17539239 | AE27: =SUM(AE25:AE26) -> 0.21760799 | AG27: =SUM(AG25:AG26) -> 5.517936
A29: All Domestic Rates Total
A30: Base cost of fuel | B30: =B10+B15+B20+B25 -> 5020.6803 | D30: =D10+D15+D20+D25 -> 450.3664 | E30: =E10+E15+E20+E25 -> 124.12232 | G30: =G10+G15+G20+G25 -> 11.134053 | H30: =H10+H15+H20+H25 -> 223.16817 | J30: =J10+J15+J20+J25 -> 20.018691 | K30: =K10+K15+K20+K25 -> 5367.9708 | L30: =L10+L15+L20+L25 -> 481.51914 | W30: =L30+S30+V30 -> 481.51914 | Y30: =Y10+Y15+Y20+Y25 -> 0 | Z30: =Z10+Z15+Z20+Z25 -> 8.3740344 | AA30: =AA10+AA15+AA20+AA25 -> 8.3740344 | AD30: =AD10+AD15+AD20+AD25 -> 0 | AE30: =AE10+AE15+AE20+AE25 -> 8.3740344 | AG30: =W30+AE30 -> 489.89318
A31: Non-fuel | B31: =B11+B16+B21+B26 -> 5020.6803 | D31: =D11+D16+D21+D26 -> 473.56543 | E31: =E11+E16+E21+E26 -> 124.12232 | G31: =G11+G16+G21+G26 -> 11.634771 | H31: =H11+H16+H21+H26 -> 223.16817 | J31: =J11+J16+J21+J26 -> 6.1175786 | K31: =K11+K16+K21+K26 -> 5367.9708 | L31: =L11+L16+L21+L26 -> 491.31778 | T31: =T11+T16+T21+T26 -> 6.1438579 | V31: =V11+V16+V21+V26 -> 123.38375 | W31: =L31+S31+V31 -> 614.70153 | AA31: =AA11+AA16+AA21+AA26 -> 0 | AB31: =AB11+AB16+AB21+AB26 -> 34.450255 | AC31: =AC11+AC16+AC21+AC26 -> 0.34119842 | AD31: =AD11+AD16+AD21+AD26 -> 34.791453 | AE31: =AE11+AE16+AE21+AE26 -> 34.791453 | AG31: =W31+AE31 -> 649.49299
A32: Total | B32: =B12+B17+B22+B27 -> 5020.6803 | D32: =D12+D17+D22+D27 -> 923.93183 | E32: =E12+E17+E22+E27 -> 124.12232 | G32: =G12+G17+G22+G27 -> 22.768824 | H32: =H12+H17+H22+H27 -> 223.16817 | J32: =J12+J17+J22+J27 -> 26.13627 | K32: =K31 -> 5367.9708 | L32: =L12+L17+L22+L27 -> 972.83692 | T32: =SUM(T30:T31) -> 6.1438579 | V32: =SUM(V30:V31) -> 123.38375 | W32: =SUM(W30:W31) -> 1096.2207 | Y32: =SUM(Y30:Y31) -> 0 | Z32: =SUM(Z30:Z31) -> 8.3740344 | AA32: =SUM(AA30:AA31) -> 8.3740344 | AB32: =SUM(AB30:AB31) -> 34.450255 | AC32: =SUM(AC30:AC31) -> 0.34119842 | AD32: =SUM(AD30:AD31) -> 34.791453 | AE32: =SUM(AE30:AE31) -> 43.165488 | AG32: =SUM(AG30:AG31) -> 1139.3862
A34: General Rates
A36: Small General Rates
A37: Small General Tariff (Standard Offer)
A38: Base cost of fuel | B38: 74.26762 | C38: 0.090551826 | D38: =+B38*C38 -> 6.7250686 | E38: 366.44931 | F38: 0.090551826 | G38: =+E38*F38 -> 33.182654 | K38: =+B38+E38+H38 -> 440.71693 | L38: =+D38+G38+J38 -> 39.907722 | W38: =L38+S38+V38 -> 39.907722 | Y38: 0 | Z38: 0.68751841 | AA38: =SUM(Y38:Z38) -> 0.68751841 | AE38: =AA38+AD38 -> 0.68751841 | AG38: =W38+AE38 -> 40.595241
A39: Non-fuel | B39: =B38 -> 74.26762 | C39: 0.098638077 | D39: =+B39*C39 -> 7.3256152 | E39: =E38 -> 366.44931 | F39: 0.080564901 | G39: =+E39*F39 -> 29.522952 | K39: =+B39+E39+H39 -> 440.71693 | L39: =+D39+G39+J39 -> 36.848567 | T39: 0.32712096 | U39: 21.995311 | V39: =+T39*U39 -> 7.1951273 | W39: =L39+S39+V39 -> 44.043695 | AA39: =SUM(Y39:Z39) -> 0 | AB39: 3.5648513 | AC39: -0.35057357 | AD39: =SUM(AB39:AC39) -> 3.2142778 | AE39: =AA39+AD39 -> 3.2142778 | AG39: =W39+AE39 -> 47.257973
A40: Total | B40: =B39 -> 74.26762 | C40: =SUM(C38:C39) -> 0.1891899 | D40: =SUM(D38:D39) -> 14.050684 | E40: =E39 -> 366.44931 | F40: =SUM(F38:F39) -> 0.17111673 | G40: =SUM(G38:G39) -> 62.705606 | K40: =K39 -> 440.71693 | L40: =+D40+G40+J40 -> 76.75629 | V40: =SUM(V38:V39) -> 7.1951273 | W40: =SUM(W38:W39) -> 83.951417 | Y40: =SUM(Y38:Y39) -> 0 | Z40: =SUM(Z38:Z39) -> 0.68751841 | AA40: =SUM(AA38:AA39) -> 0.68751841 | AB40: =SUM(AB38:AB39) -> 3.5648513 | AC40: =SUM(AC38:AC39) -> -0.35057357 | AD40: =SUM(AD38:AD39) -> 3.2142778 | AE40: =SUM(AE38:AE39) -> 3.9017962 | AG40: =SUM(AG38:AG39) -> 87.853213
A42: Small General Time-of-Use Tariff
A43: Base cost of fuel | B43: 0.085898533 | C43: 0.090551826 | D43: =+B43*C43 -> 0.007778269 | E43: 0.10320559 | F43: 0.090551826 | G43: =+E43*F43 -> 0.0093454549 | H43: 0.5001302 | I43: 0.090551826 | J43: =+H43*I43 -> 0.045287703 | K43: =+B43+E43+H43 -> 0.68923433 | L43: =+D43+G43+J43 -> 0.062411426 | W43: =L43+S43+V43 -> 0.062411426 | Y43: 0 | Z43: 0.0010752055 | AA43: =SUM(Y43:Z43) -> 0.0010752055 | AE43: =AA43+AD43 -> 0.0010752055 | AG43: =W43+AE43 -> 0.063486632
A44: Non-fuel | B44: =B43 -> 0.085898533 | C44: 0.28618709 | D44: =+B44*C44 -> 0.024583051 | E44: =E43 -> 0.10320559 | F44: 0.098466351 | G44: =+E44*F44 -> 0.010162278 | H44: =H43 -> 0.5001302 | I44: 0.033411794 | J44: =+H44*I44 -> 0.016710247 | K44: =+B44+E44+H44 -> 0.68923433 | L44: =+D44+G44+J44 -> 0.051455577 | T44: 0.00043623525 | U44: 21.995311 | V44: =+T44*U44 -> 0.0095951302 | W44: =L44+S44+V44 -> 0.061050707 | AA44: =SUM(Y44:Z44) -> 0 | AB44: 0.0055750477 | AC44: -0.00054825972 | AD44: =SUM(AB44:AC44) -> 0.005026788 | AE44: =AA44+AD44 -> 0.005026788 | AG44: =W44+AE44 -> 0.066077495
A45: Total | B45: =B44 -> 0.085898533 | C45: =SUM(C43:C44) -> 0.37673892 | D45: =SUM(D43:D44) -> 0.03236132 | E45: =E44 -> 0.10320559 | F45: =SUM(F43:F44) -> 0.18901818 | G45: =SUM(G43:G44) -> 0.019507733 | H45: =H44 -> 0.5001302 | I45: =SUM(I43:I44) -> 0.12396362 | J45: =SUM(J43:J44) -> 0.06199795 | K45: =K44 -> 0.68923433 | L45: =+D45+G45+J45 -> 0.113867 | V45: =SUM(V43:V44) -> 0.0095951302 | W45: =SUM(W43:W44) -> 0.12346213 | Y45: =SUM(Y43:Y44) -> 0 | Z45: =SUM(Z43:Z44) -> 0.0010752055 | AA45: =SUM(AA43:AA44) -> 0.0010752055 | AB45: =SUM(AB43:AB44) -> 0.0055750477 | AC45: =SUM(AC43:AC44) -> -0.00054825972 | AD45: =SUM(AD43:AD44) -> 0.005026788 | AE45: =SUM(AE43:AE44) -> 0.0061019936 | AG45: =SUM(AG43:AG44) -> 0.12956413
A47: Small General Critical Peak Pricing Tariff
A48: Base cost of fuel | B48: 0.0085784264 | C48: 0.090551826 | D48: =+B48*C48 -> 0.00077679218 | E48: 0.097804139 | F48: 0.090551826 | G48: =+E48*F48 -> 0.0088563433 | H48: 0.48084176 | I48: 0.090551826 | J48: =+H48*I48 -> 0.043541099 | K48: =+B48+E48+H48 -> 0.58722433 | L48: =+D48+G48+J48 -> 0.053174235 | W48: =L48+S48+V48 -> 0.053174235 | Y48: 0 | Z48: 0.00091606995 | AA48: =SUM(Y48:Z48) -> 0.00091606995 | AE48: =AA48+AD48 -> 0.00091606995 | AG48: =W48+AE48 -> 0.054090305
A49: Non-fuel | B49: =B48 -> 0.0085784264 | C49: 1.4288595 | D49: =+B49*C49 -> 0.012257366 | E49: =E48 -> 0.097804139 | F49: 0.076837177 | G49: =+E49*F49 -> 0.007514994 | H49: =H48 -> 0.48084176 | I49: 0.062753503 | J49: =+H49*I49 -> 0.030174505 | K49: =+B49+E49+H49 -> 0.58722433 | L49: =+D49+G49+J49 -> 0.049946865 | T49: 3.6352938e-05 | U49: 21.995311 | V49: =+T49*U49 -> 0.00079959418 | W49: =L49+S49+V49 -> 0.050746459 | AA49: =SUM(Y49:Z49) -> 0 | AB49: 0.0047499138 | AC49: -0.00046711464 | AD49: =SUM(AB49:AC49) -> 0.0042827992 | AE49: =AA49+AD49 -> 0.0042827992 | AG49: =W49+AE49 -> 0.055029258
A50: Total | B50: =B49 -> 0.0085784264 | C50: =SUM(C48:C49) -> 1.5194113 | D50: =SUM(D48:D49) -> 0.013034158 | E50: =E49 -> 0.097804139 | F50: =SUM(F48:F49) -> 0.167389 | G50: =SUM(G48:G49) -> 0.016371337 | H50: =H49 -> 0.48084176 | I50: =SUM(I48:I49) -> 0.15330533 | J50: =SUM(J48:J49) -> 0.073715604 | K50: =K49 -> 0.58722433 | L50: =+D50+G50+J50 -> 0.1031211 | V50: =SUM(V48:V49) -> 0.00079959418 | W50: =SUM(W48:W49) -> 0.10392069 | Y50: =SUM(Y48:Y49) -> 0 | Z50: =SUM(Z48:Z49) -> 0.00091606995 | AA50: =SUM(AA48:AA49) -> 0.00091606995 | AB50: =SUM(AB48:AB49) -> 0.0047499138 | AC50: =SUM(AC48:AC49) -> -0.00046711464 | AD50: =SUM(AD48:AD49) -> 0.0042827992 | AE50: =SUM(AE48:AE49) -> 0.0051988691 | AG50: =SUM(AG48:AG49) -> 0.10911956
A52: Small General Rates Total
...

Sheet 2027 at 2027 Rates
A2: 2027 Sales Priced at 2027 Proposed Rates | B2: First KWh Block | E2: Second KWh Block | H2: Third KWh Block | K2: Total Energy | M2: Demand | T2: Base Charge | W2: Revenue (millions) | Y2: 2027 Sales Priced at Standard
B3: Energy | C3: Per KWh | D3: Revenue | E3: Energy | F3: Per KWh | G3: Revenue | H3: Energy | I3: Per KWh | J3: Revenue | K3: GWHS | L3: Revenue | M3: MWS or | N3: Charges per kVa or kW | S3: Revenue | T3: Billmonths | U3: Base | V3: Revenue | Y3: 2027 FAM Riders | AB3: 2027 DSM Riders | AJ3: Chck
B4: in GWh | C4: Charge | D4: (millions) | E4: in GWh | F4: Charge | G4: (millions) | H4: in GWh | I4: Charge | L4: (millions) | M4: MVAS | N4: Standard Offer | O4: Distribution Cost Adder | P4: Interruptible Credit | Q4: Transformer Ownership Credit | R4: Total | S4: (millions) | T4: ($ million) | U4: Charge | V4: ($ million) | AF4: Total Revenue Under All Rates (millions)
A5: FAM Classes | Y5: AA | Z5: BA | AA5: Total | AB5: PCR | AC5: BA | AD5: Total | AE5: Total
A7: Domestic Rates
A9: Domestic Service Tariff (Standard Offer)
A10: Base cost of fuel | B10: ='2027 at 2026 Rates'!B10 -> 4981.018 | C10: 0.088405877 | D10: =+B10*C10 -> 440.35126 | K10: =+B10+E10+H10 -> 4981.018 | L10: =+D10+G10+J10 -> 440.35126 | W10: =L10+S10+V10 -> 440.35126 | Y10: 0 | Z10: 7.770388 | AA10: =SUM(Y10:Z10) -> 7.770388 | AD10: =SUM(AB10:AC10) -> 0 | AE10: =AA10+AD10 -> 7.770388 | AG10: =W10+AE10 -> 448.12165
A11: Non-fuel | B11: =B10 -> 4981.018 | C11: 0.10226665 | D11: =+B11*C11 -> 509.39201 | K11: =+B11+E11+H11 -> 4981.018 | L11: =+D11+G11+J11 -> 509.39201 | T11: ='2027 at 2026 Rates'!T11 -> 5.8805032 | U11: 21.038342 | V11: =+T11*U11 -> 123.71604 | W11: =L11+S11+V11 -> 633.10805 | AA11: =SUM(Y11:Z11) -> 0 | AB11: 27.898446 | AC11: 0.33583069 | AD11: =SUM(AB11:AC11) -> 28.234277 | AE11: =AA11+AD11 -> 28.234277 | AG11: =W11+AE11 -> 661.34233
A12: Total | B12: =B11 -> 4981.018 | C12: =SUM(C10:C11) -> 0.19067253 | D12: =SUM(D10:D11) -> 949.74328 | K12: =K11 -> 4981.018 | L12: =+D12+G12+J12 -> 949.74328 | V12: =SUM(V10:V11) -> 123.71604 | W12: =SUM(W10:W11) -> 1073.4593 | Y12: =SUM(Y10:Y11) -> 0 | Z12: =SUM(Z10:Z11) -> 7.770388 | AA12: =SUM(AA10:AA11) -> 7.770388 | AB12: =SUM(AB10:AB11) -> 27.898446 | AC12: =SUM(AC10:AC11) -> 0.33583069 | AD12: =SUM(AD10:AD11) -> 28.234277 | AE12: =SUM(AE10:AE11) -> 36.004665 | AG12: =SUM(AG10:AG11) -> 1109.464
A14: Domestic Service Time-of-Day Tariff
A15: Base cost of fuel | B15: ='2027 at 2026 Rates'!B15 -> 30.583172 | C15: 0.088405877 | D15: =+B15*C15 -> 2.7037321 | E15: ='2027 at 2026 Rates'!E15 -> 70.782824 | F15: 0.088405877 | G15: =+E15*F15 -> 6.2576176 | H15: ='2027 at 2026 Rates'!H15 -> 200.22546 | I15: 0.088405877 | J15: =+H15*I15 -> 17.701107 | K15: =+B15+E15+H15 -> 301.59145 | L15: =+D15+G15+J15 -> 26.662457 | W15: =L15+S15+V15 -> 26.662457 | Y15: 0 | Z15: 0.47048267 | AA15: =SUM(Y15:Z15) -> 0.47048267 | AD15: =SUM(AB15:AC15) -> 0 | AE15: =AA15+AD15 -> 0.47048267 | AG15: =W15+AE15 -> 27.13294
A16: Non-fuel | B16: =B15 -> 30.583172 | C16: 0.1685312 | D16: =+B16*C16 -> 5.1542187 | E16: =E15 -> 70.782824 | F16: 0.11468684 | G16: =+E16*F16 -> 8.1178586 | H16: =H15 -> 200.22546 | I16: 0.029098067 | J16: =+H16*I16 -> 5.8261737 | K16: =+B16+E16+H16 -> 301.59145 | L16: =+D16+G16+J16 -> 19.098251 | T16: ='2027 at 2026 Rates'!T16 -> 0.16735473 | U16: 21.038342 | V16: =+T16*U16 -> 3.5208661 | W16: =L16+S16+V16 -> 22.619117 | AA16: =SUM(Y16:Z16) -> 0 | AB16: 1.6891995 | AC16: 0.020333929 | AD16: =SUM(AB16:AC16) -> 1.7095334 | AE16: =AA16+AD16 -> 1.7095334 | AG16: =W16+AE16 -> 24.328651
A17: Total | B17: =B16 -> 30.583172 | C17: =SUM(C15:C16) -> 0.25693708 | D17: =SUM(D15:D16) -> 7.8579508 | E17: =E16 -> 70.782824 | F17: =SUM(F15:F16) -> 0.20309272 | G17: =SUM(G15:G16) -> 14.375476 | H17: =H16 -> 200.22546 | I17: =SUM(I15:I16) -> 0.11750394 | J17: =SUM(J15:J16) -> 23.527281 | K17: =K16 -> 301.59145 | L17: =+D17+G17+J17 -> 45.760708 | V17: =SUM(V15:V16) -> 3.5208661 | W17: =SUM(W15:W16) -> 49.281574 | Y17: =SUM(Y15:Y16) -> 0 | Z17: =SUM(Z15:Z16) -> 0.47048267 | AA17: =SUM(AA15:AA16) -> 0.47048267 | AB17: =SUM(AB15:AB16) -> 1.6891995 | AC17: =SUM(AC15:AC16) -> 0.020333929 | AD17: =SUM(AD15:AD16) -> 1.7095334 | AE17: =SUM(AE15:AE16) -> 2.1800161 | AG17: =SUM(AG15:AG16) -> 51.46159
A19: Domestic Service Time-of-Use Tariff
A20: Base cost of fuel | B20: ='2027 at 2026 Rates'!B20 -> 8.7627333 | C20: 0.088405877 | D20: =+B20*C20 -> 0.77467712 | E20: ='2027 at 2026 Rates'!E20 -> 26.59462 | F20: 0.088405877 | G20: =+E20*F20 -> 2.3511207 | H20: ='2027 at 2026 Rates'!H20 -> 22.942714 | I20: 0.088405877 | J20: =+H20*I20 -> 2.0282708 | K20: =+B20+E20+H20 -> 58.300068 | L20: =+D20+G20+J20 -> 5.1540686 | W20: =L20+S20+V20 -> 5.1540686 | Y20: 0 | Z20: 0.090948106 | AA20: =SUM(Y20:Z20) -> 0.090948106 | AD20: =SUM(AB20:AC20) -> 0 | AE20: =AA20+AD20 -> 0.090948106 | AG20: =W20+AE20 -> 5.2450168
A21: Non-fuel | B21: =B20 -> 8.7627333 | C21: 0.2944031 | D21: =+B21*C21 -> 2.5797758 | E21: =E20 -> 26.59462 | F21: 0.10226665 | G21: =+E21*F21 -> 2.7197427 | H21: =H20 -> 22.942714 | I21: 0.040192429 | J21: =+H21*I21 -> 0.92212342 | K21: =+B21+E21+H21 -> 58.300068 | L21: =+D21+G21+J21 -> 6.221642 | T21: ='2027 at 2026 Rates'!T21 -> 0.066 | U21: 21.038342 | V21: =+T21*U21 -> 1.3885306 | W21: =L21+S21+V21 -> 7.6101726 | AA21: =SUM(Y21:Z21) -> 0 | AB21: 0.32653593 | AC21: 0.003930713 | AD21: =SUM(AB21:AC21) -> 0.33046664 | AE21: =AA21+AD21 -> 0.33046664 | AG21: =W21+AE21 -> 7.9406392
A22: Total | B22: =B21 -> 8.7627333 | C22: =SUM(C20:C21) -> 0.38280898 | D22: =SUM(D20:D21) -> 3.354453 | E22: =E21 -> 26.59462 | F22: =SUM(F20:F21) -> 0.19067253 | G22: =SUM(G20:G21) -> 5.0708635 | H22: =H21 -> 22.942714 | I22: =SUM(I20:I21) -> 0.12859831 | J22: =SUM(J20:J21) -> 2.9503942 | K22: =K21 -> 58.300068 | L22: =+D22+G22+J22 -> 11.375711 | V22: =SUM(V20:V21) -> 1.3885306 | W22: =SUM(W20:W21) -> 12.764241 | Y22: =SUM(Y20:Y21) -> 0 | Z22: =SUM(Z20:Z21) -> 0.090948106 | AA22: =SUM(AA20:AA21) -> 0.090948106 | AB22: =SUM(AB20:AB21) -> 0.32653593 | AC22: =SUM(AC20:AC21) -> 0.003930713 | AD22: =SUM(AD20:AD21) -> 0.33046664 | AE22: =SUM(AE20:AE21) -> 0.42141474 | AG22: =SUM(AG20:AG21) -> 13.185656
A24: Domestic Service Critical Peak Pricing Tariff
A25: Base cost of fuel | B25: ='2027 at 2026 Rates'!B25 -> 0.31640889 | C25: 0.088405877 | D25: =+B25*C25 -> 0.027972405 | E25: ='2027 at 2026 Rates'!E25 -> 26.74487 | F25: 0.088405877 | G25: =+E25*F25 -> 2.3644037 | K25: =+B25+E25+H25 -> 27.061279 | L25: =+D25+G25+J25 -> 2.3923761 | W25: =L25+S25+V25 -> 2.3923761 | Y25: 0 | Z25: 0.042215596 | AA25: =SUM(Y25:Z25) -> 0.042215596 | AD25: =SUM(AB25:AC25) -> 0 | AE25: =AA25+AD25 -> 0.042215596 | AG25: =W25+AE25 -> 2.4345917
A26: Non-fuel | B26: =B25 -> 0.31640889 | C26: 1.8314947 | D26: =+B26*C26 -> 0.5795012 | E26: =E25 -> 26.74487 | F26: 0.071150588 | G26: =+E26*F26 -> 1.9029133 | K26: =+B26+E26+H26 -> 27.061279 | L26: =+D26+G26+J26 -> 2.4824145 | T26: ='2027 at 2026 Rates'!T26 -> 0.03 | U26: 21.038342 | V26: =+T26*U26 -> 0.63115027 | W26: =L26+S26+V26 -> 3.1135647 | AA26: =SUM(Y26:Z26) -> 0 | AB26: 0.15156895 | AC26: 0.0018245283 | AD26: =SUM(AB26:AC26) -> 0.15339347 | AE26: =AA26+AD26 -> 0.15339347 | AG26: =W26+AE26 -> 3.2669582
A27: Total | B27: =B26 -> 0.31640889 | C27: =SUM(C25:C26) -> 1.9199006 | D27: =SUM(D25:D26) -> 0.6074736 | E27: =E26 -> 26.74487 | F27: =SUM(F25:F26) -> 0.15955647 | G27: =SUM(G25:G26) -> 4.267317 | K27: =K26 -> 27.061279 | L27: =+D27+G27+J27 -> 4.8747906 | V27: =SUM(V25:V26) -> 0.63115027 | W27: =SUM(W25:W26) -> 5.5059409 | Y27: =SUM(Y25:Y26) -> 0 | Z27: =SUM(Z25:Z26) -> 0.042215596 | AA27: =SUM(AA25:AA26) -> 0.042215596 | AB27: =SUM(AB25:AB26) -> 0.15156895 | AC27: =SUM(AC25:AC26) -> 0.0018245283 | AD27: =SUM(AD25:AD26) -> 0.15339347 | AE27: =SUM(AE25:AE26) -> 0.19560907 | AG27: =SUM(AG25:AG26) -> 5.7015499
A29: All Domestic Rates Total
A30: Base cost of fuel | B30: =B10+B15+B20+B25 -> 5020.6803 | D30: =D10+D15+D20+D25 -> 443.85764 | E30: =E10+E15+E20+E25 -> 124.12232 | F30: =F10+F15 -> 0.088405877 | G30: =G10+G15+G20+G25 -> 10.973142 | H30: =H10+H15+H20+H25 -> 223.16817 | J30: =J10+J15+J20+J25 -> 19.729378 | K30: =K10+K15+K20+K25 -> 5367.9708 | L30: =L10+L15+L20+L25 -> 474.56016 | W30: =L30+S30+V30 -> 474.56016 | Y30: =Y10+Y15+Y20+Y25 -> 0 | Z30: =Z10+Z15+Z20+Z25 -> 8.3740344 | AA30: =AA10+AA15+AA20+AA25 -> 8.3740344 | AD30: =AD10+AD15+AD20+AD25 -> 0 | AE30: =AE10+AE15+AE20+AE25 -> 8.3740344 | AG30: =W30+AE30 -> 482.9342
A31: Non-fuel | B31: =B11+B16+B21+B26 -> 5020.6803 | D31: =D11+D16+D21+D26 -> 517.70551 | E31: =E11+E16+E21+E26 -> 124.12232 | G31: =G11+G16+G21+G26 -> 12.740515 | H31: =H11+H16+H21+H26 -> 223.16817 | J31: =J11+J16+J21+J26 -> 6.7482972 | K31: =K11+K16+K21+K26 -> 5367.9708 | L31: =L11+L16+L21+L26 -> 537.19432 | T31: =T11+T16+T21+T26 -> 6.1438579 | V31: =V11+V16+V21+V26 -> 129.25659 | W31: =L31+S31+V31 -> 666.45091 | AA31: =AA11+AA16+AA21+AA26 -> 0 | AB31: =AB11+AB16+AB21+AB26 -> 30.06575 | AC31: =AC11+AC16+AC21+AC26 -> 0.36191986 | AD31: =AD11+AD16+AD21+AD26 -> 30.42767 | AE31: =AE11+AE16+AE21+AE26 -> 30.42767 | AG31: =W31+AE31 -> 696.87858
A32: Total | B32: =B12+B17+B22+B27 -> 5020.6803 | D32: =D12+D17+D22+D27 -> 961.56315 | E32: =E12+E17+E22+E27 -> 124.12232 | G32: =G12+G17+G22+G27 -> 23.713657 | H32: =H12+H17+H22+H27 -> 223.16817 | J32: =J12+J17+J22+J27 -> 26.477675 | K32: =K31 -> 5367.9708 | L32: =L12+L17+L22+L27 -> 1011.7545 | T32: =SUM(T30:T31) -> 6.1438579 | V32: =SUM(V30:V31) -> 129.25659 | W32: =SUM(W30:W31) -> 1141.0111 | Y32: =SUM(Y30:Y31) -> 0 | Z32: =SUM(Z30:Z31) -> 8.3740344 | AA32: =SUM(AA30:AA31) -> 8.3740344 | AB32: =SUM(AB30:AB31) -> 30.06575 | AC32: =SUM(AC30:AC31) -> 0.36191986 | AD32: =SUM(AD30:AD31) -> 30.42767 | AE32: =SUM(AE30:AE31) -> 38.801705 | AG32: =SUM(AG30:AG31) -> 1179.8128 | AJ32: =AB32*1000000 -> 30065750 | AK32: =AI32-AJ32 -> -30065750 | AL32: 336009.84 | AM32: =AC32*1000000 -> 361919.86 | AN32: =AL32-AM32 -> -25910.022
A34: General Rates | K34: 5213.777 | W34: 429.40667
K35: =K32/K34-1 -> 0.029574299 | W35: =W30/W34-1 -> 0.10515322
A36: Small General Rates
A37: Small General Tariff (Standard Offer)
A38: Base cost of fuel | B38: ='2027 at 2026 Rates'!B38 -> 74.26762 | C38: 0.088691779 | D38: =+B38*C38 -> 6.5869273 | E38: ='2027 at 2026 Rates'!E38 -> 366.44931 | F38: 0.088691779 | G38: =+E38*F38 -> 32.501041 | K38: =+B38+E38+H38 -> 440.71693 | L38: =+D38+G38+J38 -> 39.087969 | W38: =L38+S38+V38 -> 39.087969 | Y38: 0 | Z38: 0.68751841 | AA38: =SUM(Y38:Z38) -> 0.68751841 | AE38: =AA38+AD38 -> 0.68751841 | AG38: =W38+AE38 -> 39.775487
A39: Non-fuel | B39: =B38 -> 74.26762 | C39: 0.10927019 | D39: =+B39*C39 -> 8.1152371 | E39: =E38 -> 366.44931 | F39: 0.089248924 | G39: =+E39*F39 -> 32.705206 | K39: =+B39+E39+H39 -> 440.71693 | L39: =+D39+G39+J39 -> 40.820444 | T39: ='2027 at 2026 Rates'!T39 -> 0.32712096 | U39: 22.734667 | V39: =+T39*U39 -> 7.4369861 | W39: =L39+S39+V39 -> 48.25743 | AA39: =SUM(Y39:Z39) -> 0 | AB39: 2.8382438 | AC39: -0.39056541 | AD39: =SUM(AB39:AC39) -> 2.4476784 | AE39: =AA39+AD39 -> 2.4476784 | AG39: =W39+AE39 -> 50.705108
A40: Total | B40: =B39 -> 74.26762 | C40: =SUM(C38:C39) -> 0.19796197 | D40: =SUM(D38:D39) -> 14.702164 | E40: =E39 -> 366.44931 | F40: =SUM(F38:F39) -> 0.1779407 | G40: =SUM(G38:G39) -> 65.206248 | K40: =K39 -> 440.71693 | L40: =+D40+G40+J40 -> 79.908412 | V40: =SUM(V38:V39) -> 7.4369861 | W40: =SUM(W38:W39) -> 87.345398 | Y40: =SUM(Y38:Y39) -> 0 | Z40: =SUM(Z38:Z39) -> 0.68751841 | AA40: =SUM(AA38:AA39) -> 0.68751841 | AB40: =SUM(AB38:AB39) -> 2.8382438 | AC40: =SUM(AC38:AC39) -> -0.39056541 | AD40: =SUM(AD38:AD39) -> 2.4476784 | AE40: =SUM(AE38:AE39) -> 3.1351968 | AG40: =SUM(AG38:AG39) -> 90.480595
A42: Small General Time-of-Use Tariff
A43: Base cost of fuel | B43: ='2027 at 2026 Rates'!B43 -> 0.085898533 | C43: 0.088691779 | D43: =+B43*C43 -> 0.0076184937 | E43: ='2027 at 2026 Rates'!E43 -> 0.10320559 | F43: 0.088691779 | G43: =+E43*F43 -> 0.0091534877 | H43: ='2027 at 2026 Rates'!H43 -> 0.5001302 | I43: 0.088691779 | J43: =+H43*I43 -> 0.044357437 | K43: =+B43+E43+H43 -> 0.68923433 | L43: =+D43+G43+J43 -> 0.061129419 | W43: =L43+S43+V43 -> 0.061129419 | Y43: 0 | Z43: 0.0010752055 | AA43: =SUM(Y43:Z43) -> 0.0010752055 | AE43: =AA43+AD43 -> 0.0010752055 | AG43: =W43+AE43 -> 0.062204624
A44: Non-fuel | B44: =B43 -> 0.085898533 | C44: 0.30829182 | D44: =+B44*C44 -> 0.026481815 | E44: =E43 -> 0.10320559 | F44: 0.10907996 | G44: =+E44*F44 -> 0.011257662 | H44: =H43 -> 0.5001302 | I44: 0.038533482 | J44: =+H44*I44 -> 0.019271758 | K44: =+B44+E44+H44 -> 0.68923433 | L44: =+D44+G44+J44 -> 0.057011234 | T44: ='2027 at 2026 Rates'!T44 -> 0.00043623525 | U44: 22.734667 | V44: =+T44*U44 -> 0.0099176633 | W44: =L44+S44+V44 -> 0.066928898 | AA44: =SUM(Y44:Z44) -> 0 | AB44: 0.0044387109 | AC44: -0.0006108027 | AD44: =SUM(AB44:AC44) -> 0.0038279082 | AE44: =AA44+AD44 -> 0.0038279082 | AG44: =W44+AE44 -> 0.070756806
A45: Total | B45: =B44 -> 0.085898533 | C45: =SUM(C43:C44) -> 0.3969836 | D45: =SUM(D43:D44) -> 0.034100308 | E45: =E44 -> 0.10320559 | F45: =SUM(F43:F44) -> 0.19777174 | G45: =SUM(G43:G44) -> 0.020411149 | H45: =H44 -> 0.5001302 | I45: =SUM(I43:I44) -> 0.12722526 | J45: =SUM(J43:J44) -> 0.063629195 | K45: =K44 -> 0.68923433 | L45: =+D45+G45+J45 -> 0.11814065 | V45: =SUM(V43:V44) -> 0.0099176633 | W45: =SUM(W43:W44) -> 0.12805832 | Y45: =SUM(Y43:Y44) -> 0 | Z45: =SUM(Z43:Z44) -> 0.0010752055 | AA45: =SUM(AA43:AA44) -> 0.0010752055 | AB45: =SUM(AB43:AB44) -> 0.0044387109 | AC45: =SUM(AC43:AC44) -> -0.0006108027 | AD45: =SUM(AD43:AD44) -> 0.0038279082 | AE45: =SUM(AE43:AE44) -> 0.0049031137 | AG45: =SUM(AG43:AG44) -> 0.13296143
A47: Small General Critical Peak Pricing Tariff
A48: Base cost of fuel | B48: ='2027 at 2026 Rates'!B48 -> 0.0085784264 | C48: 0.088691779 | D48: =+B48*C48 -> 0.0007608359 | E48: ='2027 at 2026 Rates'!E48 -> 0.097804139 | F48: 0.088691779 | G48: =+E48*F48 -> 0.0086744231 | H48: ='2027 at 2026 Rates'!H48 -> 0.48084176 | I48: 0.088691779 | J48: =+H48*I48 -> 0.042646711 | K48: =+B48+E48+H48 -> 0.58722433 | L48: =+D48+G48+J48 -> 0.05208197 | W48: =L48+S48+V48 -> 0.05208197 | Y48: 0 | Z48: 0.00091606995 | AA48: =SUM(Y48:Z48) -> 0.00091606995 | AE48: =AA48+AD48 -> 0.00091606995 | AG48: =W48+AE48 -> 0.05299804
A49: Non-fuel | B49: =B48 -> 0.0085784264 | C49: 1.582875 | D49: =+B49*C49 -> 0.013578577 | E49: =E48 -> 0.097804139 | F49: 0.085119392 | G49: =+E49*F49 -> 0.0083250289 | H49: =H48 -> 0.48084176 | I49: 0.06951765 | J49: =+H49*I49 -> 0.033426989 | K49: =+B49+E49+H49 -> 0.58722433 | L49: =+D49+G49+J49 -> 0.055330595 | T49: ='2027 at 2026 Rates'!T49 -> 3.6352938e-05 | U49: 22.734667 | V49: =+T49*U49 -> 0.00082647195 | W49: =L49+S49+V49 -> 0.056157067 | AA49: =SUM(Y49:Z49) -> 0 | AB49: 0.0037817603 | AC49: -0.00052040096 | AD49: =SUM(AB49:AC49) -> 0.0032613593 | AE49: =AA49+AD49 -> 0.0032613593 | AG49: =W49+AE49 -> 0.059418426
A50: Total | B50: =B49 -> 0.0085784264 | C50: =SUM(C48:C49) -> 1.6715668 | D50: =SUM(D48:D49) -> 0.014339413 | E50: =E49 -> 0.097804139 | F50: =SUM(F48:F49) -> 0.17381117 | G50: =SUM(G48:G49) -> 0.016999452 | H50: =H49 -> 0.48084176 | I50: =SUM(I48:I49) -> 0.15820943 | J50: =SUM(J48:J49) -> 0.076073701 | K50: =K49 -> 0.58722433 | L50: =+D50+G50+J50 -> 0.10741257 | V50: =SUM(V48:V49) -> 0.00082647195 | W50: =SUM(W48:W49) -> 0.10823904 | Y50: =SUM(Y48:Y49) -> 0 | Z50: =SUM(Z48:Z49) -> 0.00091606995 | AA50: =SUM(AA48:AA49) -> 0.00091606995 | AB50: =SUM(AB48:AB49) -> 0.0037817603 | AC50: =SUM(AC48:AC49) -> -0.00052040096 | AD50: =SUM(AD48:AD49) -> 0.0032613593 | AE50: =SUM(AE48:AE49) -> 0.0041774293 | AG50: =SUM(AG48:AG49) -> 0.11241647
...
